BEGIN:VCALENDAR
VERSION:2.0
PRODID:-//Bykota Senior Center - ECPv6.15.20//NONSGML v1.0//EN
CALSCALE:GREGORIAN
METHOD:PUBLISH
X-WR-CALNAME:Bykota Senior Center
X-ORIGINAL-URL:https://bykota.org
X-WR-CALDESC:Events for Bykota Senior Center
REFRESH-INTERVAL;VALUE=DURATION:PT1H
X-Robots-Tag:noindex
X-PUBLISHED-TTL:PT1H
BEGIN:VTIMEZONE
TZID:America/New_York
BEGIN:DAYLIGHT
TZOFFSETFROM:-0500
TZOFFSETTO:-0400
TZNAME:EDT
DTSTART:20250309T070000
END:DAYLIGHT
BEGIN:STANDARD
TZOFFSETFROM:-0400
TZOFFSETTO:-0500
TZNAME:EST
DTSTART:20251102T060000
END:STANDARD
BEGIN:DAYLIGHT
TZOFFSETFROM:-0500
TZOFFSETTO:-0400
TZNAME:EDT
DTSTART:20260308T070000
END:DAYLIGHT
BEGIN:STANDARD
TZOFFSETFROM:-0400
TZOFFSETTO:-0500
TZNAME:EST
DTSTART:20261101T060000
END:STANDARD
BEGIN:DAYLIGHT
TZOFFSETFROM:-0500
TZOFFSETTO:-0400
TZNAME:EDT
DTSTART:20270314T070000
END:DAYLIGHT
BEGIN:STANDARD
TZOFFSETFROM:-0400
TZOFFSETTO:-0500
TZNAME:EST
DTSTART:20271107T060000
END:STANDARD
END:VTIMEZONE
BEGIN:VEVENT
DTSTART;TZID=America/New_York:20260408T083000
DTEND;TZID=America/New_York:20260408T100000
DTSTAMP:20260423T142609
CREATED:20260315T191124Z
LAST-MODIFIED:20260405T195028Z
UID:10002919-1775637000-1775642400@bykota.org
SUMMARY:McDonough Cafe
DESCRIPTION:Enjoy the convenience of coffee\, tea\, bagels/muffins\, donuts\, orange juice and bananas. Prices vary.
URL:https://bykota.org/event/mcdonough-cafe-80/
LOCATION:Bykota Cafe
END:VEVENT
BEGIN:VEVENT
DTSTART;TZID=America/New_York:20260408T090000
DTEND;TZID=America/New_York:20260408T100000
DTSTAMP:20260423T142609
CREATED:20260315T191124Z
LAST-MODIFIED:20260405T195028Z
UID:10002913-1775638800-1775642400@bykota.org
SUMMARY:Zumba Gold
DESCRIPTION:
URL:https://bykota.org/event/zumba-gold-15/
LOCATION:Bykota Gym
END:VEVENT
BEGIN:VEVENT
DTSTART;TZID=America/New_York:20260408T090000
DTEND;TZID=America/New_York:20260408T120000
DTSTAMP:20260423T142609
CREATED:20260315T191141Z
LAST-MODIFIED:20260405T195028Z
UID:10002920-1775638800-1775649600@bykota.org
SUMMARY:Woodshop
DESCRIPTION:
URL:https://bykota.org/event/woodshop-189/
LOCATION:Bykota 201-203
END:VEVENT
BEGIN:VEVENT
DTSTART;TZID=America/New_York:20260408T090000
DTEND;TZID=America/New_York:20260408T160000
DTSTAMP:20260423T142609
CREATED:20260315T191124Z
LAST-MODIFIED:20260405T195028Z
UID:10002912-1775638800-1775664000@bykota.org
SUMMARY:Billiards
DESCRIPTION:
URL:https://bykota.org/event/billiards-171/
LOCATION:Bykota 100
END:VEVENT
BEGIN:VEVENT
DTSTART;TZID=America/New_York:20260408T093000
DTEND;TZID=America/New_York:20260408T113000
DTSTAMP:20260423T142609
CREATED:20260315T191141Z
LAST-MODIFIED:20260405T195039Z
UID:10002924-1775640600-1775647800@bykota.org
SUMMARY:Stained Glass Studio
DESCRIPTION:
URL:https://bykota.org/event/stained-glass-studio-34/
LOCATION:Bykota 204-206
END:VEVENT
BEGIN:VEVENT
DTSTART;TZID=America/New_York:20260408T093000
DTEND;TZID=America/New_York:20260408T120000
DTSTAMP:20260423T142609
CREATED:20260315T191124Z
LAST-MODIFIED:20260405T195028Z
UID:10002916-1775640600-1775649600@bykota.org
SUMMARY:Ping Pong
DESCRIPTION:
URL:https://bykota.org/event/ping-pong-188/
LOCATION:Bykota 102
END:VEVENT
BEGIN:VEVENT
DTSTART;TZID=America/New_York:20260408T100000
DTEND;TZID=America/New_York:20260408T110000
DTSTAMP:20260423T142609
CREATED:20260315T191141Z
LAST-MODIFIED:20260405T195039Z
UID:10002923-1775642400-1775646000@bykota.org
SUMMARY:Enhance Fitness
DESCRIPTION:
URL:https://bykota.org/event/enhance-fitness-93/
LOCATION:Bykota Gym
END:VEVENT
BEGIN:VEVENT
DTSTART;TZID=America/New_York:20260408T100000
DTEND;TZID=America/New_York:20260408T120000
DTSTAMP:20260423T142609
CREATED:20260315T191124Z
LAST-MODIFIED:20260405T195039Z
UID:10002918-1775642400-1775649600@bykota.org
SUMMARY:Sculpture
DESCRIPTION:
URL:https://bykota.org/event/sculpture-34/
LOCATION:Bykota 204-206
END:VEVENT
BEGIN:VEVENT
DTSTART;TZID=America/New_York:20260408T100000
DTEND;TZID=America/New_York:20260408T140000
DTSTAMP:20260423T142609
CREATED:20260315T191124Z
LAST-MODIFIED:20260405T195028Z
UID:10002917-1775642400-1775656800@bykota.org
SUMMARY:Gift Shop
DESCRIPTION:Buy unique items\, jewelry\, crafts\, seasonal items and snacks.
URL:https://bykota.org/event/gift-shop-133/
LOCATION:Bykota Gift Shop
END:VEVENT
BEGIN:VEVENT
DTSTART;TZID=America/New_York:20260408T110000
DTEND;TZID=America/New_York:20260408T114500
DTSTAMP:20260423T142609
CREATED:20260315T191124Z
LAST-MODIFIED:20260405T195028Z
UID:10002914-1775646000-1775648700@bykota.org
SUMMARY:Senior Rhythms
DESCRIPTION:
URL:https://bykota.org/event/senior-rhythms-92/
LOCATION:Bykota 208-210
END:VEVENT
BEGIN:VEVENT
DTSTART;TZID=America/New_York:20260408T110000
DTEND;TZID=America/New_York:20260408T130000
DTSTAMP:20260423T142609
CREATED:20260315T191141Z
LAST-MODIFIED:20260405T195039Z
UID:10002922-1775646000-1775653200@bykota.org
SUMMARY:Basketball
DESCRIPTION:
URL:https://bykota.org/event/basketball-112/
LOCATION:Bykota Gym
END:VEVENT
BEGIN:VEVENT
DTSTART;TZID=America/New_York:20260408T120000
DTEND;TZID=America/New_York:20260408T160000
DTSTAMP:20260423T142609
CREATED:20260315T191124Z
LAST-MODIFIED:20260405T195039Z
UID:10002915-1775649600-1775664000@bykota.org
SUMMARY:Clay Studio
DESCRIPTION:
URL:https://bykota.org/event/clay-studio-68/
LOCATION:Bykota 204-206
END:VEVENT
BEGIN:VEVENT
DTSTART;TZID=America/New_York:20260408T123000
DTEND;TZID=America/New_York:20260408T140000
DTSTAMP:20260423T142609
CREATED:20260315T191141Z
LAST-MODIFIED:20260405T195039Z
UID:10002925-1775651400-1775656800@bykota.org
SUMMARY:Bingo
DESCRIPTION:Enjoy some laughter and friendly competition withthis favorite pastime; every Wednesday.No registration required.
URL:https://bykota.org/event/bingo-37/
LOCATION:Bykota Cafe
END:VEVENT
BEGIN:VEVENT
DTSTART;TZID=America/New_York:20260408T123000
DTEND;TZID=America/New_York:20260408T160000
DTSTAMP:20260423T142609
CREATED:20260315T191141Z
LAST-MODIFIED:20260405T195028Z
UID:10002921-1775651400-1775664000@bykota.org
SUMMARY:Contract Bridge
DESCRIPTION:
URL:https://bykota.org/event/contract-bridge-34/
LOCATION:Bykota 202
END:VEVENT
BEGIN:VEVENT
DTSTART;TZID=America/New_York:20260408T130000
DTEND;TZID=America/New_York:20260408T140000
DTSTAMP:20260423T142609
CREATED:20260315T191141Z
LAST-MODIFIED:20260405T195028Z
UID:10002926-1775653200-1775656800@bykota.org
SUMMARY:Essentrics
DESCRIPTION:
URL:https://bykota.org/event/essentrics-31/
LOCATION:Bykota Gym
END:VEVENT
BEGIN:VEVENT
DTSTART;TZID=America/New_York:20260408T141500
DTEND;TZID=America/New_York:20260408T161500
DTSTAMP:20260423T142609
CREATED:20260315T191141Z
LAST-MODIFIED:20260405T195039Z
UID:10002927-1775657700-1775664900@bykota.org
SUMMARY:Pickleball
DESCRIPTION:
URL:https://bykota.org/event/pickleball-246/
LOCATION:Gym
END:VEVENT
END:VCALENDAR