BEGIN:VCALENDAR
VERSION:2.0
PRODID:-//Bykota Senior Center - ECPv6.15.20//NONSGML v1.0//EN
CALSCALE:GREGORIAN
METHOD:PUBLISH
X-WR-CALNAME:Bykota Senior Center
X-ORIGINAL-URL:https://bykota.org
X-WR-CALDESC:Events for Bykota Senior Center
REFRESH-INTERVAL;VALUE=DURATION:PT1H
X-Robots-Tag:noindex
X-PUBLISHED-TTL:PT1H
BEGIN:VTIMEZONE
TZID:America/New_York
BEGIN:DAYLIGHT
TZOFFSETFROM:-0500
TZOFFSETTO:-0400
TZNAME:EDT
DTSTART:20250309T070000
END:DAYLIGHT
BEGIN:STANDARD
TZOFFSETFROM:-0400
TZOFFSETTO:-0500
TZNAME:EST
DTSTART:20251102T060000
END:STANDARD
BEGIN:DAYLIGHT
TZOFFSETFROM:-0500
TZOFFSETTO:-0400
TZNAME:EDT
DTSTART:20260308T070000
END:DAYLIGHT
BEGIN:STANDARD
TZOFFSETFROM:-0400
TZOFFSETTO:-0500
TZNAME:EST
DTSTART:20261101T060000
END:STANDARD
BEGIN:DAYLIGHT
TZOFFSETFROM:-0500
TZOFFSETTO:-0400
TZNAME:EDT
DTSTART:20270314T070000
END:DAYLIGHT
BEGIN:STANDARD
TZOFFSETFROM:-0400
TZOFFSETTO:-0500
TZNAME:EST
DTSTART:20271107T060000
END:STANDARD
END:VTIMEZONE
BEGIN:VEVENT
DTSTART;TZID=America/New_York:20260416T083000
DTEND;TZID=America/New_York:20260416T100000
DTSTAMP:20260423T142620
CREATED:20260322T192713Z
LAST-MODIFIED:20260412T200535Z
UID:10003010-1776328200-1776333600@bykota.org
SUMMARY:Pickleball
DESCRIPTION:
URL:https://bykota.org/event/pickleball-254/
LOCATION:Bykota Gym
END:VEVENT
BEGIN:VEVENT
DTSTART;TZID=America/New_York:20260416T090000
DTEND;TZID=America/New_York:20260416T120000
DTSTAMP:20260423T142620
CREATED:20260322T192731Z
LAST-MODIFIED:20260412T200546Z
UID:10003012-1776330000-1776340800@bykota.org
SUMMARY:Knitting & Crocheting
DESCRIPTION:
URL:https://bykota.org/event/knitting-crocheting-34/
LOCATION:Bykota 202
END:VEVENT
BEGIN:VEVENT
DTSTART;TZID=America/New_York:20260416T090000
DTEND;TZID=America/New_York:20260416T130000
DTSTAMP:20260423T142620
CREATED:20260322T192713Z
LAST-MODIFIED:20260412T200558Z
UID:10003006-1776330000-1776344400@bykota.org
SUMMARY:Woodshop
DESCRIPTION:
URL:https://bykota.org/event/woodshop-195/
LOCATION:Bykota 201-203
END:VEVENT
BEGIN:VEVENT
DTSTART;TZID=America/New_York:20260416T090000
DTEND;TZID=America/New_York:20260416T130000
DTSTAMP:20260423T142620
CREATED:20260322T192731Z
LAST-MODIFIED:20260412T200547Z
UID:10003019-1776330000-1776344400@bykota.org
SUMMARY:AARP Safe Drivers Course
DESCRIPTION:This course has helped millions of drivers age 50+ sharpen their driving skills and drive safely on today’s roads.  Cost is $20 for AARP members and $25 for non-members.  Make checks payable to AARP.  Advance registration required.
URL:https://bykota.org/event/aarp-safe-drivers-course-8/
LOCATION:Bykota 112
END:VEVENT
BEGIN:VEVENT
DTSTART;TZID=America/New_York:20260416T090000
DTEND;TZID=America/New_York:20260416T160000
DTSTAMP:20260423T142620
CREATED:20260322T192713Z
LAST-MODIFIED:20260412T200546Z
UID:10003005-1776330000-1776355200@bykota.org
SUMMARY:Billiards
DESCRIPTION:
URL:https://bykota.org/event/billiards-177/
LOCATION:Bykota 100
END:VEVENT
BEGIN:VEVENT
DTSTART;TZID=America/New_York:20260416T093000
DTEND;TZID=America/New_York:20260416T113000
DTSTAMP:20260423T142620
CREATED:20260322T192713Z
LAST-MODIFIED:20260412T200546Z
UID:10003007-1776331800-1776339000@bykota.org
SUMMARY:Water Color
DESCRIPTION:
URL:https://bykota.org/event/water-color-26/
LOCATION:Bykota 208
END:VEVENT
BEGIN:VEVENT
DTSTART;TZID=America/New_York:20260416T093000
DTEND;TZID=America/New_York:20260416T120000
DTSTAMP:20260423T142620
CREATED:20260322T192713Z
LAST-MODIFIED:20260412T200535Z
UID:10003009-1776331800-1776340800@bykota.org
SUMMARY:Woodcarving
DESCRIPTION:
URL:https://bykota.org/event/woodcarving-34/
LOCATION:Bykota 204-206
END:VEVENT
BEGIN:VEVENT
DTSTART;TZID=America/New_York:20260416T093000
DTEND;TZID=America/New_York:20260416T123000
DTSTAMP:20260423T142620
CREATED:20260322T192731Z
LAST-MODIFIED:20260412T200546Z
UID:10003016-1776331800-1776342600@bykota.org
SUMMARY:Ping Pong
DESCRIPTION:
URL:https://bykota.org/event/ping-pong-194/
LOCATION:Bykota 102
END:VEVENT
BEGIN:VEVENT
DTSTART;TZID=America/New_York:20260416T100000
DTEND;TZID=America/New_York:20260416T140000
DTSTAMP:20260423T142620
CREATED:20260322T192713Z
LAST-MODIFIED:20260412T200558Z
UID:10003011-1776333600-1776348000@bykota.org
SUMMARY:Gift Shop
DESCRIPTION:Buy unique items\, jewelry\, crafts\, seasonal items and snacks.
URL:https://bykota.org/event/gift-shop-139/
LOCATION:Bykota Gift Shop
END:VEVENT
BEGIN:VEVENT
DTSTART;TZID=America/New_York:20260416T103000
DTEND;TZID=America/New_York:20260416T113000
DTSTAMP:20260423T142620
CREATED:20260322T192713Z
LAST-MODIFIED:20260412T200546Z
UID:10003008-1776335400-1776339000@bykota.org
SUMMARY:Thursday Yoga
DESCRIPTION:
URL:https://bykota.org/event/thursday-yoga-16/
LOCATION:Bykota Gym
END:VEVENT
BEGIN:VEVENT
DTSTART;TZID=America/New_York:20260416T113000
DTEND;TZID=America/New_York:20260416T123000
DTSTAMP:20260423T142620
CREATED:20260322T192731Z
LAST-MODIFIED:20260412T200546Z
UID:10003017-1776339000-1776342600@bykota.org
SUMMARY:Enhance Fitness
DESCRIPTION:
URL:https://bykota.org/event/enhance-fitness-97/
LOCATION:Bykota Gym
END:VEVENT
BEGIN:VEVENT
DTSTART;TZID=America/New_York:20260416T123000
DTEND;TZID=America/New_York:20260416T150000
DTSTAMP:20260423T142620
CREATED:20260322T192731Z
LAST-MODIFIED:20260412T200546Z
UID:10003013-1776342600-1776351600@bykota.org
SUMMARY:Bykota on Stage
DESCRIPTION:
URL:https://bykota.org/event/bykota-on-stage-30/
LOCATION:Gym
END:VEVENT
BEGIN:VEVENT
DTSTART;TZID=America/New_York:20260416T123000
DTEND;TZID=America/New_York:20260416T160000
DTSTAMP:20260423T142620
CREATED:20260322T192731Z
LAST-MODIFIED:20260412T200546Z
UID:10003015-1776342600-1776355200@bykota.org
SUMMARY:Mahjong
DESCRIPTION:
URL:https://bykota.org/event/mahjong-67/
LOCATION:Bykota 202
END:VEVENT
BEGIN:VEVENT
DTSTART;TZID=America/New_York:20260416T130000
DTEND;TZID=America/New_York:20260416T143000
DTSTAMP:20260423T142620
CREATED:20260322T192731Z
LAST-MODIFIED:20260412T200547Z
UID:10003014-1776344400-1776349800@bykota.org
SUMMARY:Spanish Club
DESCRIPTION:
URL:https://bykota.org/event/spanish-club-41/
LOCATION:Bykota 200
END:VEVENT
BEGIN:VEVENT
DTSTART;TZID=America/New_York:20260416T130000
DTEND;TZID=America/New_York:20260416T153000
DTSTAMP:20260423T142620
CREATED:20260322T192731Z
LAST-MODIFIED:20260412T200558Z
UID:10003018-1776344400-1776353400@bykota.org
SUMMARY:Scrabble
DESCRIPTION:
URL:https://bykota.org/event/scrabble-38/
LOCATION:Bykota 109
END:VEVENT
END:VCALENDAR