BEGIN:VCALENDAR
VERSION:2.0
PRODID:-//Bykota Senior Center - ECPv6.15.20//NONSGML v1.0//EN
CALSCALE:GREGORIAN
METHOD:PUBLISH
X-ORIGINAL-URL:https://bykota.org
X-WR-CALDESC:Events for Bykota Senior Center
REFRESH-INTERVAL;VALUE=DURATION:PT1H
X-Robots-Tag:noindex
X-PUBLISHED-TTL:PT1H
BEGIN:VTIMEZONE
TZID:America/New_York
BEGIN:DAYLIGHT
TZOFFSETFROM:-0500
TZOFFSETTO:-0400
TZNAME:EDT
DTSTART:20250309T070000
END:DAYLIGHT
BEGIN:STANDARD
TZOFFSETFROM:-0400
TZOFFSETTO:-0500
TZNAME:EST
DTSTART:20251102T060000
END:STANDARD
BEGIN:DAYLIGHT
TZOFFSETFROM:-0500
TZOFFSETTO:-0400
TZNAME:EDT
DTSTART:20260308T070000
END:DAYLIGHT
BEGIN:STANDARD
TZOFFSETFROM:-0400
TZOFFSETTO:-0500
TZNAME:EST
DTSTART:20261101T060000
END:STANDARD
BEGIN:DAYLIGHT
TZOFFSETFROM:-0500
TZOFFSETTO:-0400
TZNAME:EDT
DTSTART:20270314T070000
END:DAYLIGHT
BEGIN:STANDARD
TZOFFSETFROM:-0400
TZOFFSETTO:-0500
TZNAME:EST
DTSTART:20271107T060000
END:STANDARD
END:VTIMEZONE
BEGIN:VEVENT
DTSTART;TZID=America/New_York:20260422T083000
DTEND;TZID=America/New_York:20260422T100000
DTSTAMP:20260423T155940
CREATED:20260329T194114Z
LAST-MODIFIED:20260420T202641Z
UID:10003068-1776846600-1776852000@bykota.org
SUMMARY:McDonough Cafe
DESCRIPTION:Enjoy the convenience of coffee\, tea\, bagels/muffins\, donuts\, orange juice and bananas. Prices vary.
URL:https://bykota.org/event/mcdonough-cafe-86/
LOCATION:Bykota Cafe
END:VEVENT
BEGIN:VEVENT
DTSTART;TZID=America/New_York:20260422T090000
DTEND;TZID=America/New_York:20260422T100000
DTSTAMP:20260423T155940
CREATED:20260329T194114Z
LAST-MODIFIED:20260420T202628Z
UID:10003071-1776848400-1776852000@bykota.org
SUMMARY:Zumba Gold
DESCRIPTION:
URL:https://bykota.org/event/zumba-gold-17/
LOCATION:Bykota Gym
END:VEVENT
BEGIN:VEVENT
DTSTART;TZID=America/New_York:20260422T090000
DTEND;TZID=America/New_York:20260422T120000
DTSTAMP:20260423T155940
CREATED:20260329T194114Z
LAST-MODIFIED:20260420T202628Z
UID:10003066-1776848400-1776859200@bykota.org
SUMMARY:Woodshop
DESCRIPTION:
URL:https://bykota.org/event/woodshop-199/
LOCATION:Bykota 201-203
END:VEVENT
BEGIN:VEVENT
DTSTART;TZID=America/New_York:20260422T090000
DTEND;TZID=America/New_York:20260422T160000
DTSTAMP:20260423T155940
CREATED:20260329T194114Z
LAST-MODIFIED:20260420T202641Z
UID:10003065-1776848400-1776873600@bykota.org
SUMMARY:Billiards
DESCRIPTION:
URL:https://bykota.org/event/billiards-181/
LOCATION:Bykota 100
END:VEVENT
BEGIN:VEVENT
DTSTART;TZID=America/New_York:20260422T093000
DTEND;TZID=America/New_York:20260422T113000
DTSTAMP:20260423T155940
CREATED:20260329T194114Z
LAST-MODIFIED:20260420T202628Z
UID:10003070-1776850200-1776857400@bykota.org
SUMMARY:Stained Glass Studio
DESCRIPTION:
URL:https://bykota.org/event/stained-glass-studio-36/
LOCATION:Bykota 204-206
END:VEVENT
BEGIN:VEVENT
DTSTART;TZID=America/New_York:20260422T093000
DTEND;TZID=America/New_York:20260422T120000
DTSTAMP:20260423T155940
CREATED:20260329T194131Z
LAST-MODIFIED:20260420T202641Z
UID:10003075-1776850200-1776859200@bykota.org
SUMMARY:Ping Pong
DESCRIPTION:
URL:https://bykota.org/event/ping-pong-198/
LOCATION:Bykota 102
END:VEVENT
BEGIN:VEVENT
DTSTART;TZID=America/New_York:20260422T100000
DTEND;TZID=America/New_York:20260422T110000
DTSTAMP:20260423T155940
CREATED:20260329T194114Z
LAST-MODIFIED:20260420T202628Z
UID:10003069-1776852000-1776855600@bykota.org
SUMMARY:Enhance Fitness
DESCRIPTION:
URL:https://bykota.org/event/enhance-fitness-99/
LOCATION:Bykota Gym
END:VEVENT
BEGIN:VEVENT
DTSTART;TZID=America/New_York:20260422T100000
DTEND;TZID=America/New_York:20260422T120000
DTSTAMP:20260423T155940
CREATED:20260329T194114Z
LAST-MODIFIED:20260420T202641Z
UID:10003067-1776852000-1776859200@bykota.org
SUMMARY:Sculpture
DESCRIPTION:
URL:https://bykota.org/event/sculpture-36/
LOCATION:Bykota 204-206
END:VEVENT
BEGIN:VEVENT
DTSTART;TZID=America/New_York:20260422T100000
DTEND;TZID=America/New_York:20260422T140000
DTSTAMP:20260423T155940
CREATED:20260329T194114Z
LAST-MODIFIED:20260420T202641Z
UID:10003074-1776852000-1776866400@bykota.org
SUMMARY:Gift Shop
DESCRIPTION:Buy unique items\, jewelry\, crafts\, seasonal items and snacks.
URL:https://bykota.org/event/gift-shop-143/
LOCATION:Bykota Gift Shop
END:VEVENT
BEGIN:VEVENT
DTSTART;TZID=America/New_York:20260422T110000
DTEND;TZID=America/New_York:20260422T114500
DTSTAMP:20260423T155940
CREATED:20260329T194114Z
LAST-MODIFIED:20260420T202641Z
UID:10003073-1776855600-1776858300@bykota.org
SUMMARY:Senior Rhythms
DESCRIPTION:
URL:https://bykota.org/event/senior-rhythms-98/
LOCATION:Bykota 208-210
END:VEVENT
BEGIN:VEVENT
DTSTART;TZID=America/New_York:20260422T110000
DTEND;TZID=America/New_York:20260422T124500
DTSTAMP:20260423T155940
CREATED:20260420T202641Z
LAST-MODIFIED:20260420T202641Z
UID:10003337-1776855600-1776861900@bykota.org
SUMMARY:Basketball
DESCRIPTION:
URL:https://bykota.org/event/basketball-129/
LOCATION:Bykota Gym
END:VEVENT
BEGIN:VEVENT
DTSTART;TZID=America/New_York:20260422T110000
DTEND;TZID=America/New_York:20260422T130000
DTSTAMP:20260423T155940
CREATED:20260329T194114Z
LAST-MODIFIED:20260419T202104Z
UID:10003072-1776855600-1776862800@bykota.org
SUMMARY:Basketball
DESCRIPTION:
URL:https://bykota.org/event/basketball-118/
LOCATION:Bykota Gym
END:VEVENT
BEGIN:VEVENT
DTSTART;TZID=America/New_York:20260422T120000
DTEND;TZID=America/New_York:20260422T160000
DTSTAMP:20260423T155940
CREATED:20260329T194131Z
LAST-MODIFIED:20260420T202641Z
UID:10003079-1776859200-1776873600@bykota.org
SUMMARY:Clay Studio
DESCRIPTION:
URL:https://bykota.org/event/clay-studio-72/
LOCATION:Bykota 204-206
END:VEVENT
BEGIN:VEVENT
DTSTART;TZID=America/New_York:20260422T123000
DTEND;TZID=America/New_York:20260422T140000
DTSTAMP:20260423T155940
CREATED:20260329T194131Z
LAST-MODIFIED:20260420T202657Z
UID:10003076-1776861000-1776866400@bykota.org
SUMMARY:Bingo
DESCRIPTION:Enjoy some laughter and friendly competition withthis favorite pastime; every Wednesday.No registration required.
URL:https://bykota.org/event/bingo-39/
LOCATION:Bykota Cafe
END:VEVENT
BEGIN:VEVENT
DTSTART;TZID=America/New_York:20260422T123000
DTEND;TZID=America/New_York:20260422T160000
DTSTAMP:20260423T155940
CREATED:20260329T194131Z
LAST-MODIFIED:20260420T202657Z
UID:10003077-1776861000-1776873600@bykota.org
SUMMARY:Contract Bridge
DESCRIPTION:
URL:https://bykota.org/event/contract-bridge-36/
LOCATION:Bykota 202
END:VEVENT
BEGIN:VEVENT
DTSTART;TZID=America/New_York:20260422T130000
DTEND;TZID=America/New_York:20260422T140000
DTSTAMP:20260423T155940
CREATED:20260329T194131Z
LAST-MODIFIED:20260419T202104Z
UID:10003078-1776862800-1776866400@bykota.org
SUMMARY:Essentrics
DESCRIPTION:
URL:https://bykota.org/event/essentrics-33/
LOCATION:Bykota Gym
END:VEVENT
BEGIN:VEVENT
DTSTART;TZID=America/New_York:20260422T130000
DTEND;TZID=America/New_York:20260422T140000
DTSTAMP:20260423T155940
CREATED:20260420T202641Z
LAST-MODIFIED:20260420T202641Z
UID:10003338-1776862800-1776866400@bykota.org
SUMMARY:Essentrics: NO CLASS SKIP DAY
DESCRIPTION:
URL:https://bykota.org/event/essentrics-no-class-skip-day/
LOCATION:Bykota Gym
END:VEVENT
BEGIN:VEVENT
DTSTART;TZID=America/New_York:20260422T130000
DTEND;TZID=America/New_York:20260422T140000
DTSTAMP:20260423T155940
CREATED:20260420T202657Z
LAST-MODIFIED:20260420T202657Z
UID:10003340-1776862800-1776866400@bykota.org
SUMMARY:Essentrics
DESCRIPTION:
URL:https://bykota.org/event/essentrics-37/
LOCATION:Bykota Gym
END:VEVENT
BEGIN:VEVENT
DTSTART;TZID=America/New_York:20260422T141500
DTEND;TZID=America/New_York:20260422T160000
DTSTAMP:20260423T155940
CREATED:20260420T202641Z
LAST-MODIFIED:20260420T202641Z
UID:10003339-1776867300-1776873600@bykota.org
SUMMARY:Pickleball
DESCRIPTION:
URL:https://bykota.org/event/pickleball-284/
LOCATION:Gym
END:VEVENT
BEGIN:VEVENT
DTSTART;TZID=America/New_York:20260422T141500
DTEND;TZID=America/New_York:20260422T161500
DTSTAMP:20260423T155940
CREATED:20260329T194131Z
LAST-MODIFIED:20260419T202116Z
UID:10003080-1776867300-1776874500@bykota.org
SUMMARY:Pickleball
DESCRIPTION:
URL:https://bykota.org/event/pickleball-260/
LOCATION:Gym
END:VEVENT
END:VCALENDAR