BEGIN:VCALENDAR
VERSION:2.0
PRODID:-//Bykota Senior Center - ECPv6.15.20//NONSGML v1.0//EN
CALSCALE:GREGORIAN
METHOD:PUBLISH
X-WR-CALNAME:Bykota Senior Center
X-ORIGINAL-URL:https://bykota.org
X-WR-CALDESC:Events for Bykota Senior Center
REFRESH-INTERVAL;VALUE=DURATION:PT1H
X-Robots-Tag:noindex
X-PUBLISHED-TTL:PT1H
BEGIN:VTIMEZONE
TZID:America/New_York
BEGIN:DAYLIGHT
TZOFFSETFROM:-0500
TZOFFSETTO:-0400
TZNAME:EDT
DTSTART:20250309T070000
END:DAYLIGHT
BEGIN:STANDARD
TZOFFSETFROM:-0400
TZOFFSETTO:-0500
TZNAME:EST
DTSTART:20251102T060000
END:STANDARD
BEGIN:DAYLIGHT
TZOFFSETFROM:-0500
TZOFFSETTO:-0400
TZNAME:EDT
DTSTART:20260308T070000
END:DAYLIGHT
BEGIN:STANDARD
TZOFFSETFROM:-0400
TZOFFSETTO:-0500
TZNAME:EST
DTSTART:20261101T060000
END:STANDARD
BEGIN:DAYLIGHT
TZOFFSETFROM:-0500
TZOFFSETTO:-0400
TZNAME:EDT
DTSTART:20270314T070000
END:DAYLIGHT
BEGIN:STANDARD
TZOFFSETFROM:-0400
TZOFFSETTO:-0500
TZNAME:EST
DTSTART:20271107T060000
END:STANDARD
END:VTIMEZONE
BEGIN:VEVENT
DTSTART;TZID=America/New_York:20260429T083000
DTEND;TZID=America/New_York:20260429T100000
DTSTAMP:20260423T142621
CREATED:20260405T195617Z
LAST-MODIFIED:20260423T161203Z
UID:10003141-1777451400-1777456800@bykota.org
SUMMARY:McDonough Cafe
DESCRIPTION:Enjoy the convenience of coffee\, tea\, bagels/muffins\, donuts\, orange juice and bananas. Prices vary.
URL:https://bykota.org/event/mcdonough-cafe-89/
LOCATION:Bykota Cafe
END:VEVENT
BEGIN:VEVENT
DTSTART;TZID=America/New_York:20260429T090000
DTEND;TZID=America/New_York:20260429T100000
DTSTAMP:20260423T142621
CREATED:20260405T195636Z
LAST-MODIFIED:20260423T161203Z
UID:10003155-1777453200-1777456800@bykota.org
SUMMARY:Zumba Gold
DESCRIPTION:
URL:https://bykota.org/event/zumba-gold-18/
LOCATION:Bykota Gym
END:VEVENT
BEGIN:VEVENT
DTSTART;TZID=America/New_York:20260429T090000
DTEND;TZID=America/New_York:20260429T120000
DTSTAMP:20260423T142621
CREATED:20260405T195617Z
LAST-MODIFIED:20260423T161203Z
UID:10003143-1777453200-1777464000@bykota.org
SUMMARY:Woodshop
DESCRIPTION:
URL:https://bykota.org/event/woodshop-204/
LOCATION:Bykota 201-203
END:VEVENT
BEGIN:VEVENT
DTSTART;TZID=America/New_York:20260429T090000
DTEND;TZID=America/New_York:20260429T160000
DTSTAMP:20260423T142621
CREATED:20260405T195617Z
LAST-MODIFIED:20260423T161203Z
UID:10003142-1777453200-1777478400@bykota.org
SUMMARY:Billiards
DESCRIPTION:
URL:https://bykota.org/event/billiards-186/
LOCATION:Bykota 100
END:VEVENT
BEGIN:VEVENT
DTSTART;TZID=America/New_York:20260429T093000
DTEND;TZID=America/New_York:20260429T113000
DTSTAMP:20260423T142621
CREATED:20260405T195635Z
LAST-MODIFIED:20260423T161203Z
UID:10003154-1777455000-1777462200@bykota.org
SUMMARY:Stained Glass Studio
DESCRIPTION:
URL:https://bykota.org/event/stained-glass-studio-37/
LOCATION:Bykota 204-206
END:VEVENT
BEGIN:VEVENT
DTSTART;TZID=America/New_York:20260429T093000
DTEND;TZID=America/New_York:20260429T120000
DTSTAMP:20260423T142621
CREATED:20260405T195635Z
LAST-MODIFIED:20260423T161215Z
UID:10003152-1777455000-1777464000@bykota.org
SUMMARY:Ping Pong
DESCRIPTION:
URL:https://bykota.org/event/ping-pong-203/
LOCATION:Bykota 102
END:VEVENT
BEGIN:VEVENT
DTSTART;TZID=America/New_York:20260429T100000
DTEND;TZID=America/New_York:20260429T110000
DTSTAMP:20260423T142621
CREATED:20260405T195617Z
LAST-MODIFIED:20260423T161203Z
UID:10003144-1777456800-1777460400@bykota.org
SUMMARY:Enhance Fitness
DESCRIPTION:
URL:https://bykota.org/event/enhance-fitness-102/
LOCATION:Bykota Gym
END:VEVENT
BEGIN:VEVENT
DTSTART;TZID=America/New_York:20260429T100000
DTEND;TZID=America/New_York:20260429T120000
DTSTAMP:20260423T142621
CREATED:20260405T195617Z
LAST-MODIFIED:20260423T161151Z
UID:10003145-1777456800-1777464000@bykota.org
SUMMARY:Sculpture
DESCRIPTION:
URL:https://bykota.org/event/sculpture-37/
LOCATION:Bykota 204-206
END:VEVENT
BEGIN:VEVENT
DTSTART;TZID=America/New_York:20260429T100000
DTEND;TZID=America/New_York:20260429T140000
DTSTAMP:20260423T142621
CREATED:20260405T195617Z
LAST-MODIFIED:20260423T161151Z
UID:10003150-1777456800-1777471200@bykota.org
SUMMARY:Gift Shop
DESCRIPTION:Buy unique items\, jewelry\, crafts\, seasonal items and snacks.
URL:https://bykota.org/event/gift-shop-148/
LOCATION:Bykota Gift Shop
END:VEVENT
BEGIN:VEVENT
DTSTART;TZID=America/New_York:20260429T110000
DTEND;TZID=America/New_York:20260429T114500
DTSTAMP:20260423T142621
CREATED:20260405T195617Z
LAST-MODIFIED:20260423T161151Z
UID:10003146-1777460400-1777463100@bykota.org
SUMMARY:Senior Rhythms
DESCRIPTION:
URL:https://bykota.org/event/senior-rhythms-101/
LOCATION:Bykota 208-210
END:VEVENT
BEGIN:VEVENT
DTSTART;TZID=America/New_York:20260429T110000
DTEND;TZID=America/New_York:20260429T124500
DTSTAMP:20260423T142621
CREATED:20260420T202830Z
LAST-MODIFIED:20260423T161203Z
UID:10003348-1777460400-1777466700@bykota.org
SUMMARY:Basketball
DESCRIPTION:
URL:https://bykota.org/event/basketball-131/
LOCATION:Bykota Gym
END:VEVENT
BEGIN:VEVENT
DTSTART;TZID=America/New_York:20260429T110000
DTEND;TZID=America/New_York:20260429T130000
DTSTAMP:20260423T142621
CREATED:20260405T195635Z
LAST-MODIFIED:20260419T202227Z
UID:10003153-1777460400-1777467600@bykota.org
SUMMARY:Basketball
DESCRIPTION:
URL:https://bykota.org/event/basketball-121/
LOCATION:Bykota Gym
END:VEVENT
BEGIN:VEVENT
DTSTART;TZID=America/New_York:20260429T120000
DTEND;TZID=America/New_York:20260429T160000
DTSTAMP:20260423T142621
CREATED:20260405T195635Z
LAST-MODIFIED:20260423T161203Z
UID:10003151-1777464000-1777478400@bykota.org
SUMMARY:Clay Studio
DESCRIPTION:
URL:https://bykota.org/event/clay-studio-74/
LOCATION:Bykota 204-206
END:VEVENT
BEGIN:VEVENT
DTSTART;TZID=America/New_York:20260429T123000
DTEND;TZID=America/New_York:20260429T140000
DTSTAMP:20260423T142621
CREATED:20260405T195617Z
LAST-MODIFIED:20260423T161215Z
UID:10003147-1777465800-1777471200@bykota.org
SUMMARY:Bingo
DESCRIPTION:Enjoy some laughter and friendly competition withthis favorite pastime; every Wednesday.No registration required.
URL:https://bykota.org/event/bingo-40/
LOCATION:Bykota Cafe
END:VEVENT
BEGIN:VEVENT
DTSTART;TZID=America/New_York:20260429T123000
DTEND;TZID=America/New_York:20260429T160000
DTSTAMP:20260423T142621
CREATED:20260405T195617Z
LAST-MODIFIED:20260423T161203Z
UID:10003148-1777465800-1777478400@bykota.org
SUMMARY:Contract Bridge
DESCRIPTION:
URL:https://bykota.org/event/contract-bridge-37/
LOCATION:Bykota 202
END:VEVENT
BEGIN:VEVENT
DTSTART;TZID=America/New_York:20260429T130000
DTEND;TZID=America/New_York:20260429T140000
DTSTAMP:20260423T142621
CREATED:20260405T195617Z
LAST-MODIFIED:20260419T202254Z
UID:10003149-1777467600-1777471200@bykota.org
SUMMARY:Essentrics
DESCRIPTION:
URL:https://bykota.org/event/essentrics-34/
LOCATION:Bykota Gym
END:VEVENT
BEGIN:VEVENT
DTSTART;TZID=America/New_York:20260429T130000
DTEND;TZID=America/New_York:20260429T140000
DTSTAMP:20260423T142621
CREATED:20260420T202830Z
LAST-MODIFIED:20260423T161215Z
UID:10003349-1777467600-1777471200@bykota.org
SUMMARY:Essentrics
DESCRIPTION:
URL:https://bykota.org/event/essentrics-38/
LOCATION:Bykota Gym
END:VEVENT
BEGIN:VEVENT
DTSTART;TZID=America/New_York:20260429T141500
DTEND;TZID=America/New_York:20260429T160000
DTSTAMP:20260423T142621
CREATED:20260420T202843Z
LAST-MODIFIED:20260423T161203Z
UID:10003350-1777472100-1777478400@bykota.org
SUMMARY:Pickleball
DESCRIPTION:
URL:https://bykota.org/event/pickleball-285/
LOCATION:Gym
END:VEVENT
BEGIN:VEVENT
DTSTART;TZID=America/New_York:20260429T141500
DTEND;TZID=America/New_York:20260429T161500
DTSTAMP:20260423T142621
CREATED:20260405T195636Z
LAST-MODIFIED:20260419T202238Z
UID:10003156-1777472100-1777479300@bykota.org
SUMMARY:Pickleball
DESCRIPTION:
URL:https://bykota.org/event/pickleball-267/
LOCATION:Gym
END:VEVENT
END:VCALENDAR