BEGIN:VCALENDAR
VERSION:2.0
PRODID:-//Bykota Senior Center - ECPv6.15.20//NONSGML v1.0//EN
CALSCALE:GREGORIAN
METHOD:PUBLISH
X-ORIGINAL-URL:https://bykota.org
X-WR-CALDESC:Events for Bykota Senior Center
REFRESH-INTERVAL;VALUE=DURATION:PT1H
X-Robots-Tag:noindex
X-PUBLISHED-TTL:PT1H
BEGIN:VTIMEZONE
TZID:America/New_York
BEGIN:DAYLIGHT
TZOFFSETFROM:-0500
TZOFFSETTO:-0400
TZNAME:EDT
DTSTART:20250309T070000
END:DAYLIGHT
BEGIN:STANDARD
TZOFFSETFROM:-0400
TZOFFSETTO:-0500
TZNAME:EST
DTSTART:20251102T060000
END:STANDARD
BEGIN:DAYLIGHT
TZOFFSETFROM:-0500
TZOFFSETTO:-0400
TZNAME:EDT
DTSTART:20260308T070000
END:DAYLIGHT
BEGIN:STANDARD
TZOFFSETFROM:-0400
TZOFFSETTO:-0500
TZNAME:EST
DTSTART:20261101T060000
END:STANDARD
BEGIN:DAYLIGHT
TZOFFSETFROM:-0500
TZOFFSETTO:-0400
TZNAME:EDT
DTSTART:20270314T070000
END:DAYLIGHT
BEGIN:STANDARD
TZOFFSETFROM:-0400
TZOFFSETTO:-0500
TZNAME:EST
DTSTART:20271107T060000
END:STANDARD
END:VTIMEZONE
BEGIN:VEVENT
DTSTART;TZID=America/New_York:20260501T083000
DTEND;TZID=America/New_York:20260501T100000
DTSTAMP:20260423T142756
CREATED:20260423T161243Z
LAST-MODIFIED:20260423T161243Z
UID:10003364-1777624200-1777629600@bykota.org
SUMMARY:McDonough Cafe
DESCRIPTION:Enjoy the convenience of coffee\, tea\, bagels/muffins\, donuts\, orange juice and bananas. Prices vary.
URL:https://bykota.org/event/mcdonough-cafe-97/
LOCATION:Bykota Cafe
END:VEVENT
BEGIN:VEVENT
DTSTART;TZID=America/New_York:20260501T083000
DTEND;TZID=America/New_York:20260501T104500
DTSTAMP:20260423T142756
CREATED:20260423T161227Z
LAST-MODIFIED:20260423T161227Z
UID:10003363-1777624200-1777632300@bykota.org
SUMMARY:Pickleball
DESCRIPTION:
URL:https://bykota.org/event/pickleball-286/
LOCATION:Bykota Gym
END:VEVENT
BEGIN:VEVENT
DTSTART;TZID=America/New_York:20260501T083000
DTEND;TZID=America/New_York:20260501T160000
DTSTAMP:20260423T142756
CREATED:20260405T195711Z
LAST-MODIFIED:20260420T202901Z
UID:10003171-1777624200-1777651200@bykota.org
SUMMARY:Bykota Closed for Staff Training/Appreciation Day
DESCRIPTION:
URL:https://bykota.org/event/bykota-closed-for-staff-training-appreciation-day/
END:VEVENT
BEGIN:VEVENT
DTSTART;TZID=America/New_York:20260501T090000
DTEND;TZID=America/New_York:20260501T120000
DTSTAMP:20260423T142756
CREATED:20260423T161227Z
LAST-MODIFIED:20260423T161227Z
UID:10003362-1777626000-1777636800@bykota.org
SUMMARY:Ceramics
DESCRIPTION:
URL:https://bykota.org/event/ceramics-78/
LOCATION:Bykota 204-206
END:VEVENT
BEGIN:VEVENT
DTSTART;TZID=America/New_York:20260501T090000
DTEND;TZID=America/New_York:20260501T120000
DTSTAMP:20260423T142756
CREATED:20260423T161243Z
LAST-MODIFIED:20260423T161243Z
UID:10003365-1777626000-1777636800@bykota.org
SUMMARY:Woodshop
DESCRIPTION:
URL:https://bykota.org/event/woodshop-217/
LOCATION:Bykota 201-203
END:VEVENT
BEGIN:VEVENT
DTSTART;TZID=America/New_York:20260501T090000
DTEND;TZID=America/New_York:20260501T120000
DTSTAMP:20260423T142756
CREATED:20260423T161244Z
LAST-MODIFIED:20260423T161244Z
UID:10003370-1777626000-1777636800@bykota.org
SUMMARY:Ping Pong
DESCRIPTION:
URL:https://bykota.org/event/ping-pong-216/
LOCATION:Bykota 102
END:VEVENT
BEGIN:VEVENT
DTSTART;TZID=America/New_York:20260501T090000
DTEND;TZID=America/New_York:20260501T160000
DTSTAMP:20260423T142756
CREATED:20260423T161244Z
LAST-MODIFIED:20260423T161244Z
UID:10003373-1777626000-1777651200@bykota.org
SUMMARY:Billiards
DESCRIPTION:May 1\, 2026
URL:https://bykota.org/event/billiards-199/
LOCATION:Bykota 100
END:VEVENT
BEGIN:VEVENT
DTSTART;TZID=America/New_York:20260501T100000
DTEND;TZID=America/New_York:20260501T140000
DTSTAMP:20260423T142756
CREATED:20260423T161256Z
LAST-MODIFIED:20260423T161256Z
UID:10003374-1777629600-1777644000@bykota.org
SUMMARY:Gift Shop
DESCRIPTION:Buy unique items\, jewelry\, crafts\, seasonal items and snacks.
URL:https://bykota.org/event/gift-shop-160/
LOCATION:Bykota Gift Shop
END:VEVENT
BEGIN:VEVENT
DTSTART;TZID=America/New_York:20260501T110000
DTEND;TZID=America/New_York:20260501T114500
DTSTAMP:20260423T142756
CREATED:20260423T161244Z
LAST-MODIFIED:20260423T161244Z
UID:10003369-1777633200-1777635900@bykota.org
SUMMARY:Senior Rhythms
DESCRIPTION:
URL:https://bykota.org/event/senior-rhythms-109/
LOCATION:Bykota 208-210
END:VEVENT
BEGIN:VEVENT
DTSTART;TZID=America/New_York:20260501T110000
DTEND;TZID=America/New_York:20260501T133000
DTSTAMP:20260423T142756
CREATED:20260423T161244Z
LAST-MODIFIED:20260423T161244Z
UID:10003368-1777633200-1777642200@bykota.org
SUMMARY:Basketball
DESCRIPTION:
URL:https://bykota.org/event/basketball-133/
LOCATION:Bykota Gym
END:VEVENT
BEGIN:VEVENT
DTSTART;TZID=America/New_York:20260501T123000
DTEND;TZID=America/New_York:20260501T154500
DTSTAMP:20260423T142756
CREATED:20260423T161244Z
LAST-MODIFIED:20260423T161244Z
UID:10003367-1777638600-1777650300@bykota.org
SUMMARY:Duplicate Bridge
DESCRIPTION:
URL:https://bykota.org/event/duplicate-bridge-85/
LOCATION:Bykota 200
END:VEVENT
BEGIN:VEVENT
DTSTART;TZID=America/New_York:20260501T130000
DTEND;TZID=America/New_York:20260501T140000
DTSTAMP:20260423T142756
CREATED:20260423T161243Z
LAST-MODIFIED:20260423T161243Z
UID:10003366-1777640400-1777644000@bykota.org
SUMMARY:Ukelele Jam!
DESCRIPTION:
URL:https://bykota.org/event/ukelele-jam-41/
LOCATION:Bykota Lounge
END:VEVENT
BEGIN:VEVENT
DTSTART;TZID=America/New_York:20260501T130000
DTEND;TZID=America/New_York:20260501T150000
DTSTAMP:20260423T142756
CREATED:20260423T161244Z
LAST-MODIFIED:20260423T161244Z
UID:10003372-1777640400-1777647600@bykota.org
SUMMARY:Intermediate Line Dance
DESCRIPTION:
URL:https://bykota.org/event/intermediate-line-dance-40/
LOCATION:Bykota 208-210
END:VEVENT
BEGIN:VEVENT
DTSTART;TZID=America/New_York:20260501T140000
DTEND;TZID=America/New_York:20260501T154500
DTSTAMP:20260423T142756
CREATED:20260423T161244Z
LAST-MODIFIED:20260423T161244Z
UID:10003371-1777644000-1777650300@bykota.org
SUMMARY:Pickleball
DESCRIPTION:
URL:https://bykota.org/event/pickleball-287/
LOCATION:Bykota Gym
END:VEVENT
END:VCALENDAR