BEGIN:VCALENDAR
VERSION:2.0
PRODID:-//Bykota Senior Center - ECPv6.15.20//NONSGML v1.0//EN
CALSCALE:GREGORIAN
METHOD:PUBLISH
X-ORIGINAL-URL:https://bykota.org
X-WR-CALDESC:Events for Bykota Senior Center
REFRESH-INTERVAL;VALUE=DURATION:PT1H
X-Robots-Tag:noindex
X-PUBLISHED-TTL:PT1H
BEGIN:VTIMEZONE
TZID:America/New_York
BEGIN:DAYLIGHT
TZOFFSETFROM:-0500
TZOFFSETTO:-0400
TZNAME:EDT
DTSTART:20250309T070000
END:DAYLIGHT
BEGIN:STANDARD
TZOFFSETFROM:-0400
TZOFFSETTO:-0500
TZNAME:EST
DTSTART:20251102T060000
END:STANDARD
BEGIN:DAYLIGHT
TZOFFSETFROM:-0500
TZOFFSETTO:-0400
TZNAME:EDT
DTSTART:20260308T070000
END:DAYLIGHT
BEGIN:STANDARD
TZOFFSETFROM:-0400
TZOFFSETTO:-0500
TZNAME:EST
DTSTART:20261101T060000
END:STANDARD
BEGIN:DAYLIGHT
TZOFFSETFROM:-0500
TZOFFSETTO:-0400
TZNAME:EDT
DTSTART:20270314T070000
END:DAYLIGHT
BEGIN:STANDARD
TZOFFSETFROM:-0400
TZOFFSETTO:-0500
TZNAME:EST
DTSTART:20271107T060000
END:STANDARD
END:VTIMEZONE
BEGIN:VEVENT
DTSTART;TZID=America/New_York:20260505T100000
DTEND;TZID=America/New_York:20260505T110000
DTSTAMP:20260423T155813
CREATED:20260423T155351Z
LAST-MODIFIED:20260423T155609Z
UID:10003360-1777975200-1777978800@bykota.org
SUMMARY:The Beauty of Bonsai
DESCRIPTION:Discover the  Beauty of Bonsai \nThe Bykota House Plant Club invites you to a special presentation on the ancient Japanese art of Bonsai. Derived from the words bon (tray or shallow container) and sai (to plant or grow)\, Bonsai is more than just gardening—it is a unique blend of horticulture\, artistry\, and philosophy. \nWe are honored to welcome Dave Shegan\, an expert who has been cultivating Bonsai trees for over 30 years. Dave will share insights from his decades of experience\, including: \n\n\nVisual Journey: A slide show featuring stunning examples from his private bonsai garden right here in Baltimore. \n\n\nPhilosophy & Art: Learn the history and meaning behind these miniature masterpieces. \n\n\nGetting Started: Practical tips on how you can begin your own Bonsai journey at home. \n\n\nWhether you are a seasoned gardener or simply curious about this peaceful hobby\, come join us for an inspiring afternoon of beauty and learning. \n\n\nCost: Free \n\n\nRegistration: None required—just bring your curiosity!
URL:https://bykota.org/event/the-beauty-of-bonsai/
LOCATION:Bykoa 112
ATTACH;FMTTYPE=image/webp:https://bykota.org/wp-content/uploads/2026/04/Bonsai.webp
END:VEVENT
END:VCALENDAR