BEGIN:VCALENDAR
VERSION:2.0
PRODID:-//Bykota Senior Center - ECPv6.15.20//NONSGML v1.0//EN
CALSCALE:GREGORIAN
METHOD:PUBLISH
X-ORIGINAL-URL:https://bykota.org
X-WR-CALDESC:Events for Bykota Senior Center
REFRESH-INTERVAL;VALUE=DURATION:PT1H
X-Robots-Tag:noindex
X-PUBLISHED-TTL:PT1H
BEGIN:VTIMEZONE
TZID:America/New_York
BEGIN:DAYLIGHT
TZOFFSETFROM:-0500
TZOFFSETTO:-0400
TZNAME:EDT
DTSTART:20250309T070000
END:DAYLIGHT
BEGIN:STANDARD
TZOFFSETFROM:-0400
TZOFFSETTO:-0500
TZNAME:EST
DTSTART:20251102T060000
END:STANDARD
BEGIN:DAYLIGHT
TZOFFSETFROM:-0500
TZOFFSETTO:-0400
TZNAME:EDT
DTSTART:20260308T070000
END:DAYLIGHT
BEGIN:STANDARD
TZOFFSETFROM:-0400
TZOFFSETTO:-0500
TZNAME:EST
DTSTART:20261101T060000
END:STANDARD
BEGIN:DAYLIGHT
TZOFFSETFROM:-0500
TZOFFSETTO:-0400
TZNAME:EDT
DTSTART:20270314T070000
END:DAYLIGHT
BEGIN:STANDARD
TZOFFSETFROM:-0400
TZOFFSETTO:-0500
TZNAME:EST
DTSTART:20271107T060000
END:STANDARD
END:VTIMEZONE
BEGIN:VEVENT
DTSTART;TZID=America/New_York:20260514T083000
DTEND;TZID=America/New_York:20260514T100000
DTSTAMP:20260423T155947
CREATED:20260419T202656Z
LAST-MODIFIED:20260423T161637Z
UID:10003300-1778747400-1778752800@bykota.org
SUMMARY:Pickleball
DESCRIPTION:
URL:https://bykota.org/event/pickleball-280/
LOCATION:Bykota Gym
END:VEVENT
BEGIN:VEVENT
DTSTART;TZID=America/New_York:20260514T090000
DTEND;TZID=America/New_York:20260514T120000
DTSTAMP:20260423T155947
CREATED:20260419T202656Z
LAST-MODIFIED:20260423T161620Z
UID:10003296-1778749200-1778760000@bykota.org
SUMMARY:Knitting & Crocheting
DESCRIPTION:
URL:https://bykota.org/event/knitting-crocheting-38/
LOCATION:Bykota 202
END:VEVENT
BEGIN:VEVENT
DTSTART;TZID=America/New_York:20260514T090000
DTEND;TZID=America/New_York:20260514T130000
DTSTAMP:20260423T155947
CREATED:20260419T202657Z
LAST-MODIFIED:20260423T161654Z
UID:10003304-1778749200-1778763600@bykota.org
SUMMARY:Woodshop
DESCRIPTION:
URL:https://bykota.org/event/woodshop-214/
LOCATION:Bykota 201-203
END:VEVENT
BEGIN:VEVENT
DTSTART;TZID=America/New_York:20260514T090000
DTEND;TZID=America/New_York:20260514T160000
DTSTAMP:20260423T155947
CREATED:20260419T202656Z
LAST-MODIFIED:20260423T161654Z
UID:10003299-1778749200-1778774400@bykota.org
SUMMARY:Billiards
DESCRIPTION:
URL:https://bykota.org/event/billiards-196/
LOCATION:Bykota 100
END:VEVENT
BEGIN:VEVENT
DTSTART;TZID=America/New_York:20260514T093000
DTEND;TZID=America/New_York:20260514T113000
DTSTAMP:20260423T155947
CREATED:20260419T202714Z
LAST-MODIFIED:20260423T161637Z
UID:10003306-1778751000-1778758200@bykota.org
SUMMARY:Water Color
DESCRIPTION:
URL:https://bykota.org/event/water-color-30/
LOCATION:Bykota 208
END:VEVENT
BEGIN:VEVENT
DTSTART;TZID=America/New_York:20260514T093000
DTEND;TZID=America/New_York:20260514T120000
DTSTAMP:20260423T155947
CREATED:20260419T202656Z
LAST-MODIFIED:20260423T161620Z
UID:10003295-1778751000-1778760000@bykota.org
SUMMARY:Woodcarving
DESCRIPTION:
URL:https://bykota.org/event/woodcarving-38/
LOCATION:Bykota 204-206
END:VEVENT
BEGIN:VEVENT
DTSTART;TZID=America/New_York:20260514T093000
DTEND;TZID=America/New_York:20260514T123000
DTSTAMP:20260423T155947
CREATED:20260419T202714Z
LAST-MODIFIED:20260423T161637Z
UID:10003305-1778751000-1778761800@bykota.org
SUMMARY:Ping Pong
DESCRIPTION:
URL:https://bykota.org/event/ping-pong-213/
LOCATION:Bykota 102
END:VEVENT
BEGIN:VEVENT
DTSTART;TZID=America/New_York:20260514T100000
DTEND;TZID=America/New_York:20260514T140000
DTSTAMP:20260423T155947
CREATED:20260419T202656Z
LAST-MODIFIED:20260423T161637Z
UID:10003298-1778752800-1778767200@bykota.org
SUMMARY:Gift Shop
DESCRIPTION:Buy unique items\, jewelry\, crafts\, seasonal items and snacks.
URL:https://bykota.org/event/gift-shop-158/
LOCATION:Bykota Gift Shop
END:VEVENT
BEGIN:VEVENT
DTSTART;TZID=America/New_York:20260514T103000
DTEND;TZID=America/New_York:20260514T113000
DTSTAMP:20260423T155947
CREATED:20260419T202714Z
LAST-MODIFIED:20260419T202714Z
UID:10003307-1778754600-1778758200@bykota.org
SUMMARY:Thursday Yoga
DESCRIPTION:
URL:https://bykota.org/event/thursday-yoga-20/
LOCATION:Bykota Gym
END:VEVENT
BEGIN:VEVENT
DTSTART;TZID=America/New_York:20260514T103000
DTEND;TZID=America/New_York:20260514T113000
DTSTAMP:20260423T155947
CREATED:20260423T161637Z
LAST-MODIFIED:20260423T161637Z
UID:10003389-1778754600-1778758200@bykota.org
SUMMARY:Thursday Yoga
DESCRIPTION:
URL:https://bykota.org/event/thursday-yoga-24/
LOCATION:Bykota Gym
END:VEVENT
BEGIN:VEVENT
DTSTART;TZID=America/New_York:20260514T113000
DTEND;TZID=America/New_York:20260514T123000
DTSTAMP:20260423T155947
CREATED:20260419T202656Z
LAST-MODIFIED:20260423T161637Z
UID:10003297-1778758200-1778761800@bykota.org
SUMMARY:Enhance Fitness
DESCRIPTION:
URL:https://bykota.org/event/enhance-fitness-109/
LOCATION:Bykota Gym
END:VEVENT
BEGIN:VEVENT
DTSTART;TZID=America/New_York:20260514T123000
DTEND;TZID=America/New_York:20260514T150000
DTSTAMP:20260423T155947
CREATED:20260419T202657Z
LAST-MODIFIED:20260423T161637Z
UID:10003303-1778761800-1778770800@bykota.org
SUMMARY:Bykota on Stage
DESCRIPTION:
URL:https://bykota.org/event/bykota-on-stage-34/
LOCATION:Gym
END:VEVENT
BEGIN:VEVENT
DTSTART;TZID=America/New_York:20260514T123000
DTEND;TZID=America/New_York:20260514T160000
DTSTAMP:20260423T155947
CREATED:20260419T202656Z
LAST-MODIFIED:20260423T161654Z
UID:10003301-1778761800-1778774400@bykota.org
SUMMARY:Mahjong
DESCRIPTION:
URL:https://bykota.org/event/mahjong-75/
LOCATION:Bykota 202
END:VEVENT
BEGIN:VEVENT
DTSTART;TZID=America/New_York:20260514T130000
DTEND;TZID=America/New_York:20260514T140000
DTSTAMP:20260423T155947
CREATED:20260423T161637Z
LAST-MODIFIED:20260423T161637Z
UID:10003390-1778763600-1778767200@bykota.org
SUMMARY:Open Mic Coffee Hour w/ Tom Zeller
DESCRIPTION:Bring your instruments and make some music! Perform solo or jam with other musicians.  All are welcome! Both listerns and peformers are encouraged to attend. Free; Drop in.
URL:https://bykota.org/event/open-mic-coffee-hour-w-tom-zeller-8/
LOCATION:Bykota Lounge
END:VEVENT
BEGIN:VEVENT
DTSTART;TZID=America/New_York:20260514T130000
DTEND;TZID=America/New_York:20260514T143000
DTSTAMP:20260423T155947
CREATED:20260419T202656Z
LAST-MODIFIED:20260423T161637Z
UID:10003302-1778763600-1778769000@bykota.org
SUMMARY:Spanish Club
DESCRIPTION:
URL:https://bykota.org/event/spanish-club-45/
LOCATION:Bykota 200
END:VEVENT
BEGIN:VEVENT
DTSTART;TZID=America/New_York:20260514T130000
DTEND;TZID=America/New_York:20260514T150000
DTSTAMP:20260423T155947
CREATED:20260423T161654Z
LAST-MODIFIED:20260423T161654Z
UID:10003391-1778763600-1778770800@bykota.org
SUMMARY:Water Color
DESCRIPTION:
URL:https://bykota.org/event/water-color-34/
LOCATION:Bykota 208
END:VEVENT
BEGIN:VEVENT
DTSTART;TZID=America/New_York:20260514T130000
DTEND;TZID=America/New_York:20260514T153000
DTSTAMP:20260423T155947
CREATED:20260419T202714Z
LAST-MODIFIED:20260423T161637Z
UID:10003308-1778763600-1778772600@bykota.org
SUMMARY:Scrabble
DESCRIPTION:
URL:https://bykota.org/event/scrabble-42/
LOCATION:Bykota 109
END:VEVENT
END:VCALENDAR