BEGIN:VCALENDAR
VERSION:2.0
PRODID:-//Bykota Senior Center - ECPv6.15.20//NONSGML v1.0//EN
CALSCALE:GREGORIAN
METHOD:PUBLISH
X-ORIGINAL-URL:https://bykota.org
X-WR-CALDESC:Events for Bykota Senior Center
REFRESH-INTERVAL;VALUE=DURATION:PT1H
X-Robots-Tag:noindex
X-PUBLISHED-TTL:PT1H
BEGIN:VTIMEZONE
TZID:America/New_York
BEGIN:DAYLIGHT
TZOFFSETFROM:-0500
TZOFFSETTO:-0400
TZNAME:EDT
DTSTART:20250309T070000
END:DAYLIGHT
BEGIN:STANDARD
TZOFFSETFROM:-0400
TZOFFSETTO:-0500
TZNAME:EST
DTSTART:20251102T060000
END:STANDARD
BEGIN:DAYLIGHT
TZOFFSETFROM:-0500
TZOFFSETTO:-0400
TZNAME:EDT
DTSTART:20260308T070000
END:DAYLIGHT
BEGIN:STANDARD
TZOFFSETFROM:-0400
TZOFFSETTO:-0500
TZNAME:EST
DTSTART:20261101T060000
END:STANDARD
BEGIN:DAYLIGHT
TZOFFSETFROM:-0500
TZOFFSETTO:-0400
TZNAME:EDT
DTSTART:20270314T070000
END:DAYLIGHT
BEGIN:STANDARD
TZOFFSETFROM:-0400
TZOFFSETTO:-0500
TZNAME:EST
DTSTART:20271107T060000
END:STANDARD
END:VTIMEZONE
BEGIN:VEVENT
DTSTART;TZID=America/New_York:20260608T080000
DTEND;TZID=America/New_York:20260612T180000
DTSTAMP:20260423T125351
CREATED:20251222T170726Z
LAST-MODIFIED:20251229T163458Z
UID:10001921-1780905600-1781287200@bykota.org
SUMMARY:Experience the Magic of Niagara & Toronto!
DESCRIPTION:Pack your bags for a 5-day\, 4-night journey to captivating Niagara Falls and Toronto. Traveling in the comfort of a spacious motorcoach\, you’ll enjoy a curated itinerary that balances “awe-inspiring” nature with “majestic” city sights. \nTrip Highlights Include: \nNiagara City Cruises: Feel the mist on a breathtaking boat ride to the base of the Horseshoe Falls. \nToronto City Tour: Explore Canada’s cosmopolitan heart and visit the stunning Casa Loma castle estate. \nScenic Gems: Marvel at the Welland Shipping Canal\, the famous Floral Clock\, and the quaint 19th-century streets of Niagara-on-the-Lake. \nEvening Fun: Enjoy delicious dinners at local restaurants and try your luck (or shop the Galleria) at the Fallsview Casino. \nYour trip includes 4 nights of lodging\, 4 continental breakfasts\, 4 dinners\, and guided tours of all major attractions. Don’t miss this chance to see the “Mighty Niagara” with friends! \nAll travelers must carry a valid U.S. Passport for this tour. \nPricing & Registration\nDouble Occupancy $765 per person\nSingle Occupancy $935 per person\nDown payment: $150 due at registration\nFinal payment due 4/1/2026
URL:https://bykota.org/event/experience-the-magic-of-niagara-toronto/
CATEGORIES:Over-Night Travel,Travel
ATTACH;FMTTYPE=image/webp:https://bykota.org/wp-content/uploads/2025/12/NiagaraFalls.webp
END:VEVENT
BEGIN:VEVENT
DTSTART;VALUE=DATE:20260921
DTEND;VALUE=DATE:20260926
DTSTAMP:20260423T125351
CREATED:20251114T173104Z
LAST-MODIFIED:20251114T173628Z
UID:10001608-1789948800-1790380799@bykota.org
SUMMARY:New Hampshire and the White Mountains
DESCRIPTION:Explore the beauty and history of New Hampshire on this 5-day\, 4-night escape!\nRelax with round-trip motorcoach transportation and 4 nights’ lodging. Your journey includes 9 meals (4 breakfasts\, 1 lunch\, 4 dinners) and an exclusive Diamond Tours dinner party with entertainment. \nTrip Highlights\n\nLoon Mountain: Experience a 1.3-mile scenic gondola ride to the summit of Loon Peak for breathtaking views.\nClark’s Trading Post: Enjoy a 2.5-mile train ride and a famous live bear show.\nCruises & Tours: Take a narrated scenic cruise on beautiful Lake Sunapee and a narrated trolley tour of historic Wolfeboro.\nHistory: Immerse yourself in the past at the Wright World War II Museum\, featuring over 14\,000 artifacts and military vehicles.\n\nPricing & Logistics\n\nCost (Double Occupancy): $889 per person\nDeposit: $200\nSingle Occupancy Supplement: Add $349\nFinal Payment Due: July 14\, 2026\n\nTour Leaders: Penny Parker and Delores Powell (410-887-1691) 
URL:https://bykota.org/event/new-hampshire-and-the-white-mountains/
CATEGORIES:Over-Night Travel,Travel
ATTACH;FMTTYPE=image/webp:https://bykota.org/wp-content/uploads/2025/11/NHGondolas-3.webp
END:VEVENT
END:VCALENDAR