BEGIN:VCALENDAR
VERSION:2.0
PRODID:-//Bykota Senior Center - ECPv6.15.20//NONSGML v1.0//EN
CALSCALE:GREGORIAN
METHOD:PUBLISH
X-WR-CALNAME:Bykota Senior Center
X-ORIGINAL-URL:https://bykota.org
X-WR-CALDESC:Events for Bykota Senior Center
REFRESH-INTERVAL;VALUE=DURATION:PT1H
X-Robots-Tag:noindex
X-PUBLISHED-TTL:PT1H
BEGIN:VTIMEZONE
TZID:America/New_York
BEGIN:DAYLIGHT
TZOFFSETFROM:-0500
TZOFFSETTO:-0400
TZNAME:EDT
DTSTART:20250309T070000
END:DAYLIGHT
BEGIN:STANDARD
TZOFFSETFROM:-0400
TZOFFSETTO:-0500
TZNAME:EST
DTSTART:20251102T060000
END:STANDARD
BEGIN:DAYLIGHT
TZOFFSETFROM:-0500
TZOFFSETTO:-0400
TZNAME:EDT
DTSTART:20260308T070000
END:DAYLIGHT
BEGIN:STANDARD
TZOFFSETFROM:-0400
TZOFFSETTO:-0500
TZNAME:EST
DTSTART:20261101T060000
END:STANDARD
BEGIN:DAYLIGHT
TZOFFSETFROM:-0500
TZOFFSETTO:-0400
TZNAME:EDT
DTSTART:20270314T070000
END:DAYLIGHT
BEGIN:STANDARD
TZOFFSETFROM:-0400
TZOFFSETTO:-0500
TZNAME:EST
DTSTART:20271107T060000
END:STANDARD
END:VTIMEZONE
BEGIN:VEVENT
DTSTART;TZID=America/New_York:20260331T083000
DTEND;TZID=America/New_York:20260331T100000
DTSTAMP:20260423T175423
CREATED:20260306T212520Z
LAST-MODIFIED:20260329T193510Z
UID:10002786-1774945800-1774951200@bykota.org
SUMMARY:Pickleball
DESCRIPTION:
URL:https://bykota.org/event/pickleball-238/
LOCATION:Bykota Gym
END:VEVENT
BEGIN:VEVENT
DTSTART;TZID=America/New_York:20260331T090000
DTEND;TZID=America/New_York:20260331T120000
DTSTAMP:20260423T175423
CREATED:20260306T212503Z
LAST-MODIFIED:20260329T193459Z
UID:10002779-1774947600-1774958400@bykota.org
SUMMARY:Woodshop
DESCRIPTION:
URL:https://bykota.org/event/woodshop-183/
LOCATION:Bykota 201-203
END:VEVENT
BEGIN:VEVENT
DTSTART;TZID=America/New_York:20260331T090000
DTEND;TZID=America/New_York:20260331T120000
DTSTAMP:20260423T175423
CREATED:20260306T212520Z
LAST-MODIFIED:20260329T193510Z
UID:10002780-1774947600-1774958400@bykota.org
SUMMARY:Clay Studio
DESCRIPTION:
URL:https://bykota.org/event/clay-studio-65/
LOCATION:Bykota 204-206
END:VEVENT
BEGIN:VEVENT
DTSTART;TZID=America/New_York:20260331T090000
DTEND;TZID=America/New_York:20260331T160000
DTSTAMP:20260423T175423
CREATED:20260306T212520Z
LAST-MODIFIED:20260329T193510Z
UID:10002784-1774947600-1774972800@bykota.org
SUMMARY:Billiards
DESCRIPTION:
URL:https://bykota.org/event/billiards-165/
LOCATION:Bykota 100
END:VEVENT
BEGIN:VEVENT
DTSTART;TZID=America/New_York:20260331T093000
DTEND;TZID=America/New_York:20260331T120000
DTSTAMP:20260423T175423
CREATED:20260306T212520Z
LAST-MODIFIED:20260329T193510Z
UID:10002785-1774949400-1774958400@bykota.org
SUMMARY:Ping Pong
DESCRIPTION:
URL:https://bykota.org/event/ping-pong-182/
LOCATION:Bykota 102
END:VEVENT
BEGIN:VEVENT
DTSTART;TZID=America/New_York:20260331T100000
DTEND;TZID=America/New_York:20260331T110000
DTSTAMP:20260423T175423
CREATED:20260308T185022Z
LAST-MODIFIED:20260329T193459Z
UID:10002882-1774951200-1774954800@bykota.org
SUMMARY:Tuesday Yoga
DESCRIPTION:
URL:https://bykota.org/event/tuesday-yoga-14/
LOCATION:Bykota 208 / 210
END:VEVENT
BEGIN:VEVENT
DTSTART;TZID=America/New_York:20260331T100000
DTEND;TZID=America/New_York:20260331T110000
DTSTAMP:20260423T175423
CREATED:20260308T185022Z
LAST-MODIFIED:20260329T193459Z
UID:10002883-1774951200-1774954800@bykota.org
SUMMARY:Enhance Fitness
DESCRIPTION:
URL:https://bykota.org/event/enhance-fitness-89/
LOCATION:Bykota Gym
END:VEVENT
BEGIN:VEVENT
DTSTART;TZID=America/New_York:20260331T100000
DTEND;TZID=America/New_York:20260331T120000
DTSTAMP:20260423T175423
CREATED:20260306T212520Z
LAST-MODIFIED:20260329T193459Z
UID:10002782-1774951200-1774958400@bykota.org
SUMMARY:Next Level Crocheting
DESCRIPTION:
URL:https://bykota.org/event/next-level-crocheting-32/
LOCATION:Bykota 202
END:VEVENT
BEGIN:VEVENT
DTSTART;TZID=America/New_York:20260331T100000
DTEND;TZID=America/New_York:20260331T140000
DTSTAMP:20260423T175423
CREATED:20260306T212520Z
LAST-MODIFIED:20260329T193459Z
UID:10002781-1774951200-1774965600@bykota.org
SUMMARY:Gift Shop
DESCRIPTION:Buy unique items\, jewelry\, crafts\, seasonal items and snacks.
URL:https://bykota.org/event/gift-shop-127/
LOCATION:Bykota Gift Shop
END:VEVENT
BEGIN:VEVENT
DTSTART;TZID=America/New_York:20260331T110000
DTEND;TZID=America/New_York:20260331T120000
DTSTAMP:20260423T175423
CREATED:20260308T185022Z
LAST-MODIFIED:20260329T193510Z
UID:10002881-1774954800-1774958400@bykota.org
SUMMARY:Tai Chi
DESCRIPTION:
URL:https://bykota.org/event/tai-chi-30/
LOCATION:Bykota Gym
END:VEVENT
BEGIN:VEVENT
DTSTART;TZID=America/New_York:20260331T123000
DTEND;TZID=America/New_York:20260331T133000
DTSTAMP:20260423T175423
CREATED:20260306T212521Z
LAST-MODIFIED:20260329T193510Z
UID:10002788-1774960200-1774963800@bykota.org
SUMMARY:Line Dance: Beginner / Improver
DESCRIPTION:
URL:https://bykota.org/event/line-dance-beginner-improver-13/
LOCATION:Bykota Gym
END:VEVENT
BEGIN:VEVENT
DTSTART;TZID=America/New_York:20260331T123000
DTEND;TZID=America/New_York:20260331T140000
DTSTAMP:20260423T175423
CREATED:20260306T212520Z
LAST-MODIFIED:20260329T193510Z
UID:10002787-1774960200-1774965600@bykota.org
SUMMARY:Wordsmith Writing Club
DESCRIPTION:This weekly meeting is to help and encourage ourmembers to develop their passion for writing. This isnot a class. This is a safe place to read aloud yourfiction\, non-fiction\, memoirs\, essays\, and poetry. Doyou have a lot on your mind? Write it down and join uson Tuesdays! Free; Drop in.
URL:https://bykota.org/event/wordsmith-writing-club-36/
LOCATION:Bykota 112
END:VEVENT
BEGIN:VEVENT
DTSTART;TZID=America/New_York:20260331T130000
DTEND;TZID=America/New_York:20260331T150000
DTSTAMP:20260423T175423
CREATED:20260306T212520Z
LAST-MODIFIED:20260329T193510Z
UID:10002783-1774962000-1774969200@bykota.org
SUMMARY:Quilting
DESCRIPTION:
URL:https://bykota.org/event/quilting-34/
LOCATION:Bykota 202
END:VEVENT
BEGIN:VEVENT
DTSTART;TZID=America/New_York:20260331T134500
DTEND;TZID=America/New_York:20260331T144500
DTSTAMP:20260423T175423
CREATED:20260308T185039Z
LAST-MODIFIED:20260329T193510Z
UID:10002884-1774964700-1774968300@bykota.org
SUMMARY:Strength and Balance with Suzanne
DESCRIPTION:
URL:https://bykota.org/event/strength-and-balance-with-suzanne-36/
LOCATION:Bykota Gym
END:VEVENT
BEGIN:VEVENT
DTSTART;TZID=America/New_York:20260331T140000
DTEND;TZID=America/New_York:20260331T154500
DTSTAMP:20260423T175423
CREATED:20260306T212521Z
LAST-MODIFIED:20260329T193510Z
UID:10002789-1774965600-1774971900@bykota.org
SUMMARY:Cornhole
DESCRIPTION:
URL:https://bykota.org/event/cornhole-38/
LOCATION:Bykota Cafe
END:VEVENT
BEGIN:VEVENT
DTSTART;TZID=America/New_York:20260401T083000
DTEND;TZID=America/New_York:20260401T100000
DTSTAMP:20260423T175423
CREATED:20260306T212556Z
LAST-MODIFIED:20260329T193523Z
UID:10002802-1775032200-1775037600@bykota.org
SUMMARY:McDonough Cafe
DESCRIPTION:Enjoy the convenience of coffee\, tea\, bagels/muffins\, donuts\, orange juice and bananas. Prices vary.
URL:https://bykota.org/event/mcdonough-cafe-77/
LOCATION:Bykota Cafe
END:VEVENT
BEGIN:VEVENT
DTSTART;TZID=America/New_York:20260401T090000
DTEND;TZID=America/New_York:20260401T100000
DTSTAMP:20260423T175423
CREATED:20260308T185056Z
LAST-MODIFIED:20260329T193523Z
UID:10002886-1775034000-1775037600@bykota.org
SUMMARY:Zumba Gold
DESCRIPTION:
URL:https://bykota.org/event/zumba-gold-14/
LOCATION:Bykota Gym
END:VEVENT
BEGIN:VEVENT
DTSTART;TZID=America/New_York:20260401T090000
DTEND;TZID=America/New_York:20260401T120000
DTSTAMP:20260423T175423
CREATED:20260306T212538Z
LAST-MODIFIED:20260329T193523Z
UID:10002791-1775034000-1775044800@bykota.org
SUMMARY:Woodshop
DESCRIPTION:
URL:https://bykota.org/event/woodshop-184/
LOCATION:Bykota 201-203
END:VEVENT
BEGIN:VEVENT
DTSTART;TZID=America/New_York:20260401T090000
DTEND;TZID=America/New_York:20260401T160000
DTSTAMP:20260423T175423
CREATED:20260306T212538Z
LAST-MODIFIED:20260329T193523Z
UID:10002796-1775034000-1775059200@bykota.org
SUMMARY:Billiards
DESCRIPTION:
URL:https://bykota.org/event/billiards-166/
LOCATION:Bykota 100
END:VEVENT
BEGIN:VEVENT
DTSTART;TZID=America/New_York:20260401T093000
DTEND;TZID=America/New_York:20260401T113000
DTSTAMP:20260423T175423
CREATED:20260306T212538Z
LAST-MODIFIED:20260329T193523Z
UID:10002797-1775035800-1775043000@bykota.org
SUMMARY:Stained Glass Studio
DESCRIPTION:
URL:https://bykota.org/event/stained-glass-studio-33/
LOCATION:Bykota 204-206
END:VEVENT
BEGIN:VEVENT
DTSTART;TZID=America/New_York:20260401T093000
DTEND;TZID=America/New_York:20260401T120000
DTSTAMP:20260423T175423
CREATED:20260306T212556Z
LAST-MODIFIED:20260329T193523Z
UID:10002801-1775035800-1775044800@bykota.org
SUMMARY:Ping Pong
DESCRIPTION:
URL:https://bykota.org/event/ping-pong-183/
LOCATION:Bykota 102
END:VEVENT
BEGIN:VEVENT
DTSTART;TZID=America/New_York:20260401T100000
DTEND;TZID=America/New_York:20260401T110000
DTSTAMP:20260423T175423
CREATED:20260306T212538Z
LAST-MODIFIED:20260329T193523Z
UID:10002798-1775037600-1775041200@bykota.org
SUMMARY:Blood Pressure Screening / Health Education
DESCRIPTION:Regular monitoring can help with blood pressure control\, reduce the risk of cardiovascular events like strokes and heart attacks\, and cognitive impairment/dementia.  Join Rebecca Cohen\, R.N. for a BP check and then learn about various health-related topics.  Free; No registration.
URL:https://bykota.org/event/blood-pressure-screening-health-education-10/
LOCATION:Bykota Cafe
END:VEVENT
BEGIN:VEVENT
DTSTART;TZID=America/New_York:20260401T100000
DTEND;TZID=America/New_York:20260401T110000
DTSTAMP:20260423T175423
CREATED:20260308T185039Z
LAST-MODIFIED:20260329T193523Z
UID:10002885-1775037600-1775041200@bykota.org
SUMMARY:Enhance Fitness
DESCRIPTION:
URL:https://bykota.org/event/enhance-fitness-90/
LOCATION:Bykota Gym
END:VEVENT
BEGIN:VEVENT
DTSTART;TZID=America/New_York:20260401T100000
DTEND;TZID=America/New_York:20260401T120000
DTSTAMP:20260423T175423
CREATED:20260306T212556Z
LAST-MODIFIED:20260329T193523Z
UID:10002800-1775037600-1775044800@bykota.org
SUMMARY:Sculpture
DESCRIPTION:
URL:https://bykota.org/event/sculpture-33/
LOCATION:Bykota 204-206
END:VEVENT
BEGIN:VEVENT
DTSTART;TZID=America/New_York:20260401T100000
DTEND;TZID=America/New_York:20260401T140000
DTSTAMP:20260423T175423
CREATED:20260306T212538Z
LAST-MODIFIED:20260329T193523Z
UID:10002790-1775037600-1775052000@bykota.org
SUMMARY:Gift Shop
DESCRIPTION:Buy unique items\, jewelry\, crafts\, seasonal items and snacks.
URL:https://bykota.org/event/gift-shop-128/
LOCATION:Bykota Gift Shop
END:VEVENT
BEGIN:VEVENT
DTSTART;TZID=America/New_York:20260401T110000
DTEND;TZID=America/New_York:20260401T114500
DTSTAMP:20260423T175423
CREATED:20260306T212538Z
LAST-MODIFIED:20260329T193535Z
UID:10002792-1775041200-1775043900@bykota.org
SUMMARY:Senior Rhythms
DESCRIPTION:
URL:https://bykota.org/event/senior-rhythms-89/
LOCATION:Bykota 208-210
END:VEVENT
BEGIN:VEVENT
DTSTART;TZID=America/New_York:20260401T110000
DTEND;TZID=America/New_York:20260401T130000
DTSTAMP:20260423T175423
CREATED:20260306T212538Z
LAST-MODIFIED:20260329T193535Z
UID:10002794-1775041200-1775048400@bykota.org
SUMMARY:Basketball
DESCRIPTION:
URL:https://bykota.org/event/basketball-109/
LOCATION:Bykota Gym
END:VEVENT
BEGIN:VEVENT
DTSTART;TZID=America/New_York:20260401T120000
DTEND;TZID=America/New_York:20260401T160000
DTSTAMP:20260423T175423
CREATED:20260306T212538Z
LAST-MODIFIED:20260329T193535Z
UID:10002799-1775044800-1775059200@bykota.org
SUMMARY:Clay Studio
DESCRIPTION:
URL:https://bykota.org/event/clay-studio-66/
LOCATION:Bykota 204-206
END:VEVENT
BEGIN:VEVENT
DTSTART;TZID=America/New_York:20260401T123000
DTEND;TZID=America/New_York:20260401T140000
DTSTAMP:20260423T175423
CREATED:20260306T212538Z
LAST-MODIFIED:20260329T193535Z
UID:10002793-1775046600-1775052000@bykota.org
SUMMARY:Bingo
DESCRIPTION:Enjoy some laughter and friendly competition withthis favorite pastime; every Wednesday.No registration required.
URL:https://bykota.org/event/bingo-36/
LOCATION:Bykota Cafe
END:VEVENT
BEGIN:VEVENT
DTSTART;TZID=America/New_York:20260401T123000
DTEND;TZID=America/New_York:20260401T160000
DTSTAMP:20260423T175423
CREATED:20260306T212556Z
LAST-MODIFIED:20260329T193535Z
UID:10002803-1775046600-1775059200@bykota.org
SUMMARY:Contract Bridge
DESCRIPTION:
URL:https://bykota.org/event/contract-bridge-33/
LOCATION:Bykota 202
END:VEVENT
END:VCALENDAR