BEGIN:VCALENDAR
VERSION:2.0
PRODID:-//Bykota Senior Center - ECPv6.15.20//NONSGML v1.0//EN
CALSCALE:GREGORIAN
METHOD:PUBLISH
X-WR-CALNAME:Bykota Senior Center
X-ORIGINAL-URL:https://bykota.org
X-WR-CALDESC:Events for Bykota Senior Center
REFRESH-INTERVAL;VALUE=DURATION:PT1H
X-Robots-Tag:noindex
X-PUBLISHED-TTL:PT1H
BEGIN:VTIMEZONE
TZID:America/New_York
BEGIN:DAYLIGHT
TZOFFSETFROM:-0500
TZOFFSETTO:-0400
TZNAME:EDT
DTSTART:20250309T070000
END:DAYLIGHT
BEGIN:STANDARD
TZOFFSETFROM:-0400
TZOFFSETTO:-0500
TZNAME:EST
DTSTART:20251102T060000
END:STANDARD
BEGIN:DAYLIGHT
TZOFFSETFROM:-0500
TZOFFSETTO:-0400
TZNAME:EDT
DTSTART:20260308T070000
END:DAYLIGHT
BEGIN:STANDARD
TZOFFSETFROM:-0400
TZOFFSETTO:-0500
TZNAME:EST
DTSTART:20261101T060000
END:STANDARD
BEGIN:DAYLIGHT
TZOFFSETFROM:-0500
TZOFFSETTO:-0400
TZNAME:EDT
DTSTART:20270314T070000
END:DAYLIGHT
BEGIN:STANDARD
TZOFFSETFROM:-0400
TZOFFSETTO:-0500
TZNAME:EST
DTSTART:20271107T060000
END:STANDARD
END:VTIMEZONE
BEGIN:VEVENT
DTSTART;VALUE=DATE:20260806
DTEND;VALUE=DATE:20260807
DTSTAMP:20260424T084048
CREATED:20251126T203335Z
LAST-MODIFIED:20260423T160903Z
UID:10001679-1785974400-1786060799@bykota.org
SUMMARY:Suicide Bridge Restaurant Crab Feast and Choptank River Cruise
DESCRIPTION:Get ready for an unforgettable day trip with Bykota. Join us on Thursday\, August 6\, 2026\, for a journey to the Eastern Shore to the legendary Suicide Bridge Restaurant. \nThis fantastic excursion includes a delicious family-style crab feast and scenic paddlewheel cruise on the Choptank River. \n\nKey Trip Details\n\nCost: $160.00\n\nPayment Deadline: Wednesday\, July 1\, 2026 \n\n\nDeparture Location: Cromwell Bridge Park and Ride \n\n\nDeparture Time: TBD (To Be Determined) \n\n\nActivity Level: Moderate \n\n\nGroup Leaders: Penny Parker and Delores Powell \n\n\n\nContact and Registration\n  \nFor questions or to sign up\, please contact the Group Leaders: \n\n\nPhone: 410-887-1691 \n\n\nEmail: TravelwithBykota@gmail.com \n\n\nBook your spot today for a taste of Maryland’s finest seafood and a relaxing river cruise.
URL:https://bykota.org/event/suicide-bridge-restaurant-crab-feast-and-choptank-river-cruise/
CATEGORIES:Day Trips,Travel
ATTACH;FMTTYPE=image/jpeg:https://bykota.org/wp-content/uploads/2025/11/Paddlewheel.jpg
END:VEVENT
BEGIN:VEVENT
DTSTART;VALUE=DATE:20260921
DTEND;VALUE=DATE:20260926
DTSTAMP:20260424T084048
CREATED:20251114T173104Z
LAST-MODIFIED:20251114T173628Z
UID:10001608-1789948800-1790380799@bykota.org
SUMMARY:New Hampshire and the White Mountains
DESCRIPTION:Explore the beauty and history of New Hampshire on this 5-day\, 4-night escape!\nRelax with round-trip motorcoach transportation and 4 nights’ lodging. Your journey includes 9 meals (4 breakfasts\, 1 lunch\, 4 dinners) and an exclusive Diamond Tours dinner party with entertainment. \nTrip Highlights\n\nLoon Mountain: Experience a 1.3-mile scenic gondola ride to the summit of Loon Peak for breathtaking views.\nClark’s Trading Post: Enjoy a 2.5-mile train ride and a famous live bear show.\nCruises & Tours: Take a narrated scenic cruise on beautiful Lake Sunapee and a narrated trolley tour of historic Wolfeboro.\nHistory: Immerse yourself in the past at the Wright World War II Museum\, featuring over 14\,000 artifacts and military vehicles.\n\nPricing & Logistics\n\nCost (Double Occupancy): $889 per person\nDeposit: $200\nSingle Occupancy Supplement: Add $349\nFinal Payment Due: July 14\, 2026\n\nTour Leaders: Penny Parker and Delores Powell (410-887-1691) 
URL:https://bykota.org/event/new-hampshire-and-the-white-mountains/
CATEGORIES:Over-Night Travel,Travel
ATTACH;FMTTYPE=image/webp:https://bykota.org/wp-content/uploads/2025/11/NHGondolas-3.webp
END:VEVENT
BEGIN:VEVENT
DTSTART;TZID=America/New_York:20261211T074500
DTEND;TZID=America/New_York:20261211T074500
DTSTAMP:20260424T084048
CREATED:20251126T204621Z
LAST-MODIFIED:20251126T211739Z
UID:10001680-1796975100-1796975100@bykota.org
SUMMARY:American Music Theatre: Winter Wonderland
DESCRIPTION:Experience the magic of the holiday season with a special trip to the American Music Theatre in Lancaster\, PA\, on Thursday\, December 11th. Our bus departs at 7:45 am for an unforgettable day that includes the spectacular original Christmas show\, “Winter Wonderland\,” a holiday experience packed with the nostalgia found in hometowns across America during the holiday season.   After the performance\, you’ll enjoy a delicious traditional smorgasbord dinner at the renowned Miller’s Lancaster\, complete with a wide array of appetizers\, entrees\, and bakery-fresh desserts. The bus will return at 6:00 pm. The cost is $145 per person\, and the deadline to register is October 29\, 2026. \n  \n 
URL:https://bykota.org/event/american-music-theatre-winter-wonderland/
CATEGORIES:Day Trips
ATTACH;FMTTYPE=image/jpeg:https://bykota.org/wp-content/uploads/2025/11/AMT2026-1.jpg
END:VEVENT
END:VCALENDAR