BEGIN:VCALENDAR
VERSION:2.0
PRODID:-//Bykota Senior Center - ECPv6.15.20//NONSGML v1.0//EN
CALSCALE:GREGORIAN
METHOD:PUBLISH
X-ORIGINAL-URL:https://bykota.org
X-WR-CALDESC:Events for Bykota Senior Center
REFRESH-INTERVAL;VALUE=DURATION:PT1H
X-Robots-Tag:noindex
X-PUBLISHED-TTL:PT1H
BEGIN:VTIMEZONE
TZID:America/New_York
BEGIN:DAYLIGHT
TZOFFSETFROM:-0500
TZOFFSETTO:-0400
TZNAME:EDT
DTSTART:20250309T070000
END:DAYLIGHT
BEGIN:STANDARD
TZOFFSETFROM:-0400
TZOFFSETTO:-0500
TZNAME:EST
DTSTART:20251102T060000
END:STANDARD
BEGIN:DAYLIGHT
TZOFFSETFROM:-0500
TZOFFSETTO:-0400
TZNAME:EDT
DTSTART:20260308T070000
END:DAYLIGHT
BEGIN:STANDARD
TZOFFSETFROM:-0400
TZOFFSETTO:-0500
TZNAME:EST
DTSTART:20261101T060000
END:STANDARD
BEGIN:DAYLIGHT
TZOFFSETFROM:-0500
TZOFFSETTO:-0400
TZNAME:EDT
DTSTART:20270314T070000
END:DAYLIGHT
BEGIN:STANDARD
TZOFFSETFROM:-0400
TZOFFSETTO:-0500
TZNAME:EST
DTSTART:20271107T060000
END:STANDARD
END:VTIMEZONE
BEGIN:VEVENT
DTSTART;TZID=America/New_York:20260323T083000
DTEND;TZID=America/New_York:20260323T100000
DTSTAMP:20260423T175650
CREATED:20260227T211013Z
LAST-MODIFIED:20260322T192012Z
UID:10002699-1774254600-1774260000@bykota.org
SUMMARY:Pickleball
DESCRIPTION:
URL:https://bykota.org/event/pickleball-229/
LOCATION:Bykota Gym
END:VEVENT
BEGIN:VEVENT
DTSTART;TZID=America/New_York:20260323T083000
DTEND;TZID=America/New_York:20260323T100000
DTSTAMP:20260423T175650
CREATED:20260227T211013Z
LAST-MODIFIED:20260322T192013Z
UID:10002695-1774254600-1774260000@bykota.org
SUMMARY:McDonough Cafe
DESCRIPTION:Enjoy the convenience of coffee\, tea\, bagels/muffins\, donuts\, orange juice and bananas. Prices vary.
URL:https://bykota.org/event/mcdonough-cafe-73/
LOCATION:Bykota Cafe
END:VEVENT
BEGIN:VEVENT
DTSTART;TZID=America/New_York:20260323T090000
DTEND;TZID=America/New_York:20260323T100000
DTSTAMP:20260423T175650
CREATED:20260227T211013Z
LAST-MODIFIED:20260322T192012Z
UID:10002698-1774256400-1774260000@bykota.org
SUMMARY:Self Defense
DESCRIPTION:
URL:https://bykota.org/event/self-defense-20/
LOCATION:Bykota 208/210
END:VEVENT
BEGIN:VEVENT
DTSTART;TZID=America/New_York:20260323T090000
DTEND;TZID=America/New_York:20260323T120000
DTSTAMP:20260423T175650
CREATED:20260227T211013Z
LAST-MODIFIED:20260322T192012Z
UID:10002696-1774256400-1774267200@bykota.org
SUMMARY:Ceramics
DESCRIPTION:
URL:https://bykota.org/event/ceramics-62/
LOCATION:Bykota 204-206
END:VEVENT
BEGIN:VEVENT
DTSTART;TZID=America/New_York:20260323T090000
DTEND;TZID=America/New_York:20260323T120000
DTSTAMP:20260423T175650
CREATED:20260227T211030Z
LAST-MODIFIED:20260322T192012Z
UID:10002703-1774256400-1774267200@bykota.org
SUMMARY:Woodshop
DESCRIPTION:
URL:https://bykota.org/event/woodshop-177/
LOCATION:Bykota 201-203
END:VEVENT
BEGIN:VEVENT
DTSTART;TZID=America/New_York:20260323T090000
DTEND;TZID=America/New_York:20260323T160000
DTSTAMP:20260423T175650
CREATED:20260227T211030Z
LAST-MODIFIED:20260322T192025Z
UID:10002708-1774256400-1774281600@bykota.org
SUMMARY:Billiards
DESCRIPTION:
URL:https://bykota.org/event/billiards-159/
LOCATION:Bykota 100
END:VEVENT
BEGIN:VEVENT
DTSTART;TZID=America/New_York:20260323T093000
DTEND;TZID=America/New_York:20260323T120000
DTSTAMP:20260423T175650
CREATED:20260227T211030Z
LAST-MODIFIED:20260322T192013Z
UID:10002705-1774258200-1774267200@bykota.org
SUMMARY:Ping Pong
DESCRIPTION:
URL:https://bykota.org/event/ping-pong-176/
LOCATION:Bykota 102
END:VEVENT
BEGIN:VEVENT
DTSTART;TZID=America/New_York:20260323T100000
DTEND;TZID=America/New_York:20260323T120000
DTSTAMP:20260423T175650
CREATED:20260227T211013Z
LAST-MODIFIED:20260322T192025Z
UID:10002697-1774260000-1774267200@bykota.org
SUMMARY:Beginner's Bridge
DESCRIPTION:
URL:https://bykota.org/event/beginners-bridge-30/
LOCATION:Bykota 200-202
END:VEVENT
BEGIN:VEVENT
DTSTART;TZID=America/New_York:20260323T100000
DTEND;TZID=America/New_York:20260323T140000
DTSTAMP:20260423T175650
CREATED:20260227T211030Z
LAST-MODIFIED:20260322T192013Z
UID:10002701-1774260000-1774274400@bykota.org
SUMMARY:Gift Shop
DESCRIPTION:Buy unique items\, jewelry\, crafts\, seasonal items and snacks.
URL:https://bykota.org/event/gift-shop-121/
LOCATION:Bykota Gift Shop
END:VEVENT
BEGIN:VEVENT
DTSTART;TZID=America/New_York:20260323T103000
DTEND;TZID=America/New_York:20260323T120000
DTSTAMP:20260423T175650
CREATED:20260227T211030Z
LAST-MODIFIED:20260322T192012Z
UID:10002704-1774261800-1774267200@bykota.org
SUMMARY:Basketball
DESCRIPTION:
URL:https://bykota.org/event/basketball-105/
LOCATION:Bykota Gym
END:VEVENT
BEGIN:VEVENT
DTSTART;TZID=America/New_York:20260323T110000
DTEND;TZID=America/New_York:20260323T113000
DTSTAMP:20260423T175650
CREATED:20260308T184728Z
LAST-MODIFIED:20260322T192013Z
UID:10002862-1774263600-1774265400@bykota.org
SUMMARY:HACCP Q2: Fight BAC!
DESCRIPTION:Bacteria can be spread throughout the kitchen and get onto hands\, cutting boards\, utensils\, counter tops and food.  To fight BAC!\, always use food safety practices like washing hands and food surfaces often and thoroughly. Join our staff for this important discussion.  Eating Together and cafe volunteers are strongly encouraged to attend.
URL:https://bykota.org/event/haccp-q2-fight-bac/
LOCATION:Bykota Cafe
END:VEVENT
BEGIN:VEVENT
DTSTART;TZID=America/New_York:20260323T110000
DTEND;TZID=America/New_York:20260323T114500
DTSTAMP:20260423T175650
CREATED:20260227T211030Z
LAST-MODIFIED:20260322T192013Z
UID:10002702-1774263600-1774266300@bykota.org
SUMMARY:Senior Rhythms
DESCRIPTION:
URL:https://bykota.org/event/senior-rhythms-85/
LOCATION:Bykota 208-210
END:VEVENT
BEGIN:VEVENT
DTSTART;TZID=America/New_York:20260323T123000
DTEND;TZID=America/New_York:20260323T153000
DTSTAMP:20260423T175650
CREATED:20260227T211030Z
LAST-MODIFIED:20260306T212309Z
UID:10002706-1774269000-1774279800@bykota.org
SUMMARY:Duplicate Bridge
DESCRIPTION:
URL:https://bykota.org/event/duplicate-bridge-64/
LOCATION:Bykota 200
END:VEVENT
BEGIN:VEVENT
DTSTART;TZID=America/New_York:20260323T123000
DTEND;TZID=America/New_York:20260323T154500
DTSTAMP:20260423T175650
CREATED:20260308T184746Z
LAST-MODIFIED:20260322T192025Z
UID:10002863-1774269000-1774280700@bykota.org
SUMMARY:Duplicate Bridge
DESCRIPTION:
URL:https://bykota.org/event/duplicate-bridge-70/
LOCATION:Bykota 200
END:VEVENT
BEGIN:VEVENT
DTSTART;TZID=America/New_York:20260323T123000
DTEND;TZID=America/New_York:20260323T160000
DTSTAMP:20260423T175650
CREATED:20260227T211030Z
LAST-MODIFIED:20260322T192025Z
UID:10002700-1774269000-1774281600@bykota.org
SUMMARY:Mahjong
DESCRIPTION:
URL:https://bykota.org/event/mahjong-60/
LOCATION:Bykota 202
END:VEVENT
BEGIN:VEVENT
DTSTART;TZID=America/New_York:20260323T130000
DTEND;TZID=America/New_York:20260323T140000
DTSTAMP:20260423T175650
CREATED:20260227T211030Z
LAST-MODIFIED:20260322T192025Z
UID:10002707-1774270800-1774274400@bykota.org
SUMMARY:Basic Photography Club
DESCRIPTION:
URL:https://bykota.org/event/basic-photography-club-31/
LOCATION:Bykota 112
END:VEVENT
BEGIN:VEVENT
DTSTART;TZID=America/New_York:20260323T140000
DTEND;TZID=America/New_York:20260323T154500
DTSTAMP:20260423T175650
CREATED:20260227T211030Z
LAST-MODIFIED:20260322T192025Z
UID:10002709-1774274400-1774280700@bykota.org
SUMMARY:Pickleball
DESCRIPTION:
URL:https://bykota.org/event/pickleball-230/
LOCATION:Bykota Gym
END:VEVENT
BEGIN:VEVENT
DTSTART;TZID=America/New_York:20260324T083000
DTEND;TZID=America/New_York:20260324T100000
DTSTAMP:20260423T175650
CREATED:20260227T211048Z
LAST-MODIFIED:20260322T192025Z
UID:10002712-1774341000-1774346400@bykota.org
SUMMARY:Pickleball
DESCRIPTION:
URL:https://bykota.org/event/pickleball-231/
LOCATION:Bykota Gym
END:VEVENT
BEGIN:VEVENT
DTSTART;TZID=America/New_York:20260324T090000
DTEND;TZID=America/New_York:20260324T120000
DTSTAMP:20260423T175650
CREATED:20260227T211048Z
LAST-MODIFIED:20260322T192025Z
UID:10002715-1774342800-1774353600@bykota.org
SUMMARY:Woodshop
DESCRIPTION:
URL:https://bykota.org/event/woodshop-178/
LOCATION:Bykota 201-203
END:VEVENT
BEGIN:VEVENT
DTSTART;TZID=America/New_York:20260324T090000
DTEND;TZID=America/New_York:20260324T120000
DTSTAMP:20260423T175650
CREATED:20260227T211048Z
LAST-MODIFIED:20260322T192036Z
UID:10002710-1774342800-1774353600@bykota.org
SUMMARY:Clay Studio
DESCRIPTION:
URL:https://bykota.org/event/clay-studio-63/
LOCATION:Bykota 204-206
END:VEVENT
BEGIN:VEVENT
DTSTART;TZID=America/New_York:20260324T090000
DTEND;TZID=America/New_York:20260324T160000
DTSTAMP:20260423T175650
CREATED:20260227T211106Z
LAST-MODIFIED:20260322T192036Z
UID:10002722-1774342800-1774368000@bykota.org
SUMMARY:Billiards
DESCRIPTION:
URL:https://bykota.org/event/billiards-160/
LOCATION:Bykota 100
END:VEVENT
BEGIN:VEVENT
DTSTART;TZID=America/New_York:20260324T093000
DTEND;TZID=America/New_York:20260324T120000
DTSTAMP:20260423T175650
CREATED:20260227T211048Z
LAST-MODIFIED:20260322T192025Z
UID:10002713-1774344600-1774353600@bykota.org
SUMMARY:Ping Pong
DESCRIPTION:
URL:https://bykota.org/event/ping-pong-177/
LOCATION:Bykota 102
END:VEVENT
BEGIN:VEVENT
DTSTART;TZID=America/New_York:20260324T100000
DTEND;TZID=America/New_York:20260324T110000
DTSTAMP:20260423T175650
CREATED:20260308T184803Z
LAST-MODIFIED:20260322T192025Z
UID:10002864-1774346400-1774350000@bykota.org
SUMMARY:Tuesday Yoga
DESCRIPTION:
URL:https://bykota.org/event/tuesday-yoga-13/
LOCATION:Bykota 208 / 210
END:VEVENT
BEGIN:VEVENT
DTSTART;TZID=America/New_York:20260324T100000
DTEND;TZID=America/New_York:20260324T110000
DTSTAMP:20260423T175650
CREATED:20260308T184803Z
LAST-MODIFIED:20260322T192036Z
UID:10002865-1774346400-1774350000@bykota.org
SUMMARY:Enhance Fitness
DESCRIPTION:
URL:https://bykota.org/event/enhance-fitness-86/
LOCATION:Bykota Gym
END:VEVENT
BEGIN:VEVENT
DTSTART;TZID=America/New_York:20260324T100000
DTEND;TZID=America/New_York:20260324T120000
DTSTAMP:20260423T175650
CREATED:20260227T211048Z
LAST-MODIFIED:20260322T192036Z
UID:10002711-1774346400-1774353600@bykota.org
SUMMARY:Next Level Crocheting
DESCRIPTION:
URL:https://bykota.org/event/next-level-crocheting-31/
LOCATION:Bykota 202
END:VEVENT
BEGIN:VEVENT
DTSTART;TZID=America/New_York:20260324T100000
DTEND;TZID=America/New_York:20260324T140000
DTSTAMP:20260423T175650
CREATED:20260227T211106Z
LAST-MODIFIED:20260322T192036Z
UID:10002721-1774346400-1774360800@bykota.org
SUMMARY:Gift Shop
DESCRIPTION:Buy unique items\, jewelry\, crafts\, seasonal items and snacks.
URL:https://bykota.org/event/gift-shop-122/
LOCATION:Bykota Gift Shop
END:VEVENT
BEGIN:VEVENT
DTSTART;TZID=America/New_York:20260324T103000
DTEND;TZID=America/New_York:20260324T113000
DTSTAMP:20260423T175650
CREATED:20260227T211048Z
LAST-MODIFIED:20260322T192036Z
UID:10002714-1774348200-1774351800@bykota.org
SUMMARY:Maryland History Club
DESCRIPTION:Join this monthly group to share memories\, stories\, and events in life. Please be ready to share your findings with the group.  \nTopic: It’s Maryland Day Eve.  Let’s celebrate by dressing up in our state flag colors.  There will be games and prizes.  Don’t miss this!   \nFree; No registration required
URL:https://bykota.org/event/maryland-history-club-7/
LOCATION:Bykota 112
END:VEVENT
BEGIN:VEVENT
DTSTART;TZID=America/New_York:20260324T110000
DTEND;TZID=America/New_York:20260324T120000
DTSTAMP:20260423T175650
CREATED:20260308T184803Z
LAST-MODIFIED:20260322T192036Z
UID:10002866-1774350000-1774353600@bykota.org
SUMMARY:Tai Chi
DESCRIPTION:
URL:https://bykota.org/event/tai-chi-29/
LOCATION:Bykota Gym
END:VEVENT
BEGIN:VEVENT
DTSTART;TZID=America/New_York:20260324T123000
DTEND;TZID=America/New_York:20260324T133000
DTSTAMP:20260423T175650
CREATED:20260227T211048Z
LAST-MODIFIED:20260322T192036Z
UID:10002716-1774355400-1774359000@bykota.org
SUMMARY:Line Dance: Beginner / Improver
DESCRIPTION:
URL:https://bykota.org/event/line-dance-beginner-improver-12/
LOCATION:Bykota Gym
END:VEVENT
BEGIN:VEVENT
DTSTART;TZID=America/New_York:20260324T123000
DTEND;TZID=America/New_York:20260324T140000
DTSTAMP:20260423T175650
CREATED:20260227T211048Z
LAST-MODIFIED:20260322T192047Z
UID:10002719-1774355400-1774360800@bykota.org
SUMMARY:Wordsmith Writing Club
DESCRIPTION:This weekly meeting is to help and encourage ourmembers to develop their passion for writing. This isnot a class. This is a safe place to read aloud yourfiction\, non-fiction\, memoirs\, essays\, and poetry. Doyou have a lot on your mind? Write it down and join uson Tuesdays! Free; Drop in.
URL:https://bykota.org/event/wordsmith-writing-club-35/
LOCATION:Bykota 112
END:VEVENT
END:VCALENDAR