BEGIN:VCALENDAR
VERSION:2.0
PRODID:-//Bykota Senior Center - ECPv6.15.20//NONSGML v1.0//EN
CALSCALE:GREGORIAN
METHOD:PUBLISH
X-WR-CALNAME:Bykota Senior Center
X-ORIGINAL-URL:https://bykota.org
X-WR-CALDESC:Events for Bykota Senior Center
REFRESH-INTERVAL;VALUE=DURATION:PT1H
X-Robots-Tag:noindex
X-PUBLISHED-TTL:PT1H
BEGIN:VTIMEZONE
TZID:America/New_York
BEGIN:DAYLIGHT
TZOFFSETFROM:-0500
TZOFFSETTO:-0400
TZNAME:EDT
DTSTART:20250309T070000
END:DAYLIGHT
BEGIN:STANDARD
TZOFFSETFROM:-0400
TZOFFSETTO:-0500
TZNAME:EST
DTSTART:20251102T060000
END:STANDARD
BEGIN:DAYLIGHT
TZOFFSETFROM:-0500
TZOFFSETTO:-0400
TZNAME:EDT
DTSTART:20260308T070000
END:DAYLIGHT
BEGIN:STANDARD
TZOFFSETFROM:-0400
TZOFFSETTO:-0500
TZNAME:EST
DTSTART:20261101T060000
END:STANDARD
BEGIN:DAYLIGHT
TZOFFSETFROM:-0500
TZOFFSETTO:-0400
TZNAME:EDT
DTSTART:20270314T070000
END:DAYLIGHT
BEGIN:STANDARD
TZOFFSETFROM:-0400
TZOFFSETTO:-0500
TZNAME:EST
DTSTART:20271107T060000
END:STANDARD
END:VTIMEZONE
BEGIN:VEVENT
DTSTART;TZID=America/New_York:20260403T100000
DTEND;TZID=America/New_York:20260403T140000
DTSTAMP:20260423T200333
CREATED:20260306T212629Z
LAST-MODIFIED:20260329T193601Z
UID:10002825-1775210400-1775224800@bykota.org
SUMMARY:Gift Shop
DESCRIPTION:Buy unique items\, jewelry\, crafts\, seasonal items and snacks.
URL:https://bykota.org/event/gift-shop-130/
LOCATION:Bykota Gift Shop
END:VEVENT
BEGIN:VEVENT
DTSTART;TZID=America/New_York:20260403T100000
DTEND;TZID=America/New_York:20260403T110000
DTSTAMP:20260423T200333
CREATED:20260306T212629Z
LAST-MODIFIED:20260329T193601Z
UID:10002820-1775210400-1775214000@bykota.org
SUMMARY:Insights in Aging
DESCRIPTION:Engage in your aging process through this support group that discusses the changes and challenges we encounter as we age.  A therapist for Hope Health Systems\, Inc. will cover a variety of topics\, from coping\, to resilience\, to focusing on positive thoughts.  Class meets every 1st and 3rd Friday of the month.  No registration required.  
URL:https://bykota.org/event/insights-in-aging-18/
LOCATION:Bykota 112
END:VEVENT
BEGIN:VEVENT
DTSTART;TZID=America/New_York:20260403T093000
DTEND;TZID=America/New_York:20260403T123000
DTSTAMP:20260423T200333
CREATED:20260306T212629Z
LAST-MODIFIED:20260329T193601Z
UID:10002824-1775208600-1775219400@bykota.org
SUMMARY:Chicago/Duplicate Bridge
DESCRIPTION:
URL:https://bykota.org/event/chicago-duplicate-bridge-35/
LOCATION:Bykota 109
END:VEVENT
BEGIN:VEVENT
DTSTART;TZID=America/New_York:20260403T090000
DTEND;TZID=America/New_York:20260403T160000
DTSTAMP:20260423T200333
CREATED:20260306T212629Z
LAST-MODIFIED:20260329T193602Z
UID:10002822-1775206800-1775232000@bykota.org
SUMMARY:Billiards
DESCRIPTION:
URL:https://bykota.org/event/billiards-168/
LOCATION:Bykota 100
END:VEVENT
BEGIN:VEVENT
DTSTART;TZID=America/New_York:20260403T090000
DTEND;TZID=America/New_York:20260403T120000
DTSTAMP:20260423T200333
CREATED:20260306T212629Z
LAST-MODIFIED:20260329T193601Z
UID:10002826-1775206800-1775217600@bykota.org
SUMMARY:Ping Pong
DESCRIPTION:
URL:https://bykota.org/event/ping-pong-185/
LOCATION:Bykota 102
END:VEVENT
BEGIN:VEVENT
DTSTART;TZID=America/New_York:20260403T090000
DTEND;TZID=America/New_York:20260403T120000
DTSTAMP:20260423T200333
CREATED:20260306T212629Z
LAST-MODIFIED:20260329T193614Z
UID:10002823-1775206800-1775217600@bykota.org
SUMMARY:Woodshop
DESCRIPTION:
URL:https://bykota.org/event/woodshop-186/
LOCATION:Bykota 201-203
END:VEVENT
BEGIN:VEVENT
DTSTART;TZID=America/New_York:20260403T090000
DTEND;TZID=America/New_York:20260403T120000
DTSTAMP:20260423T200333
CREATED:20260306T212614Z
LAST-MODIFIED:20260329T193601Z
UID:10002816-1775206800-1775217600@bykota.org
SUMMARY:Ceramics
DESCRIPTION:
URL:https://bykota.org/event/ceramics-65/
LOCATION:Bykota 204-206
END:VEVENT
BEGIN:VEVENT
DTSTART;TZID=America/New_York:20260403T083000
DTEND;TZID=America/New_York:20260403T104500
DTSTAMP:20260423T200333
CREATED:20260306T212614Z
LAST-MODIFIED:20260329T193614Z
UID:10002817-1775205000-1775213100@bykota.org
SUMMARY:Pickleball
DESCRIPTION:
URL:https://bykota.org/event/pickleball-241/
LOCATION:Bykota Gym
END:VEVENT
BEGIN:VEVENT
DTSTART;TZID=America/New_York:20260403T083000
DTEND;TZID=America/New_York:20260403T100000
DTSTAMP:20260423T200333
CREATED:20260306T212614Z
LAST-MODIFIED:20260329T193601Z
UID:10002815-1775205000-1775210400@bykota.org
SUMMARY:McDonough Cafe
DESCRIPTION:Enjoy the convenience of coffee\, tea\, bagels/muffins\, donuts\, orange juice and bananas. Prices vary.
URL:https://bykota.org/event/mcdonough-cafe-78/
LOCATION:Bykota Cafe
END:VEVENT
BEGIN:VEVENT
DTSTART;TZID=America/New_York:20260402T130000
DTEND;TZID=America/New_York:20260402T153000
DTSTAMP:20260423T200333
CREATED:20260306T212614Z
LAST-MODIFIED:20260329T193535Z
UID:10002813-1775134800-1775143800@bykota.org
SUMMARY:Scrabble
DESCRIPTION:
URL:https://bykota.org/event/scrabble-36/
LOCATION:Bykota 109
END:VEVENT
BEGIN:VEVENT
DTSTART;TZID=America/New_York:20260402T130000
DTEND;TZID=America/New_York:20260402T143000
DTSTAMP:20260423T200333
CREATED:20260306T212614Z
LAST-MODIFIED:20260329T193547Z
UID:10002814-1775134800-1775140200@bykota.org
SUMMARY:Spanish Club
DESCRIPTION:
URL:https://bykota.org/event/spanish-club-39/
LOCATION:Bykota 200
END:VEVENT
BEGIN:VEVENT
DTSTART;TZID=America/New_York:20260402T123000
DTEND;TZID=America/New_York:20260402T160000
DTSTAMP:20260423T200333
CREATED:20260306T212614Z
LAST-MODIFIED:20260329T193548Z
UID:10002812-1775133000-1775145600@bykota.org
SUMMARY:Mahjong
DESCRIPTION:
URL:https://bykota.org/event/mahjong-63/
LOCATION:Bykota 202
END:VEVENT
BEGIN:VEVENT
DTSTART;TZID=America/New_York:20260402T123000
DTEND;TZID=America/New_York:20260402T150000
DTSTAMP:20260423T200333
CREATED:20260306T212556Z
LAST-MODIFIED:20260329T193547Z
UID:10002809-1775133000-1775142000@bykota.org
SUMMARY:Bykota on Stage
DESCRIPTION:
URL:https://bykota.org/event/bykota-on-stage-28/
LOCATION:Gym
END:VEVENT
BEGIN:VEVENT
DTSTART;TZID=America/New_York:20260402T113000
DTEND;TZID=America/New_York:20260402T123000
DTSTAMP:20260423T200333
CREATED:20260308T185113Z
LAST-MODIFIED:20260329T193548Z
UID:10002888-1775129400-1775133000@bykota.org
SUMMARY:Enhance Fitness
DESCRIPTION:
URL:https://bykota.org/event/enhance-fitness-91/
LOCATION:Bykota Gym
END:VEVENT
BEGIN:VEVENT
DTSTART;TZID=America/New_York:20260402T103000
DTEND;TZID=America/New_York:20260402T113000
DTSTAMP:20260423T200333
CREATED:20260308T185113Z
LAST-MODIFIED:20260329T193548Z
UID:10002890-1775125800-1775129400@bykota.org
SUMMARY:Thursday Yoga
DESCRIPTION:
URL:https://bykota.org/event/thursday-yoga-14/
LOCATION:Bykota Gym
END:VEVENT
BEGIN:VEVENT
DTSTART;TZID=America/New_York:20260402T100000
DTEND;TZID=America/New_York:20260402T140000
DTSTAMP:20260423T200333
CREATED:20260306T212614Z
LAST-MODIFIED:20260329T193548Z
UID:10002810-1775124000-1775138400@bykota.org
SUMMARY:Gift Shop
DESCRIPTION:Buy unique items\, jewelry\, crafts\, seasonal items and snacks.
URL:https://bykota.org/event/gift-shop-129/
LOCATION:Bykota Gift Shop
END:VEVENT
BEGIN:VEVENT
DTSTART;TZID=America/New_York:20260402T093000
DTEND;TZID=America/New_York:20260402T123000
DTSTAMP:20260423T200333
CREATED:20260306T212556Z
LAST-MODIFIED:20260329T193601Z
UID:10002806-1775122200-1775133000@bykota.org
SUMMARY:Ping Pong
DESCRIPTION:
URL:https://bykota.org/event/ping-pong-184/
LOCATION:Bykota 102
END:VEVENT
BEGIN:VEVENT
DTSTART;TZID=America/New_York:20260402T093000
DTEND;TZID=America/New_York:20260402T120000
DTSTAMP:20260423T200333
CREATED:20260306T212556Z
LAST-MODIFIED:20260329T193548Z
UID:10002808-1775122200-1775131200@bykota.org
SUMMARY:Woodcarving
DESCRIPTION:
URL:https://bykota.org/event/woodcarving-32/
LOCATION:Bykota 204-206
END:VEVENT
BEGIN:VEVENT
DTSTART;TZID=America/New_York:20260402T093000
DTEND;TZID=America/New_York:20260402T113000
DTSTAMP:20260423T200333
CREATED:20260308T185113Z
LAST-MODIFIED:20260329T193548Z
UID:10002889-1775122200-1775129400@bykota.org
SUMMARY:Water Color
DESCRIPTION:
URL:https://bykota.org/event/water-color-24/
LOCATION:Bykota 208
END:VEVENT
BEGIN:VEVENT
DTSTART;TZID=America/New_York:20260402T090000
DTEND;TZID=America/New_York:20260402T160000
DTSTAMP:20260423T200333
CREATED:20260306T212556Z
LAST-MODIFIED:20260329T193548Z
UID:10002804-1775120400-1775145600@bykota.org
SUMMARY:Billiards
DESCRIPTION:
URL:https://bykota.org/event/billiards-167/
LOCATION:Bykota 100
END:VEVENT
BEGIN:VEVENT
DTSTART;TZID=America/New_York:20260402T090000
DTEND;TZID=America/New_York:20260402T130000
DTSTAMP:20260423T200333
CREATED:20260306T212556Z
LAST-MODIFIED:20260329T193548Z
UID:10002805-1775120400-1775134800@bykota.org
SUMMARY:Woodshop
DESCRIPTION:
URL:https://bykota.org/event/woodshop-185/
LOCATION:Bykota 201-203
END:VEVENT
BEGIN:VEVENT
DTSTART;TZID=America/New_York:20260402T090000
DTEND;TZID=America/New_York:20260402T120000
DTSTAMP:20260423T200333
CREATED:20260306T212614Z
LAST-MODIFIED:20260329T193535Z
UID:10002811-1775120400-1775131200@bykota.org
SUMMARY:Knitting & Crocheting
DESCRIPTION:
URL:https://bykota.org/event/knitting-crocheting-32/
LOCATION:Bykota 202
END:VEVENT
BEGIN:VEVENT
DTSTART;TZID=America/New_York:20260402T083000
DTEND;TZID=America/New_York:20260402T100000
DTSTAMP:20260423T200333
CREATED:20260306T212556Z
LAST-MODIFIED:20260329T193535Z
UID:10002807-1775118600-1775124000@bykota.org
SUMMARY:Pickleball
DESCRIPTION:
URL:https://bykota.org/event/pickleball-240/
LOCATION:Bykota Gym
END:VEVENT
BEGIN:VEVENT
DTSTART;TZID=America/New_York:20260401T141500
DTEND;TZID=America/New_York:20260401T161500
DTSTAMP:20260423T200333
CREATED:20260306T212538Z
LAST-MODIFIED:20260329T193535Z
UID:10002795-1775052900-1775060100@bykota.org
SUMMARY:Pickleball
DESCRIPTION:
URL:https://bykota.org/event/pickleball-239/
LOCATION:Gym
END:VEVENT
BEGIN:VEVENT
DTSTART;TZID=America/New_York:20260401T130000
DTEND;TZID=America/New_York:20260401T140000
DTSTAMP:20260423T200333
CREATED:20260308T185113Z
LAST-MODIFIED:20260329T193535Z
UID:10002887-1775048400-1775052000@bykota.org
SUMMARY:Essentrics
DESCRIPTION:
URL:https://bykota.org/event/essentrics-30/
LOCATION:Bykota Gym
END:VEVENT
BEGIN:VEVENT
DTSTART;TZID=America/New_York:20260401T123000
DTEND;TZID=America/New_York:20260401T160000
DTSTAMP:20260423T200333
CREATED:20260306T212556Z
LAST-MODIFIED:20260329T193535Z
UID:10002803-1775046600-1775059200@bykota.org
SUMMARY:Contract Bridge
DESCRIPTION:
URL:https://bykota.org/event/contract-bridge-33/
LOCATION:Bykota 202
END:VEVENT
BEGIN:VEVENT
DTSTART;TZID=America/New_York:20260401T123000
DTEND;TZID=America/New_York:20260401T140000
DTSTAMP:20260423T200333
CREATED:20260306T212538Z
LAST-MODIFIED:20260329T193535Z
UID:10002793-1775046600-1775052000@bykota.org
SUMMARY:Bingo
DESCRIPTION:Enjoy some laughter and friendly competition withthis favorite pastime; every Wednesday.No registration required.
URL:https://bykota.org/event/bingo-36/
LOCATION:Bykota Cafe
END:VEVENT
BEGIN:VEVENT
DTSTART;TZID=America/New_York:20260401T120000
DTEND;TZID=America/New_York:20260401T160000
DTSTAMP:20260423T200333
CREATED:20260306T212538Z
LAST-MODIFIED:20260329T193535Z
UID:10002799-1775044800-1775059200@bykota.org
SUMMARY:Clay Studio
DESCRIPTION:
URL:https://bykota.org/event/clay-studio-66/
LOCATION:Bykota 204-206
END:VEVENT
BEGIN:VEVENT
DTSTART;TZID=America/New_York:20260401T110000
DTEND;TZID=America/New_York:20260401T130000
DTSTAMP:20260423T200333
CREATED:20260306T212538Z
LAST-MODIFIED:20260329T193535Z
UID:10002794-1775041200-1775048400@bykota.org
SUMMARY:Basketball
DESCRIPTION:
URL:https://bykota.org/event/basketball-109/
LOCATION:Bykota Gym
END:VEVENT
BEGIN:VEVENT
DTSTART;TZID=America/New_York:20260401T110000
DTEND;TZID=America/New_York:20260401T114500
DTSTAMP:20260423T200333
CREATED:20260306T212538Z
LAST-MODIFIED:20260329T193535Z
UID:10002792-1775041200-1775043900@bykota.org
SUMMARY:Senior Rhythms
DESCRIPTION:
URL:https://bykota.org/event/senior-rhythms-89/
LOCATION:Bykota 208-210
END:VEVENT
END:VCALENDAR