BEGIN:VCALENDAR
VERSION:2.0
PRODID:-//Bykota Senior Center - ECPv6.15.20//NONSGML v1.0//EN
CALSCALE:GREGORIAN
METHOD:PUBLISH
X-ORIGINAL-URL:https://bykota.org
X-WR-CALDESC:Events for Bykota Senior Center
REFRESH-INTERVAL;VALUE=DURATION:PT1H
X-Robots-Tag:noindex
X-PUBLISHED-TTL:PT1H
BEGIN:VTIMEZONE
TZID:America/New_York
BEGIN:DAYLIGHT
TZOFFSETFROM:-0500
TZOFFSETTO:-0400
TZNAME:EDT
DTSTART:20250309T070000
END:DAYLIGHT
BEGIN:STANDARD
TZOFFSETFROM:-0400
TZOFFSETTO:-0500
TZNAME:EST
DTSTART:20251102T060000
END:STANDARD
BEGIN:DAYLIGHT
TZOFFSETFROM:-0500
TZOFFSETTO:-0400
TZNAME:EDT
DTSTART:20260308T070000
END:DAYLIGHT
BEGIN:STANDARD
TZOFFSETFROM:-0400
TZOFFSETTO:-0500
TZNAME:EST
DTSTART:20261101T060000
END:STANDARD
BEGIN:DAYLIGHT
TZOFFSETFROM:-0500
TZOFFSETTO:-0400
TZNAME:EDT
DTSTART:20270314T070000
END:DAYLIGHT
BEGIN:STANDARD
TZOFFSETFROM:-0400
TZOFFSETTO:-0500
TZNAME:EST
DTSTART:20271107T060000
END:STANDARD
END:VTIMEZONE
BEGIN:VEVENT
DTSTART;TZID=America/New_York:20260420T093000
DTEND;TZID=America/New_York:20260420T120000
DTSTAMP:20260423T175743
CREATED:20260329T194021Z
LAST-MODIFIED:20260419T202040Z
UID:10003041-1776677400-1776686400@bykota.org
SUMMARY:Ping Pong
DESCRIPTION:
URL:https://bykota.org/event/ping-pong-196/
LOCATION:Bykota 102
END:VEVENT
BEGIN:VEVENT
DTSTART;TZID=America/New_York:20260420T100000
DTEND;TZID=America/New_York:20260420T120000
DTSTAMP:20260423T175743
CREATED:20260329T194021Z
LAST-MODIFIED:20260419T202040Z
UID:10003040-1776679200-1776686400@bykota.org
SUMMARY:Beginner's Bridge
DESCRIPTION:
URL:https://bykota.org/event/beginners-bridge-34/
LOCATION:Bykota 200-202
END:VEVENT
BEGIN:VEVENT
DTSTART;TZID=America/New_York:20260420T100000
DTEND;TZID=America/New_York:20260420T140000
DTSTAMP:20260423T175743
CREATED:20260329T194039Z
LAST-MODIFIED:20260419T202029Z
UID:10003045-1776679200-1776693600@bykota.org
SUMMARY:Gift Shop
DESCRIPTION:Buy unique items\, jewelry\, crafts\, seasonal items and snacks.
URL:https://bykota.org/event/gift-shop-141/
LOCATION:Bykota Gift Shop
END:VEVENT
BEGIN:VEVENT
DTSTART;TZID=America/New_York:20260420T103000
DTEND;TZID=America/New_York:20260420T120000
DTSTAMP:20260423T175743
CREATED:20260329T194021Z
LAST-MODIFIED:20260419T202029Z
UID:10003038-1776681000-1776686400@bykota.org
SUMMARY:Basketball
DESCRIPTION:
URL:https://bykota.org/event/basketball-117/
LOCATION:Bykota Gym
END:VEVENT
BEGIN:VEVENT
DTSTART;TZID=America/New_York:20260420T110000
DTEND;TZID=America/New_York:20260420T114500
DTSTAMP:20260423T175743
CREATED:20260329T194021Z
LAST-MODIFIED:20260419T202029Z
UID:10003037-1776682800-1776685500@bykota.org
SUMMARY:Senior Rhythms
DESCRIPTION:
URL:https://bykota.org/event/senior-rhythms-97/
LOCATION:Bykota 208-210
END:VEVENT
BEGIN:VEVENT
DTSTART;TZID=America/New_York:20260420T123000
DTEND;TZID=America/New_York:20260420T154500
DTSTAMP:20260423T175743
CREATED:20260329T194039Z
LAST-MODIFIED:20260419T202029Z
UID:10003046-1776688200-1776699900@bykota.org
SUMMARY:Duplicate Bridge
DESCRIPTION:
URL:https://bykota.org/event/duplicate-bridge-76/
LOCATION:Bykota 200
END:VEVENT
BEGIN:VEVENT
DTSTART;TZID=America/New_York:20260420T123000
DTEND;TZID=America/New_York:20260420T160000
DTSTAMP:20260423T175743
CREATED:20260329T194039Z
LAST-MODIFIED:20260419T202029Z
UID:10003047-1776688200-1776700800@bykota.org
SUMMARY:Mahjong
DESCRIPTION:
URL:https://bykota.org/event/mahjong-68/
LOCATION:Bykota 202
END:VEVENT
BEGIN:VEVENT
DTSTART;TZID=America/New_York:20260420T130000
DTEND;TZID=America/New_York:20260420T140000
DTSTAMP:20260423T175743
CREATED:20260329T194039Z
LAST-MODIFIED:20260419T202029Z
UID:10003048-1776690000-1776693600@bykota.org
SUMMARY:Basic Photography Club
DESCRIPTION:
URL:https://bykota.org/event/basic-photography-club-35/
LOCATION:Bykota 112
END:VEVENT
BEGIN:VEVENT
DTSTART;TZID=America/New_York:20260420T140000
DTEND;TZID=America/New_York:20260420T154500
DTSTAMP:20260423T175743
CREATED:20260329T194021Z
LAST-MODIFIED:20260419T202029Z
UID:10003043-1776693600-1776699900@bykota.org
SUMMARY:Pickleball
DESCRIPTION:
URL:https://bykota.org/event/pickleball-258/
LOCATION:Bykota Gym
END:VEVENT
BEGIN:VEVENT
DTSTART;TZID=America/New_York:20260421T083000
DTEND;TZID=America/New_York:20260421T100000
DTSTAMP:20260423T175743
CREATED:20260329T194056Z
LAST-MODIFIED:20260420T202613Z
UID:10003056-1776760200-1776765600@bykota.org
SUMMARY:Pickleball
DESCRIPTION:
URL:https://bykota.org/event/pickleball-259/
LOCATION:Bykota Gym
END:VEVENT
BEGIN:VEVENT
DTSTART;TZID=America/New_York:20260421T090000
DTEND;TZID=America/New_York:20260421T120000
DTSTAMP:20260423T175743
CREATED:20260329T194039Z
LAST-MODIFIED:20260420T202613Z
UID:10003054-1776762000-1776772800@bykota.org
SUMMARY:Clay Studio
DESCRIPTION:
URL:https://bykota.org/event/clay-studio-71/
LOCATION:Bykota 204-206
END:VEVENT
BEGIN:VEVENT
DTSTART;TZID=America/New_York:20260421T090000
DTEND;TZID=America/New_York:20260421T120000
DTSTAMP:20260423T175743
CREATED:20260329T194039Z
LAST-MODIFIED:20260420T202614Z
UID:10003051-1776762000-1776772800@bykota.org
SUMMARY:Woodshop
DESCRIPTION:
URL:https://bykota.org/event/woodshop-198/
LOCATION:Bykota 201-203
END:VEVENT
BEGIN:VEVENT
DTSTART;TZID=America/New_York:20260421T090000
DTEND;TZID=America/New_York:20260421T160000
DTSTAMP:20260423T175743
CREATED:20260329T194057Z
LAST-MODIFIED:20260420T202628Z
UID:10003062-1776762000-1776787200@bykota.org
SUMMARY:Billiards
DESCRIPTION:
URL:https://bykota.org/event/billiards-180/
LOCATION:Bykota 100
END:VEVENT
BEGIN:VEVENT
DTSTART;TZID=America/New_York:20260421T093000
DTEND;TZID=America/New_York:20260421T120000
DTSTAMP:20260423T175743
CREATED:20260329T194039Z
LAST-MODIFIED:20260420T202613Z
UID:10003049-1776763800-1776772800@bykota.org
SUMMARY:Ping Pong
DESCRIPTION:
URL:https://bykota.org/event/ping-pong-197/
LOCATION:Bykota 102
END:VEVENT
BEGIN:VEVENT
DTSTART;TZID=America/New_York:20260421T100000
DTEND;TZID=America/New_York:20260421T110000
DTSTAMP:20260423T175743
CREATED:20260329T194039Z
LAST-MODIFIED:20260420T202628Z
UID:10003053-1776765600-1776769200@bykota.org
SUMMARY:Enhance Fitness
DESCRIPTION:
URL:https://bykota.org/event/enhance-fitness-98/
LOCATION:Bykota Gym
END:VEVENT
BEGIN:VEVENT
DTSTART;TZID=America/New_York:20260421T100000
DTEND;TZID=America/New_York:20260421T110000
DTSTAMP:20260423T175743
CREATED:20260329T194056Z
LAST-MODIFIED:20260419T202040Z
UID:10003055-1776765600-1776769200@bykota.org
SUMMARY:Tuesday Yoga
DESCRIPTION:
URL:https://bykota.org/event/tuesday-yoga-17/
LOCATION:Bykota 208 / 210
END:VEVENT
BEGIN:VEVENT
DTSTART;TZID=America/New_York:20260421T100000
DTEND;TZID=America/New_York:20260421T110000
DTSTAMP:20260423T175743
CREATED:20260420T202613Z
LAST-MODIFIED:20260420T202613Z
UID:10003336-1776765600-1776769200@bykota.org
SUMMARY:Tuesday Yoga
DESCRIPTION:
URL:https://bykota.org/event/tuesday-yoga-21/
LOCATION:Bykota 208 / 210
END:VEVENT
BEGIN:VEVENT
DTSTART;TZID=America/New_York:20260421T100000
DTEND;TZID=America/New_York:20260421T120000
DTSTAMP:20260423T175743
CREATED:20260329T194039Z
LAST-MODIFIED:20260420T202613Z
UID:10003050-1776765600-1776772800@bykota.org
SUMMARY:Executive Board Meeting
DESCRIPTION:
URL:https://bykota.org/event/executive-board-meeting-5/
LOCATION:Bykota 112
END:VEVENT
BEGIN:VEVENT
DTSTART;TZID=America/New_York:20260421T100000
DTEND;TZID=America/New_York:20260421T120000
DTSTAMP:20260423T175743
CREATED:20260329T194056Z
LAST-MODIFIED:20260420T202628Z
UID:10003057-1776765600-1776772800@bykota.org
SUMMARY:Next Level Crocheting
DESCRIPTION:
URL:https://bykota.org/event/next-level-crocheting-35/
LOCATION:Bykota 202
END:VEVENT
BEGIN:VEVENT
DTSTART;TZID=America/New_York:20260421T100000
DTEND;TZID=America/New_York:20260421T140000
DTSTAMP:20260423T175743
CREATED:20260329T194057Z
LAST-MODIFIED:20260420T202614Z
UID:10003064-1776765600-1776780000@bykota.org
SUMMARY:Gift Shop
DESCRIPTION:Buy unique items\, jewelry\, crafts\, seasonal items and snacks.
URL:https://bykota.org/event/gift-shop-142/
LOCATION:Bykota Gift Shop
END:VEVENT
BEGIN:VEVENT
DTSTART;TZID=America/New_York:20260421T110000
DTEND;TZID=America/New_York:20260421T120000
DTSTAMP:20260423T175743
CREATED:20260329T194039Z
LAST-MODIFIED:20260420T202613Z
UID:10003052-1776769200-1776772800@bykota.org
SUMMARY:Tai Chi
DESCRIPTION:
URL:https://bykota.org/event/tai-chi-33/
LOCATION:Bykota Gym
END:VEVENT
BEGIN:VEVENT
DTSTART;TZID=America/New_York:20260421T123000
DTEND;TZID=America/New_York:20260421T133000
DTSTAMP:20260423T175743
CREATED:20260329T194057Z
LAST-MODIFIED:20260420T202628Z
UID:10003060-1776774600-1776778200@bykota.org
SUMMARY:Line Dance: Beginner / Improver
DESCRIPTION:
URL:https://bykota.org/event/line-dance-beginner-improver-16/
LOCATION:Bykota Gym
END:VEVENT
BEGIN:VEVENT
DTSTART;TZID=America/New_York:20260421T123000
DTEND;TZID=America/New_York:20260421T140000
DTSTAMP:20260423T175743
CREATED:20260329T194057Z
LAST-MODIFIED:20260420T202613Z
UID:10003059-1776774600-1776780000@bykota.org
SUMMARY:Wordsmith Writing Club
DESCRIPTION:This weekly meeting is to help and encourage ourmembers to develop their passion for writing. This isnot a class. This is a safe place to read aloud yourfiction\, non-fiction\, memoirs\, essays\, and poetry. Doyou have a lot on your mind? Write it down and join uson Tuesdays! Free; Drop in.
URL:https://bykota.org/event/wordsmith-writing-club-39/
LOCATION:Bykota 112
END:VEVENT
BEGIN:VEVENT
DTSTART;TZID=America/New_York:20260421T130000
DTEND;TZID=America/New_York:20260421T150000
DTSTAMP:20260423T175743
CREATED:20260329T194057Z
LAST-MODIFIED:20260420T202614Z
UID:10003063-1776776400-1776783600@bykota.org
SUMMARY:Quilting
DESCRIPTION:
URL:https://bykota.org/event/quilting-37/
LOCATION:Bykota 202
END:VEVENT
BEGIN:VEVENT
DTSTART;TZID=America/New_York:20260421T130000
DTEND;TZID=America/New_York:20260421T150000
DTSTAMP:20260423T175743
CREATED:20260420T153328Z
LAST-MODIFIED:20260420T153451Z
UID:10003335-1776776400-1776783600@bykota.org
SUMMARY:Volunteer Forum
DESCRIPTION:Volunteers are the heart of the Bykota community. Whether you are a long-time helper or curious about getting involved for the first time\, we invite you to join us for our upcoming Volunteer Forum. \nOur goal is to continually improve the volunteer experience and welcome new faces into our vibrant community. Come enjoy light refreshments while you: \n\n\nMeet and mingle with fellow volunteers. \n\n\nGet the latest updates on Bykota happenings and volunteer opportunities. \n\n\nShare your voice by offering suggestions and feedback to help us grow. \n\n\nDiscover how you can make a difference in our community. \n\n\nWe look forward to seeing you there and working together to make Bykota even better!
URL:https://bykota.org/event/volunteer-forum/
LOCATION:Bykota Cafe
ATTACH;FMTTYPE=image/webp:https://bykota.org/wp-content/uploads/2026/04/Untitled-design.webp
END:VEVENT
BEGIN:VEVENT
DTSTART;TZID=America/New_York:20260421T134500
DTEND;TZID=America/New_York:20260421T144500
DTSTAMP:20260423T175743
CREATED:20260329T194056Z
LAST-MODIFIED:20260420T202628Z
UID:10003058-1776779100-1776782700@bykota.org
SUMMARY:Strength and Balance with Suzanne
DESCRIPTION:
URL:https://bykota.org/event/strength-and-balance-with-suzanne-39/
LOCATION:Bykota Gym
END:VEVENT
BEGIN:VEVENT
DTSTART;TZID=America/New_York:20260421T140000
DTEND;TZID=America/New_York:20260421T154500
DTSTAMP:20260423T175743
CREATED:20260329T194057Z
LAST-MODIFIED:20260420T202628Z
UID:10003061-1776780000-1776786300@bykota.org
SUMMARY:Cornhole
DESCRIPTION:
URL:https://bykota.org/event/cornhole-41/
LOCATION:Bykota Cafe
END:VEVENT
BEGIN:VEVENT
DTSTART;TZID=America/New_York:20260422T083000
DTEND;TZID=America/New_York:20260422T100000
DTSTAMP:20260423T175743
CREATED:20260329T194114Z
LAST-MODIFIED:20260420T202641Z
UID:10003068-1776846600-1776852000@bykota.org
SUMMARY:McDonough Cafe
DESCRIPTION:Enjoy the convenience of coffee\, tea\, bagels/muffins\, donuts\, orange juice and bananas. Prices vary.
URL:https://bykota.org/event/mcdonough-cafe-86/
LOCATION:Bykota Cafe
END:VEVENT
BEGIN:VEVENT
DTSTART;TZID=America/New_York:20260422T090000
DTEND;TZID=America/New_York:20260422T100000
DTSTAMP:20260423T175743
CREATED:20260329T194114Z
LAST-MODIFIED:20260420T202628Z
UID:10003071-1776848400-1776852000@bykota.org
SUMMARY:Zumba Gold
DESCRIPTION:
URL:https://bykota.org/event/zumba-gold-17/
LOCATION:Bykota Gym
END:VEVENT
BEGIN:VEVENT
DTSTART;TZID=America/New_York:20260422T090000
DTEND;TZID=America/New_York:20260422T120000
DTSTAMP:20260423T175743
CREATED:20260329T194114Z
LAST-MODIFIED:20260420T202628Z
UID:10003066-1776848400-1776859200@bykota.org
SUMMARY:Woodshop
DESCRIPTION:
URL:https://bykota.org/event/woodshop-199/
LOCATION:Bykota 201-203
END:VEVENT
END:VCALENDAR