BEGIN:VCALENDAR
VERSION:2.0
PRODID:-//Bykota Senior Center - ECPv6.15.20//NONSGML v1.0//EN
CALSCALE:GREGORIAN
METHOD:PUBLISH
X-ORIGINAL-URL:https://bykota.org
X-WR-CALDESC:Events for Bykota Senior Center
REFRESH-INTERVAL;VALUE=DURATION:PT1H
X-Robots-Tag:noindex
X-PUBLISHED-TTL:PT1H
BEGIN:VTIMEZONE
TZID:America/New_York
BEGIN:DAYLIGHT
TZOFFSETFROM:-0500
TZOFFSETTO:-0400
TZNAME:EDT
DTSTART:20250309T070000
END:DAYLIGHT
BEGIN:STANDARD
TZOFFSETFROM:-0400
TZOFFSETTO:-0500
TZNAME:EST
DTSTART:20251102T060000
END:STANDARD
BEGIN:DAYLIGHT
TZOFFSETFROM:-0500
TZOFFSETTO:-0400
TZNAME:EDT
DTSTART:20260308T070000
END:DAYLIGHT
BEGIN:STANDARD
TZOFFSETFROM:-0400
TZOFFSETTO:-0500
TZNAME:EST
DTSTART:20261101T060000
END:STANDARD
BEGIN:DAYLIGHT
TZOFFSETFROM:-0500
TZOFFSETTO:-0400
TZNAME:EDT
DTSTART:20270314T070000
END:DAYLIGHT
BEGIN:STANDARD
TZOFFSETFROM:-0400
TZOFFSETTO:-0500
TZNAME:EST
DTSTART:20271107T060000
END:STANDARD
END:VTIMEZONE
BEGIN:VEVENT
DTSTART;TZID=America/New_York:20260505T134500
DTEND;TZID=America/New_York:20260505T144500
DTSTAMP:20260423T195035
CREATED:20260412T201010Z
LAST-MODIFIED:20260423T161325Z
UID:10003192-1777988700-1777992300@bykota.org
SUMMARY:Strength and Balance with Suzanne
DESCRIPTION:
URL:https://bykota.org/event/strength-and-balance-with-suzanne-41/
LOCATION:Bykota Gym
END:VEVENT
BEGIN:VEVENT
DTSTART;TZID=America/New_York:20260505T140000
DTEND;TZID=America/New_York:20260505T154500
DTSTAMP:20260423T195035
CREATED:20260412T201010Z
LAST-MODIFIED:20260423T161326Z
UID:10003193-1777989600-1777995900@bykota.org
SUMMARY:Cornhole
DESCRIPTION:
URL:https://bykota.org/event/cornhole-44/
LOCATION:Bykota Cafe
END:VEVENT
BEGIN:VEVENT
DTSTART;TZID=America/New_York:20260506T083000
DTEND;TZID=America/New_York:20260506T100000
DTSTAMP:20260423T195035
CREATED:20260412T201044Z
LAST-MODIFIED:20260423T161342Z
UID:10003209-1778056200-1778061600@bykota.org
SUMMARY:McDonough Cafe
DESCRIPTION:Enjoy the convenience of coffee\, tea\, bagels/muffins\, donuts\, orange juice and bananas. Prices vary.
URL:https://bykota.org/event/mcdonough-cafe-91/
LOCATION:Bykota Cafe
END:VEVENT
BEGIN:VEVENT
DTSTART;TZID=America/New_York:20260506T090000
DTEND;TZID=America/New_York:20260506T100000
DTSTAMP:20260423T195035
CREATED:20260412T201044Z
LAST-MODIFIED:20260423T161342Z
UID:10003208-1778058000-1778061600@bykota.org
SUMMARY:Zumba Gold
DESCRIPTION:
URL:https://bykota.org/event/zumba-gold-19/
LOCATION:Bykota Gym
END:VEVENT
BEGIN:VEVENT
DTSTART;TZID=America/New_York:20260506T090000
DTEND;TZID=America/New_York:20260506T120000
DTSTAMP:20260423T195035
CREATED:20260412T201027Z
LAST-MODIFIED:20260423T161359Z
UID:10003206-1778058000-1778068800@bykota.org
SUMMARY:Woodshop
DESCRIPTION:
URL:https://bykota.org/event/woodshop-208/
LOCATION:Bykota 201-203
END:VEVENT
BEGIN:VEVENT
DTSTART;TZID=America/New_York:20260506T090000
DTEND;TZID=America/New_York:20260506T160000
DTSTAMP:20260423T195035
CREATED:20260412T201103Z
LAST-MODIFIED:20260423T161342Z
UID:10003218-1778058000-1778083200@bykota.org
SUMMARY:Billiards
DESCRIPTION:
URL:https://bykota.org/event/billiards-190/
LOCATION:Bykota 100
END:VEVENT
BEGIN:VEVENT
DTSTART;TZID=America/New_York:20260506T093000
DTEND;TZID=America/New_York:20260506T113000
DTSTAMP:20260423T195035
CREATED:20260412T201027Z
LAST-MODIFIED:20260423T161359Z
UID:10003203-1778059800-1778067000@bykota.org
SUMMARY:Stained Glass Studio
DESCRIPTION:
URL:https://bykota.org/event/stained-glass-studio-38/
LOCATION:Bykota 204-206
END:VEVENT
BEGIN:VEVENT
DTSTART;TZID=America/New_York:20260506T093000
DTEND;TZID=America/New_York:20260506T120000
DTSTAMP:20260423T195035
CREATED:20260412T201027Z
LAST-MODIFIED:20260423T161342Z
UID:10003205-1778059800-1778068800@bykota.org
SUMMARY:Ping Pong
DESCRIPTION:
URL:https://bykota.org/event/ping-pong-207/
LOCATION:Bykota 102
END:VEVENT
BEGIN:VEVENT
DTSTART;TZID=America/New_York:20260506T100000
DTEND;TZID=America/New_York:20260506T110000
DTSTAMP:20260423T195035
CREATED:20260412T201044Z
LAST-MODIFIED:20260423T161359Z
UID:10003207-1778061600-1778065200@bykota.org
SUMMARY:Enhance Fitness
DESCRIPTION:
URL:https://bykota.org/event/enhance-fitness-105/
LOCATION:Bykota Gym
END:VEVENT
BEGIN:VEVENT
DTSTART;TZID=America/New_York:20260506T100000
DTEND;TZID=America/New_York:20260506T110000
DTSTAMP:20260423T195035
CREATED:20260412T201044Z
LAST-MODIFIED:20260423T161342Z
UID:10003211-1778061600-1778065200@bykota.org
SUMMARY:Blood Pressure Screening / Health Education
DESCRIPTION:Regular monitoring can help with blood pressure control\, reduce the risk of cardiovascular events like strokes and heart attacks\, and cognitive impairment/dementia.  Join Rebecca Cohen\, R.N. for a BP check and then learn about various health-related topics.  Free; No registration.
URL:https://bykota.org/event/blood-pressure-screening-health-education-11/
LOCATION:Bykota Cafe
END:VEVENT
BEGIN:VEVENT
DTSTART;TZID=America/New_York:20260506T100000
DTEND;TZID=America/New_York:20260506T120000
DTSTAMP:20260423T195035
CREATED:20260412T201044Z
LAST-MODIFIED:20260423T161359Z
UID:10003212-1778061600-1778068800@bykota.org
SUMMARY:Sculpture
DESCRIPTION:
URL:https://bykota.org/event/sculpture-38/
LOCATION:Bykota 204-206
END:VEVENT
BEGIN:VEVENT
DTSTART;TZID=America/New_York:20260506T100000
DTEND;TZID=America/New_York:20260506T140000
DTSTAMP:20260423T195035
CREATED:20260412T201103Z
LAST-MODIFIED:20260423T161342Z
UID:10003219-1778061600-1778076000@bykota.org
SUMMARY:Gift Shop
DESCRIPTION:Buy unique items\, jewelry\, crafts\, seasonal items and snacks.
URL:https://bykota.org/event/gift-shop-152/
LOCATION:Bykota Gift Shop
END:VEVENT
BEGIN:VEVENT
DTSTART;TZID=America/New_York:20260506T110000
DTEND;TZID=America/New_York:20260506T114500
DTSTAMP:20260423T195035
CREATED:20260412T201044Z
LAST-MODIFIED:20260423T161359Z
UID:10003210-1778065200-1778067900@bykota.org
SUMMARY:Senior Rhythms
DESCRIPTION:
URL:https://bykota.org/event/senior-rhythms-103/
LOCATION:Bykota 208-210
END:VEVENT
BEGIN:VEVENT
DTSTART;TZID=America/New_York:20260506T110000
DTEND;TZID=America/New_York:20260506T124500
DTSTAMP:20260423T195035
CREATED:20260423T161359Z
LAST-MODIFIED:20260423T161359Z
UID:10003376-1778065200-1778071500@bykota.org
SUMMARY:Basketball
DESCRIPTION:
URL:https://bykota.org/event/basketball-134/
LOCATION:Bykota Gym
END:VEVENT
BEGIN:VEVENT
DTSTART;TZID=America/New_York:20260506T110000
DTEND;TZID=America/New_York:20260506T130000
DTSTAMP:20260423T195036
CREATED:20260412T201027Z
LAST-MODIFIED:20260419T202436Z
UID:10003204-1778065200-1778072400@bykota.org
SUMMARY:Basketball
DESCRIPTION:
URL:https://bykota.org/event/basketball-123/
LOCATION:Bykota Gym
END:VEVENT
BEGIN:VEVENT
DTSTART;TZID=America/New_York:20260506T120000
DTEND;TZID=America/New_York:20260506T160000
DTSTAMP:20260423T195036
CREATED:20260412T201103Z
LAST-MODIFIED:20260423T161342Z
UID:10003217-1778068800-1778083200@bykota.org
SUMMARY:Clay Studio
DESCRIPTION:
URL:https://bykota.org/event/clay-studio-76/
LOCATION:Bykota 204-206
END:VEVENT
BEGIN:VEVENT
DTSTART;TZID=America/New_York:20260506T123000
DTEND;TZID=America/New_York:20260506T140000
DTSTAMP:20260423T195036
CREATED:20260412T201044Z
LAST-MODIFIED:20260423T161359Z
UID:10003214-1778070600-1778076000@bykota.org
SUMMARY:Bingo
DESCRIPTION:Enjoy some laughter and friendly competition withthis favorite pastime; every Wednesday.No registration required.
URL:https://bykota.org/event/bingo-41/
LOCATION:Bykota Cafe
END:VEVENT
BEGIN:VEVENT
DTSTART;TZID=America/New_York:20260506T123000
DTEND;TZID=America/New_York:20260506T160000
DTSTAMP:20260423T195036
CREATED:20260412T201044Z
LAST-MODIFIED:20260423T161359Z
UID:10003216-1778070600-1778083200@bykota.org
SUMMARY:Contract Bridge
DESCRIPTION:
URL:https://bykota.org/event/contract-bridge-38/
LOCATION:Bykota 202
END:VEVENT
BEGIN:VEVENT
DTSTART;TZID=America/New_York:20260506T130000
DTEND;TZID=America/New_York:20260506T140000
DTSTAMP:20260423T195036
CREATED:20260412T201044Z
LAST-MODIFIED:20260419T202436Z
UID:10003213-1778072400-1778076000@bykota.org
SUMMARY:Essentrics
DESCRIPTION:
URL:https://bykota.org/event/essentrics-35/
LOCATION:Bykota Gym
END:VEVENT
BEGIN:VEVENT
DTSTART;TZID=America/New_York:20260506T130000
DTEND;TZID=America/New_York:20260506T140000
DTSTAMP:20260423T195036
CREATED:20260423T161359Z
LAST-MODIFIED:20260423T161359Z
UID:10003377-1778072400-1778076000@bykota.org
SUMMARY:Essentrics
DESCRIPTION:
URL:https://bykota.org/event/essentrics-39/
LOCATION:Bykota Gym
END:VEVENT
BEGIN:VEVENT
DTSTART;TZID=America/New_York:20260506T141500
DTEND;TZID=America/New_York:20260506T160000
DTSTAMP:20260423T195036
CREATED:20260423T161359Z
LAST-MODIFIED:20260423T161359Z
UID:10003378-1778076900-1778083200@bykota.org
SUMMARY:Pickleball
DESCRIPTION:
URL:https://bykota.org/event/pickleball-288/
LOCATION:Gym
END:VEVENT
BEGIN:VEVENT
DTSTART;TZID=America/New_York:20260506T141500
DTEND;TZID=America/New_York:20260506T161500
DTSTAMP:20260423T195036
CREATED:20260412T201044Z
LAST-MODIFIED:20260419T202419Z
UID:10003215-1778076900-1778084100@bykota.org
SUMMARY:Pickleball
DESCRIPTION:
URL:https://bykota.org/event/pickleball-272/
LOCATION:Gym
END:VEVENT
BEGIN:VEVENT
DTSTART;TZID=America/New_York:20260507T083000
DTEND;TZID=America/New_York:20260507T100000
DTSTAMP:20260423T195036
CREATED:20260412T201103Z
LAST-MODIFIED:20260423T161417Z
UID:10003222-1778142600-1778148000@bykota.org
SUMMARY:Pickleball
DESCRIPTION:
URL:https://bykota.org/event/pickleball-273/
LOCATION:Bykota Gym
END:VEVENT
BEGIN:VEVENT
DTSTART;TZID=America/New_York:20260507T090000
DTEND;TZID=America/New_York:20260507T120000
DTSTAMP:20260423T195036
CREATED:20260412T201120Z
LAST-MODIFIED:20260423T161417Z
UID:10003229-1778144400-1778155200@bykota.org
SUMMARY:Knitting & Crocheting
DESCRIPTION:
URL:https://bykota.org/event/knitting-crocheting-37/
LOCATION:Bykota 202
END:VEVENT
BEGIN:VEVENT
DTSTART;TZID=America/New_York:20260507T090000
DTEND;TZID=America/New_York:20260507T130000
DTSTAMP:20260423T195036
CREATED:20260412T201120Z
LAST-MODIFIED:20260423T161417Z
UID:10003233-1778144400-1778158800@bykota.org
SUMMARY:Woodshop
DESCRIPTION:
URL:https://bykota.org/event/woodshop-209/
LOCATION:Bykota 201-203
END:VEVENT
BEGIN:VEVENT
DTSTART;TZID=America/New_York:20260507T090000
DTEND;TZID=America/New_York:20260507T150000
DTSTAMP:20260423T195036
CREATED:20260423T160624Z
LAST-MODIFIED:20260423T160709Z
UID:10003361-1778144400-1778166000@bykota.org
SUMMARY:Spring Plant Sale Fundraiser
DESCRIPTION:Find the Perfect Gift and Support Bykota at Our Spring Plant Fundraiser! \nAre you looking for a beautiful\, living gift for a special occasion\, or a vibrant new addition to your home? Come explore our Spring Plant Fundraiser\, packed with a wide selection of stunning plants perfect for Mother’s Day\, birthdays\, or just to brighten someone’s day. \nEvery purchase directly supports Bykota and our community programs. \nPlease note the special hours for this event: \n\n\nMAIN DAY: Thursday\, May 7th | 9:00 AM – 3:00 PM \n\n\nSECOND DAY (Inventory Permitting): Friday\, May 8th | 9:00 AM – 11:00 AM \n\n\nWe highly recommend stopping by on Thursday for the best selection! We can’t wait to see you there.
URL:https://bykota.org/event/spring-plant-sale-fundraiser/
ATTACH;FMTTYPE=image/webp:https://bykota.org/wp-content/uploads/2026/04/PlantSale.webp
END:VEVENT
BEGIN:VEVENT
DTSTART;TZID=America/New_York:20260507T090000
DTEND;TZID=America/New_York:20260507T160000
DTSTAMP:20260423T195036
CREATED:20260412T201120Z
LAST-MODIFIED:20260423T161417Z
UID:10003228-1778144400-1778169600@bykota.org
SUMMARY:Billiards
DESCRIPTION:
URL:https://bykota.org/event/billiards-191/
LOCATION:Bykota 100
END:VEVENT
BEGIN:VEVENT
DTSTART;TZID=America/New_York:20260507T093000
DTEND;TZID=America/New_York:20260507T113000
DTSTAMP:20260423T195036
CREATED:20260412T201103Z
LAST-MODIFIED:20260423T161417Z
UID:10003221-1778146200-1778153400@bykota.org
SUMMARY:Water Color
DESCRIPTION:
URL:https://bykota.org/event/water-color-29/
LOCATION:Bykota 208
END:VEVENT
BEGIN:VEVENT
DTSTART;TZID=America/New_York:20260507T093000
DTEND;TZID=America/New_York:20260507T120000
DTSTAMP:20260423T195036
CREATED:20260412T201103Z
LAST-MODIFIED:20260423T161417Z
UID:10003225-1778146200-1778155200@bykota.org
SUMMARY:Woodcarving
DESCRIPTION:
URL:https://bykota.org/event/woodcarving-37/
LOCATION:Bykota 204-206
END:VEVENT
BEGIN:VEVENT
DTSTART;TZID=America/New_York:20260507T093000
DTEND;TZID=America/New_York:20260507T123000
DTSTAMP:20260423T195036
CREATED:20260412T201103Z
LAST-MODIFIED:20260423T161417Z
UID:10003224-1778146200-1778157000@bykota.org
SUMMARY:Ping Pong
DESCRIPTION:
URL:https://bykota.org/event/ping-pong-208/
LOCATION:Bykota 102
END:VEVENT
END:VCALENDAR