BEGIN:VCALENDAR
VERSION:2.0
PRODID:-//Bykota Senior Center - ECPv6.15.20//NONSGML v1.0//EN
CALSCALE:GREGORIAN
METHOD:PUBLISH
X-ORIGINAL-URL:https://bykota.org
X-WR-CALDESC:Events for Bykota Senior Center
REFRESH-INTERVAL;VALUE=DURATION:PT1H
X-Robots-Tag:noindex
X-PUBLISHED-TTL:PT1H
BEGIN:VTIMEZONE
TZID:America/New_York
BEGIN:DAYLIGHT
TZOFFSETFROM:-0500
TZOFFSETTO:-0400
TZNAME:EDT
DTSTART:20250309T070000
END:DAYLIGHT
BEGIN:STANDARD
TZOFFSETFROM:-0400
TZOFFSETTO:-0500
TZNAME:EST
DTSTART:20251102T060000
END:STANDARD
BEGIN:DAYLIGHT
TZOFFSETFROM:-0500
TZOFFSETTO:-0400
TZNAME:EDT
DTSTART:20260308T070000
END:DAYLIGHT
BEGIN:STANDARD
TZOFFSETFROM:-0400
TZOFFSETTO:-0500
TZNAME:EST
DTSTART:20261101T060000
END:STANDARD
BEGIN:DAYLIGHT
TZOFFSETFROM:-0500
TZOFFSETTO:-0400
TZNAME:EDT
DTSTART:20270314T070000
END:DAYLIGHT
BEGIN:STANDARD
TZOFFSETFROM:-0400
TZOFFSETTO:-0500
TZNAME:EST
DTSTART:20271107T060000
END:STANDARD
END:VTIMEZONE
BEGIN:VEVENT
DTSTART;TZID=America/New_York:20260518T090000
DTEND;TZID=America/New_York:20260518T120000
DTSTAMP:20260423T195031
CREATED:20260419T202751Z
LAST-MODIFIED:20260423T161729Z
UID:10003328-1779094800-1779105600@bykota.org
SUMMARY:Woodshop
DESCRIPTION:
URL:https://bykota.org/event/woodshop-216/
LOCATION:Bykota 201-203
END:VEVENT
BEGIN:VEVENT
DTSTART;TZID=America/New_York:20260518T090000
DTEND;TZID=America/New_York:20260518T160000
DTSTAMP:20260423T195031
CREATED:20260419T202751Z
LAST-MODIFIED:20260423T161746Z
UID:10003334-1779094800-1779120000@bykota.org
SUMMARY:Billiards
DESCRIPTION:
URL:https://bykota.org/event/billiards-198/
LOCATION:Bykota 100
END:VEVENT
BEGIN:VEVENT
DTSTART;TZID=America/New_York:20260518T093000
DTEND;TZID=America/New_York:20260518T120000
DTSTAMP:20260423T195031
CREATED:20260419T202751Z
LAST-MODIFIED:20260423T161729Z
UID:10003330-1779096600-1779105600@bykota.org
SUMMARY:Ping Pong
DESCRIPTION:
URL:https://bykota.org/event/ping-pong-215/
LOCATION:Bykota 102
END:VEVENT
BEGIN:VEVENT
DTSTART;TZID=America/New_York:20260518T100000
DTEND;TZID=America/New_York:20260518T120000
DTSTAMP:20260423T195031
CREATED:20260419T202733Z
LAST-MODIFIED:20260423T161729Z
UID:10003324-1779098400-1779105600@bykota.org
SUMMARY:Beginner's Bridge
DESCRIPTION:
URL:https://bykota.org/event/beginners-bridge-38/
LOCATION:Bykota 200-202
END:VEVENT
BEGIN:VEVENT
DTSTART;TZID=America/New_York:20260518T100000
DTEND;TZID=America/New_York:20260518T130000
DTSTAMP:20260423T195031
CREATED:20260423T161729Z
LAST-MODIFIED:20260423T161729Z
UID:10003396-1779098400-1779109200@bykota.org
SUMMARY:Insurance 101 Informational Table
DESCRIPTION:The Maryland Insurance Administration will be on-site with materials to help you investigate the handling or settlement of a claim on your behalf. They will also provide you with guides that may help you compare rates among insurers. This will help you better understand the coverages on your insurance policy so that you are a well-informed consumer\, and ensure that you are treated in accordance with Maryland regulations. \nDrop in.
URL:https://bykota.org/event/insurance-101-informational-table/
LOCATION:Bykota Lounge
END:VEVENT
BEGIN:VEVENT
DTSTART;TZID=America/New_York:20260518T100000
DTEND;TZID=America/New_York:20260518T140000
DTSTAMP:20260423T195031
CREATED:20260423T161746Z
LAST-MODIFIED:20260423T161746Z
UID:10003397-1779098400-1779112800@bykota.org
SUMMARY:Gift Shop
DESCRIPTION:Buy unique items\, jewelry\, crafts\, seasonal items and snacks.
URL:https://bykota.org/event/gift-shop-161/
LOCATION:Bykota Gift Shop
END:VEVENT
BEGIN:VEVENT
DTSTART;TZID=America/New_York:20260518T103000
DTEND;TZID=America/New_York:20260518T120000
DTSTAMP:20260423T195031
CREATED:20260419T202751Z
LAST-MODIFIED:20260419T202751Z
UID:10003326-1779100200-1779105600@bykota.org
SUMMARY:Basketball
DESCRIPTION:
URL:https://bykota.org/event/basketball-128/
LOCATION:Bykota Gym
END:VEVENT
BEGIN:VEVENT
DTSTART;TZID=America/New_York:20260518T103000
DTEND;TZID=America/New_York:20260518T123000
DTSTAMP:20260423T195031
CREATED:20260423T161712Z
LAST-MODIFIED:20260423T161712Z
UID:10003394-1779100200-1779107400@bykota.org
SUMMARY:Basketball
DESCRIPTION:
URL:https://bykota.org/event/basketball-137/
LOCATION:Bykota Gym
END:VEVENT
BEGIN:VEVENT
DTSTART;TZID=America/New_York:20260518T110000
DTEND;TZID=America/New_York:20260518T114500
DTSTAMP:20260423T195031
CREATED:20260419T202751Z
LAST-MODIFIED:20260423T161729Z
UID:10003331-1779102000-1779104700@bykota.org
SUMMARY:Senior Rhythms
DESCRIPTION:
URL:https://bykota.org/event/senior-rhythms-108/
LOCATION:Bykota 208-210
END:VEVENT
BEGIN:VEVENT
DTSTART;TZID=America/New_York:20260518T123000
DTEND;TZID=America/New_York:20260518T154500
DTSTAMP:20260423T195031
CREATED:20260419T202751Z
LAST-MODIFIED:20260423T161729Z
UID:10003332-1779107400-1779119100@bykota.org
SUMMARY:Duplicate Bridge
DESCRIPTION:
URL:https://bykota.org/event/duplicate-bridge-83/
LOCATION:Bykota 200
END:VEVENT
BEGIN:VEVENT
DTSTART;TZID=America/New_York:20260518T123000
DTEND;TZID=America/New_York:20260518T160000
DTSTAMP:20260423T195031
CREATED:20260419T202751Z
LAST-MODIFIED:20260423T161746Z
UID:10003333-1779107400-1779120000@bykota.org
SUMMARY:Mahjong
DESCRIPTION:
URL:https://bykota.org/event/mahjong-76/
LOCATION:Bykota 202
END:VEVENT
BEGIN:VEVENT
DTSTART;TZID=America/New_York:20260518T130000
DTEND;TZID=America/New_York:20260518T140000
DTSTAMP:20260423T195031
CREATED:20260423T161729Z
LAST-MODIFIED:20260423T161729Z
UID:10003395-1779109200-1779112800@bykota.org
SUMMARY:Basic Photography Club
DESCRIPTION:
URL:https://bykota.org/event/basic-photography-club-39/
LOCATION:Bykota 112
END:VEVENT
BEGIN:VEVENT
DTSTART;TZID=America/New_York:20260518T140000
DTEND;TZID=America/New_York:20260518T154500
DTSTAMP:20260423T195031
CREATED:20260423T161746Z
LAST-MODIFIED:20260423T161746Z
UID:10003398-1779112800-1779119100@bykota.org
SUMMARY:Pickleball
DESCRIPTION:
URL:https://bykota.org/event/pickleball-290/
LOCATION:Bykota Gym
END:VEVENT
BEGIN:VEVENT
DTSTART;TZID=America/New_York:20260519T083000
DTEND;TZID=America/New_York:20260519T100000
DTSTAMP:20260423T195031
CREATED:20260423T161746Z
LAST-MODIFIED:20260423T161746Z
UID:10003404-1779179400-1779184800@bykota.org
SUMMARY:Pickleball
DESCRIPTION:
URL:https://bykota.org/event/pickleball-291/
LOCATION:Bykota Gym
END:VEVENT
BEGIN:VEVENT
DTSTART;TZID=America/New_York:20260519T090000
DTEND;TZID=America/New_York:20260519T120000
DTSTAMP:20260423T195031
CREATED:20260423T161804Z
LAST-MODIFIED:20260423T161804Z
UID:10003409-1779181200-1779192000@bykota.org
SUMMARY:Clay Studio
DESCRIPTION:
URL:https://bykota.org/event/clay-studio-79/
LOCATION:Bykota 204-206
END:VEVENT
BEGIN:VEVENT
DTSTART;TZID=America/New_York:20260519T090000
DTEND;TZID=America/New_York:20260519T120000
DTSTAMP:20260423T195031
CREATED:20260423T161804Z
LAST-MODIFIED:20260423T161804Z
UID:10003405-1779181200-1779192000@bykota.org
SUMMARY:Woodshop
DESCRIPTION:
URL:https://bykota.org/event/woodshop-218/
LOCATION:Bykota 201-203
END:VEVENT
BEGIN:VEVENT
DTSTART;TZID=America/New_York:20260519T090000
DTEND;TZID=America/New_York:20260519T160000
DTSTAMP:20260423T195031
CREATED:20260423T161746Z
LAST-MODIFIED:20260423T161746Z
UID:10003402-1779181200-1779206400@bykota.org
SUMMARY:Billiards
DESCRIPTION:
URL:https://bykota.org/event/billiards-200/
LOCATION:Bykota 100
END:VEVENT
BEGIN:VEVENT
DTSTART;TZID=America/New_York:20260519T093000
DTEND;TZID=America/New_York:20260519T120000
DTSTAMP:20260423T195031
CREATED:20260423T161804Z
LAST-MODIFIED:20260423T161804Z
UID:10003407-1779183000-1779192000@bykota.org
SUMMARY:Ping Pong
DESCRIPTION:
URL:https://bykota.org/event/ping-pong-217/
LOCATION:Bykota 102
END:VEVENT
BEGIN:VEVENT
DTSTART;TZID=America/New_York:20260519T100000
DTEND;TZID=America/New_York:20260519T110000
DTSTAMP:20260423T195031
CREATED:20260423T161746Z
LAST-MODIFIED:20260423T161746Z
UID:10003401-1779184800-1779188400@bykota.org
SUMMARY:Tuesday Yoga
DESCRIPTION:
URL:https://bykota.org/event/tuesday-yoga-25/
LOCATION:Bykota 208 / 210
END:VEVENT
BEGIN:VEVENT
DTSTART;TZID=America/New_York:20260519T100000
DTEND;TZID=America/New_York:20260519T110000
DTSTAMP:20260423T195031
CREATED:20260423T161746Z
LAST-MODIFIED:20260423T161746Z
UID:10003403-1779184800-1779188400@bykota.org
SUMMARY:Enhance Fitness
DESCRIPTION:
URL:https://bykota.org/event/enhance-fitness-110/
LOCATION:Bykota Gym
END:VEVENT
BEGIN:VEVENT
DTSTART;TZID=America/New_York:20260519T100000
DTEND;TZID=America/New_York:20260519T120000
DTSTAMP:20260423T195031
CREATED:20260423T161804Z
LAST-MODIFIED:20260423T161804Z
UID:10003408-1779184800-1779192000@bykota.org
SUMMARY:Executive Board Meeting
DESCRIPTION:
URL:https://bykota.org/event/executive-board-meeting-6/
LOCATION:Bykota 112
END:VEVENT
BEGIN:VEVENT
DTSTART;TZID=America/New_York:20260519T100000
DTEND;TZID=America/New_York:20260519T120000
DTSTAMP:20260423T195031
CREATED:20260423T161804Z
LAST-MODIFIED:20260423T161804Z
UID:10003406-1779184800-1779192000@bykota.org
SUMMARY:Next Level Crocheting
DESCRIPTION:
URL:https://bykota.org/event/next-level-crocheting-39/
LOCATION:Bykota 202
END:VEVENT
BEGIN:VEVENT
DTSTART;TZID=America/New_York:20260519T100000
DTEND;TZID=America/New_York:20260519T140000
DTSTAMP:20260423T195031
CREATED:20260423T161746Z
LAST-MODIFIED:20260423T161746Z
UID:10003399-1779184800-1779199200@bykota.org
SUMMARY:Gift Shop
DESCRIPTION:Buy unique items\, jewelry\, crafts\, seasonal items and snacks.
URL:https://bykota.org/event/gift-shop-162/
LOCATION:Bykota Gift Shop
END:VEVENT
BEGIN:VEVENT
DTSTART;TZID=America/New_York:20260519T110000
DTEND;TZID=America/New_York:20260519T120000
DTSTAMP:20260423T195031
CREATED:20260423T161746Z
LAST-MODIFIED:20260423T161746Z
UID:10003400-1779188400-1779192000@bykota.org
SUMMARY:Tai Chi
DESCRIPTION:
URL:https://bykota.org/event/tai-chi-37/
LOCATION:Bykota Gym
END:VEVENT
BEGIN:VEVENT
DTSTART;TZID=America/New_York:20260519T123000
DTEND;TZID=America/New_York:20260519T133000
DTSTAMP:20260423T195031
CREATED:20260423T161804Z
LAST-MODIFIED:20260423T161804Z
UID:10003410-1779193800-1779197400@bykota.org
SUMMARY:Line Dance: Beginner / Improver
DESCRIPTION:
URL:https://bykota.org/event/line-dance-beginner-improver-20/
LOCATION:Bykota Gym
END:VEVENT
BEGIN:VEVENT
DTSTART;TZID=America/New_York:20260519T123000
DTEND;TZID=America/New_York:20260519T140000
DTSTAMP:20260423T195031
CREATED:20260423T161804Z
LAST-MODIFIED:20260423T161804Z
UID:10003412-1779193800-1779199200@bykota.org
SUMMARY:Wordsmith Writing Club
DESCRIPTION:This weekly meeting is to help and encourage ourmembers to develop their passion for writing. This isnot a class. This is a safe place to read aloud yourfiction\, non-fiction\, memoirs\, essays\, and poetry. Doyou have a lot on your mind? Write it down and join uson Tuesdays! Free; Drop in.
URL:https://bykota.org/event/wordsmith-writing-club-43/
LOCATION:Bykota 112
END:VEVENT
BEGIN:VEVENT
DTSTART;TZID=America/New_York:20260519T130000
DTEND;TZID=America/New_York:20260519T150000
DTSTAMP:20260423T195031
CREATED:20260423T161804Z
LAST-MODIFIED:20260423T161804Z
UID:10003414-1779195600-1779202800@bykota.org
SUMMARY:Quilting
DESCRIPTION:
URL:https://bykota.org/event/quilting-41/
LOCATION:Bykota 202
END:VEVENT
BEGIN:VEVENT
DTSTART;TZID=America/New_York:20260519T134500
DTEND;TZID=America/New_York:20260519T144500
DTSTAMP:20260423T195031
CREATED:20260423T161804Z
LAST-MODIFIED:20260423T161804Z
UID:10003413-1779198300-1779201900@bykota.org
SUMMARY:Strength and Balance with Suzanne
DESCRIPTION:
URL:https://bykota.org/event/strength-and-balance-with-suzanne-43/
LOCATION:Bykota Gym
END:VEVENT
BEGIN:VEVENT
DTSTART;TZID=America/New_York:20260519T140000
DTEND;TZID=America/New_York:20260519T154500
DTSTAMP:20260423T195031
CREATED:20260423T161804Z
LAST-MODIFIED:20260423T161804Z
UID:10003411-1779199200-1779205500@bykota.org
SUMMARY:Cornhole
DESCRIPTION:
URL:https://bykota.org/event/cornhole-46/
LOCATION:Bykota Cafe
END:VEVENT
BEGIN:VEVENT
DTSTART;TZID=America/New_York:20260520T083000
DTEND;TZID=America/New_York:20260520T100000
DTSTAMP:20260423T195031
CREATED:20260423T161822Z
LAST-MODIFIED:20260423T161822Z
UID:10003418-1779265800-1779271200@bykota.org
SUMMARY:McDonough Cafe
DESCRIPTION:Enjoy the convenience of coffee\, tea\, bagels/muffins\, donuts\, orange juice and bananas. Prices vary.
URL:https://bykota.org/event/mcdonough-cafe-98/
LOCATION:Bykota Cafe
END:VEVENT
END:VCALENDAR