BEGIN:VCALENDAR
VERSION:2.0
PRODID:-//Bykota Senior Center - ECPv6.15.20//NONSGML v1.0//EN
CALSCALE:GREGORIAN
METHOD:PUBLISH
X-ORIGINAL-URL:https://bykota.org
X-WR-CALDESC:Events for Bykota Senior Center
REFRESH-INTERVAL;VALUE=DURATION:PT1H
X-Robots-Tag:noindex
X-PUBLISHED-TTL:PT1H
BEGIN:VTIMEZONE
TZID:America/New_York
BEGIN:DAYLIGHT
TZOFFSETFROM:-0500
TZOFFSETTO:-0400
TZNAME:EDT
DTSTART:20250309T070000
END:DAYLIGHT
BEGIN:STANDARD
TZOFFSETFROM:-0400
TZOFFSETTO:-0500
TZNAME:EST
DTSTART:20251102T060000
END:STANDARD
BEGIN:DAYLIGHT
TZOFFSETFROM:-0500
TZOFFSETTO:-0400
TZNAME:EDT
DTSTART:20260308T070000
END:DAYLIGHT
BEGIN:STANDARD
TZOFFSETFROM:-0400
TZOFFSETTO:-0500
TZNAME:EST
DTSTART:20261101T060000
END:STANDARD
BEGIN:DAYLIGHT
TZOFFSETFROM:-0500
TZOFFSETTO:-0400
TZNAME:EDT
DTSTART:20270314T070000
END:DAYLIGHT
BEGIN:STANDARD
TZOFFSETFROM:-0400
TZOFFSETTO:-0500
TZNAME:EST
DTSTART:20271107T060000
END:STANDARD
END:VTIMEZONE
BEGIN:VEVENT
DTSTART;TZID=America/New_York:20260512T123000
DTEND;TZID=America/New_York:20260512T133000
DTSTAMP:20260424T093227
CREATED:20260419T202602Z
LAST-MODIFIED:20260423T161603Z
UID:10003274-1778589000-1778592600@bykota.org
SUMMARY:Line Dance: Beginner / Improver
DESCRIPTION:
URL:https://bykota.org/event/line-dance-beginner-improver-19/
LOCATION:Bykota Gym
END:VEVENT
BEGIN:VEVENT
DTSTART;TZID=America/New_York:20260512T123000
DTEND;TZID=America/New_York:20260512T140000
DTSTAMP:20260424T093227
CREATED:20260419T202621Z
LAST-MODIFIED:20260423T161545Z
UID:10003276-1778589000-1778594400@bykota.org
SUMMARY:Wordsmith Writing Club
DESCRIPTION:This weekly meeting is to help and encourage ourmembers to develop their passion for writing. This isnot a class. This is a safe place to read aloud yourfiction\, non-fiction\, memoirs\, essays\, and poetry. Doyou have a lot on your mind? Write it down and join uson Tuesdays! Free; Drop in.
URL:https://bykota.org/event/wordsmith-writing-club-42/
LOCATION:Bykota 112
END:VEVENT
BEGIN:VEVENT
DTSTART;TZID=America/New_York:20260512T130000
DTEND;TZID=America/New_York:20260512T140000
DTSTAMP:20260424T093227
CREATED:20260423T161603Z
LAST-MODIFIED:20260423T161603Z
UID:10003385-1778590800-1778594400@bykota.org
SUMMARY:Creative Card Making Workshop
DESCRIPTION:Create beautiful cards to share with your friends and family! Bykota member Betty Stadler will lead this card making workshop. $1.00 due before Thursday\, May 7th.  \nAdvance registration is required. 
URL:https://bykota.org/event/creative-card-making-workshop-5/
LOCATION:Bykota Cafe
END:VEVENT
BEGIN:VEVENT
DTSTART;TZID=America/New_York:20260512T130000
DTEND;TZID=America/New_York:20260512T150000
DTSTAMP:20260424T093227
CREATED:20260419T202621Z
LAST-MODIFIED:20260423T161545Z
UID:10003278-1778590800-1778598000@bykota.org
SUMMARY:Quilting
DESCRIPTION:
URL:https://bykota.org/event/quilting-40/
LOCATION:Bykota 202
END:VEVENT
BEGIN:VEVENT
DTSTART;TZID=America/New_York:20260512T134500
DTEND;TZID=America/New_York:20260512T144500
DTSTAMP:20260424T093227
CREATED:20260419T202621Z
LAST-MODIFIED:20260423T161545Z
UID:10003275-1778593500-1778597100@bykota.org
SUMMARY:Strength and Balance with Suzanne
DESCRIPTION:
URL:https://bykota.org/event/strength-and-balance-with-suzanne-42/
LOCATION:Bykota Gym
END:VEVENT
BEGIN:VEVENT
DTSTART;TZID=America/New_York:20260512T140000
DTEND;TZID=America/New_York:20260512T154500
DTSTAMP:20260424T093227
CREATED:20260419T202621Z
LAST-MODIFIED:20260423T161545Z
UID:10003277-1778594400-1778600700@bykota.org
SUMMARY:Cornhole
DESCRIPTION:
URL:https://bykota.org/event/cornhole-45/
LOCATION:Bykota Cafe
END:VEVENT
BEGIN:VEVENT
DTSTART;TZID=America/New_York:20260513T083000
DTEND;TZID=America/New_York:20260513T100000
DTSTAMP:20260424T093227
CREATED:20260419T202621Z
LAST-MODIFIED:20260423T161603Z
UID:10003280-1778661000-1778666400@bykota.org
SUMMARY:McDonough Cafe
DESCRIPTION:Enjoy the convenience of coffee\, tea\, bagels/muffins\, donuts\, orange juice and bananas. Prices vary.
URL:https://bykota.org/event/mcdonough-cafe-94/
LOCATION:Bykota Cafe
END:VEVENT
BEGIN:VEVENT
DTSTART;TZID=America/New_York:20260513T090000
DTEND;TZID=America/New_York:20260513T100000
DTSTAMP:20260424T093227
CREATED:20260419T202621Z
LAST-MODIFIED:20260423T161603Z
UID:10003283-1778662800-1778666400@bykota.org
SUMMARY:Zumba Gold
DESCRIPTION:
URL:https://bykota.org/event/zumba-gold-20/
LOCATION:Bykota Gym
END:VEVENT
BEGIN:VEVENT
DTSTART;TZID=America/New_York:20260513T090000
DTEND;TZID=America/New_York:20260513T120000
DTSTAMP:20260424T093227
CREATED:20260419T202639Z
LAST-MODIFIED:20260423T161603Z
UID:10003289-1778662800-1778673600@bykota.org
SUMMARY:Woodshop
DESCRIPTION:
URL:https://bykota.org/event/woodshop-213/
LOCATION:Bykota 201-203
END:VEVENT
BEGIN:VEVENT
DTSTART;TZID=America/New_York:20260513T090000
DTEND;TZID=America/New_York:20260513T160000
DTSTAMP:20260424T093227
CREATED:20260419T202639Z
LAST-MODIFIED:20260423T161603Z
UID:10003294-1778662800-1778688000@bykota.org
SUMMARY:Billiards
DESCRIPTION:
URL:https://bykota.org/event/billiards-195/
LOCATION:Bykota 100
END:VEVENT
BEGIN:VEVENT
DTSTART;TZID=America/New_York:20260513T093000
DTEND;TZID=America/New_York:20260513T113000
DTSTAMP:20260424T093227
CREATED:20260419T202621Z
LAST-MODIFIED:20260423T161603Z
UID:10003279-1778664600-1778671800@bykota.org
SUMMARY:Stained Glass Studio
DESCRIPTION:
URL:https://bykota.org/event/stained-glass-studio-39/
LOCATION:Bykota 204-206
END:VEVENT
BEGIN:VEVENT
DTSTART;TZID=America/New_York:20260513T093000
DTEND;TZID=America/New_York:20260513T120000
DTSTAMP:20260424T093227
CREATED:20260419T202639Z
LAST-MODIFIED:20260423T161620Z
UID:10003293-1778664600-1778673600@bykota.org
SUMMARY:Ping Pong
DESCRIPTION:
URL:https://bykota.org/event/ping-pong-212/
LOCATION:Bykota 102
END:VEVENT
BEGIN:VEVENT
DTSTART;TZID=America/New_York:20260513T100000
DTEND;TZID=America/New_York:20260513T110000
DTSTAMP:20260424T093227
CREATED:20260419T202639Z
LAST-MODIFIED:20260423T161603Z
UID:10003285-1778666400-1778670000@bykota.org
SUMMARY:Enhance Fitness
DESCRIPTION:
URL:https://bykota.org/event/enhance-fitness-108/
LOCATION:Bykota Gym
END:VEVENT
BEGIN:VEVENT
DTSTART;TZID=America/New_York:20260513T100000
DTEND;TZID=America/New_York:20260513T120000
DTSTAMP:20260424T093227
CREATED:20260419T202639Z
LAST-MODIFIED:20260423T161603Z
UID:10003290-1778666400-1778673600@bykota.org
SUMMARY:Sculpture
DESCRIPTION:
URL:https://bykota.org/event/sculpture-39/
LOCATION:Bykota 204-206
END:VEVENT
BEGIN:VEVENT
DTSTART;TZID=America/New_York:20260513T100000
DTEND;TZID=America/New_York:20260513T140000
DTSTAMP:20260424T093227
CREATED:20260419T202621Z
LAST-MODIFIED:20260423T161620Z
UID:10003282-1778666400-1778680800@bykota.org
SUMMARY:Gift Shop
DESCRIPTION:Buy unique items\, jewelry\, crafts\, seasonal items and snacks.
URL:https://bykota.org/event/gift-shop-157/
LOCATION:Bykota Gift Shop
END:VEVENT
BEGIN:VEVENT
DTSTART;TZID=America/New_York:20260513T110000
DTEND;TZID=America/New_York:20260513T114500
DTSTAMP:20260424T093227
CREATED:20260419T202621Z
LAST-MODIFIED:20260423T161603Z
UID:10003284-1778670000-1778672700@bykota.org
SUMMARY:Senior Rhythms
DESCRIPTION:
URL:https://bykota.org/event/senior-rhythms-106/
LOCATION:Bykota 208-210
END:VEVENT
BEGIN:VEVENT
DTSTART;TZID=America/New_York:20260513T110000
DTEND;TZID=America/New_York:20260513T124500
DTSTAMP:20260424T093227
CREATED:20260423T161620Z
LAST-MODIFIED:20260423T161620Z
UID:10003387-1778670000-1778676300@bykota.org
SUMMARY:Basketball
DESCRIPTION:
URL:https://bykota.org/event/basketball-136/
LOCATION:Bykota Gym
END:VEVENT
BEGIN:VEVENT
DTSTART;TZID=America/New_York:20260513T110000
DTEND;TZID=America/New_York:20260513T130000
DTSTAMP:20260424T093227
CREATED:20260419T202639Z
LAST-MODIFIED:20260419T202639Z
UID:10003292-1778670000-1778677200@bykota.org
SUMMARY:Basketball
DESCRIPTION:
URL:https://bykota.org/event/basketball-126/
LOCATION:Bykota Gym
END:VEVENT
BEGIN:VEVENT
DTSTART;TZID=America/New_York:20260513T120000
DTEND;TZID=America/New_York:20260513T160000
DTSTAMP:20260424T093227
CREATED:20260419T202639Z
LAST-MODIFIED:20260423T161620Z
UID:10003288-1778673600-1778688000@bykota.org
SUMMARY:Clay Studio
DESCRIPTION:
URL:https://bykota.org/event/clay-studio-78/
LOCATION:Bykota 204-206
END:VEVENT
BEGIN:VEVENT
DTSTART;TZID=America/New_York:20260513T123000
DTEND;TZID=America/New_York:20260513T140000
DTSTAMP:20260424T093227
CREATED:20260419T202639Z
LAST-MODIFIED:20260423T161620Z
UID:10003286-1778675400-1778680800@bykota.org
SUMMARY:Bingo
DESCRIPTION:Enjoy some laughter and friendly competition withthis favorite pastime; every Wednesday.No registration required.
URL:https://bykota.org/event/bingo-42/
LOCATION:Bykota Cafe
END:VEVENT
BEGIN:VEVENT
DTSTART;TZID=America/New_York:20260513T123000
DTEND;TZID=America/New_York:20260513T160000
DTSTAMP:20260424T093227
CREATED:20260419T202639Z
LAST-MODIFIED:20260423T161620Z
UID:10003291-1778675400-1778688000@bykota.org
SUMMARY:Contract Bridge
DESCRIPTION:
URL:https://bykota.org/event/contract-bridge-39/
LOCATION:Bykota 202
END:VEVENT
BEGIN:VEVENT
DTSTART;TZID=America/New_York:20260513T130000
DTEND;TZID=America/New_York:20260513T140000
DTSTAMP:20260424T093227
CREATED:20260419T202621Z
LAST-MODIFIED:20260419T202621Z
UID:10003281-1778677200-1778680800@bykota.org
SUMMARY:Essentrics
DESCRIPTION:
URL:https://bykota.org/event/essentrics-36/
LOCATION:Bykota Gym
END:VEVENT
BEGIN:VEVENT
DTSTART;TZID=America/New_York:20260513T130000
DTEND;TZID=America/New_York:20260513T140000
DTSTAMP:20260424T093227
CREATED:20260423T161620Z
LAST-MODIFIED:20260423T161620Z
UID:10003386-1778677200-1778680800@bykota.org
SUMMARY:Essentrics
DESCRIPTION:
URL:https://bykota.org/event/essentrics-40/
LOCATION:Bykota Gym
END:VEVENT
BEGIN:VEVENT
DTSTART;TZID=America/New_York:20260513T141500
DTEND;TZID=America/New_York:20260513T160000
DTSTAMP:20260424T093227
CREATED:20260423T161620Z
LAST-MODIFIED:20260423T161620Z
UID:10003388-1778681700-1778688000@bykota.org
SUMMARY:Pickleball
DESCRIPTION:
URL:https://bykota.org/event/pickleball-289/
LOCATION:Gym
END:VEVENT
BEGIN:VEVENT
DTSTART;TZID=America/New_York:20260513T141500
DTEND;TZID=America/New_York:20260513T161500
DTSTAMP:20260424T093227
CREATED:20260419T202639Z
LAST-MODIFIED:20260419T202639Z
UID:10003287-1778681700-1778688900@bykota.org
SUMMARY:Pickleball
DESCRIPTION:
URL:https://bykota.org/event/pickleball-279/
LOCATION:Gym
END:VEVENT
BEGIN:VEVENT
DTSTART;TZID=America/New_York:20260514T083000
DTEND;TZID=America/New_York:20260514T100000
DTSTAMP:20260424T093227
CREATED:20260419T202656Z
LAST-MODIFIED:20260423T161637Z
UID:10003300-1778747400-1778752800@bykota.org
SUMMARY:Pickleball
DESCRIPTION:
URL:https://bykota.org/event/pickleball-280/
LOCATION:Bykota Gym
END:VEVENT
BEGIN:VEVENT
DTSTART;TZID=America/New_York:20260514T090000
DTEND;TZID=America/New_York:20260514T120000
DTSTAMP:20260424T093227
CREATED:20260419T202656Z
LAST-MODIFIED:20260423T161620Z
UID:10003296-1778749200-1778760000@bykota.org
SUMMARY:Knitting & Crocheting
DESCRIPTION:
URL:https://bykota.org/event/knitting-crocheting-38/
LOCATION:Bykota 202
END:VEVENT
BEGIN:VEVENT
DTSTART;TZID=America/New_York:20260514T090000
DTEND;TZID=America/New_York:20260514T130000
DTSTAMP:20260424T093227
CREATED:20260419T202657Z
LAST-MODIFIED:20260423T161654Z
UID:10003304-1778749200-1778763600@bykota.org
SUMMARY:Woodshop
DESCRIPTION:
URL:https://bykota.org/event/woodshop-214/
LOCATION:Bykota 201-203
END:VEVENT
BEGIN:VEVENT
DTSTART;TZID=America/New_York:20260514T090000
DTEND;TZID=America/New_York:20260514T160000
DTSTAMP:20260424T093227
CREATED:20260419T202656Z
LAST-MODIFIED:20260423T161654Z
UID:10003299-1778749200-1778774400@bykota.org
SUMMARY:Billiards
DESCRIPTION:
URL:https://bykota.org/event/billiards-196/
LOCATION:Bykota 100
END:VEVENT
BEGIN:VEVENT
DTSTART;TZID=America/New_York:20260514T093000
DTEND;TZID=America/New_York:20260514T113000
DTSTAMP:20260424T093227
CREATED:20260419T202714Z
LAST-MODIFIED:20260423T161637Z
UID:10003306-1778751000-1778758200@bykota.org
SUMMARY:Water Color
DESCRIPTION:
URL:https://bykota.org/event/water-color-30/
LOCATION:Bykota 208
END:VEVENT
END:VCALENDAR