BEGIN:VCALENDAR
VERSION:2.0
PRODID:-//Bykota Senior Center - ECPv6.15.20//NONSGML v1.0//EN
CALSCALE:GREGORIAN
METHOD:PUBLISH
X-ORIGINAL-URL:https://bykota.org
X-WR-CALDESC:Events for Bykota Senior Center
REFRESH-INTERVAL;VALUE=DURATION:PT1H
X-Robots-Tag:noindex
X-PUBLISHED-TTL:PT1H
BEGIN:VTIMEZONE
TZID:America/New_York
BEGIN:DAYLIGHT
TZOFFSETFROM:-0500
TZOFFSETTO:-0400
TZNAME:EDT
DTSTART:20250309T070000
END:DAYLIGHT
BEGIN:STANDARD
TZOFFSETFROM:-0400
TZOFFSETTO:-0500
TZNAME:EST
DTSTART:20251102T060000
END:STANDARD
BEGIN:DAYLIGHT
TZOFFSETFROM:-0500
TZOFFSETTO:-0400
TZNAME:EDT
DTSTART:20260308T070000
END:DAYLIGHT
BEGIN:STANDARD
TZOFFSETFROM:-0400
TZOFFSETTO:-0500
TZNAME:EST
DTSTART:20261101T060000
END:STANDARD
BEGIN:DAYLIGHT
TZOFFSETFROM:-0500
TZOFFSETTO:-0400
TZNAME:EDT
DTSTART:20270314T070000
END:DAYLIGHT
BEGIN:STANDARD
TZOFFSETFROM:-0400
TZOFFSETTO:-0500
TZNAME:EST
DTSTART:20271107T060000
END:STANDARD
END:VTIMEZONE
BEGIN:VEVENT
DTSTART;TZID=America/New_York:20260507T090000
DTEND;TZID=America/New_York:20260507T150000
DTSTAMP:20260423T174153
CREATED:20260423T160624Z
LAST-MODIFIED:20260423T160709Z
UID:10003361-1778144400-1778166000@bykota.org
SUMMARY:Spring Plant Sale Fundraiser
DESCRIPTION:Find the Perfect Gift and Support Bykota at Our Spring Plant Fundraiser! \nAre you looking for a beautiful\, living gift for a special occasion\, or a vibrant new addition to your home? Come explore our Spring Plant Fundraiser\, packed with a wide selection of stunning plants perfect for Mother’s Day\, birthdays\, or just to brighten someone’s day. \nEvery purchase directly supports Bykota and our community programs. \nPlease note the special hours for this event: \n\n\nMAIN DAY: Thursday\, May 7th | 9:00 AM – 3:00 PM \n\n\nSECOND DAY (Inventory Permitting): Friday\, May 8th | 9:00 AM – 11:00 AM \n\n\nWe highly recommend stopping by on Thursday for the best selection! We can’t wait to see you there.
URL:https://bykota.org/event/spring-plant-sale-fundraiser/
ATTACH;FMTTYPE=image/webp:https://bykota.org/wp-content/uploads/2026/04/PlantSale.webp
END:VEVENT
END:VCALENDAR