BEGIN:VCALENDAR
VERSION:2.0
PRODID:-//Bykota Senior Center - ECPv6.15.20//NONSGML v1.0//EN
CALSCALE:GREGORIAN
METHOD:PUBLISH
X-WR-CALNAME:Bykota Senior Center
X-ORIGINAL-URL:https://bykota.org
X-WR-CALDESC:Events for Bykota Senior Center
REFRESH-INTERVAL;VALUE=DURATION:PT1H
X-Robots-Tag:noindex
X-PUBLISHED-TTL:PT1H
BEGIN:VTIMEZONE
TZID:America/New_York
BEGIN:DAYLIGHT
TZOFFSETFROM:-0500
TZOFFSETTO:-0400
TZNAME:EDT
DTSTART:20250309T070000
END:DAYLIGHT
BEGIN:STANDARD
TZOFFSETFROM:-0400
TZOFFSETTO:-0500
TZNAME:EST
DTSTART:20251102T060000
END:STANDARD
BEGIN:DAYLIGHT
TZOFFSETFROM:-0500
TZOFFSETTO:-0400
TZNAME:EDT
DTSTART:20260308T070000
END:DAYLIGHT
BEGIN:STANDARD
TZOFFSETFROM:-0400
TZOFFSETTO:-0500
TZNAME:EST
DTSTART:20261101T060000
END:STANDARD
BEGIN:DAYLIGHT
TZOFFSETFROM:-0500
TZOFFSETTO:-0400
TZNAME:EDT
DTSTART:20270314T070000
END:DAYLIGHT
BEGIN:STANDARD
TZOFFSETFROM:-0400
TZOFFSETTO:-0500
TZNAME:EST
DTSTART:20271107T060000
END:STANDARD
END:VTIMEZONE
BEGIN:VEVENT
DTSTART;TZID=America/New_York:20260504T083000
DTEND;TZID=America/New_York:20260504T100000
DTSTAMP:20260423T174618
CREATED:20260405T195711Z
LAST-MODIFIED:20260423T161256Z
UID:10003172-1777883400-1777888800@bykota.org
SUMMARY:McDonough Cafe
DESCRIPTION:Enjoy the convenience of coffee\, tea\, bagels/muffins\, donuts\, orange juice and bananas. Prices vary.
URL:https://bykota.org/event/mcdonough-cafe-90/
LOCATION:Bykota Cafe
END:VEVENT
BEGIN:VEVENT
DTSTART;TZID=America/New_York:20260504T083000
DTEND;TZID=America/New_York:20260504T100000
DTSTAMP:20260423T174618
CREATED:20260405T195711Z
LAST-MODIFIED:20260423T161256Z
UID:10003173-1777883400-1777888800@bykota.org
SUMMARY:Pickleball
DESCRIPTION:
URL:https://bykota.org/event/pickleball-269/
LOCATION:Bykota Gym
END:VEVENT
BEGIN:VEVENT
DTSTART;TZID=America/New_York:20260504T090000
DTEND;TZID=America/New_York:20260504T120000
DTSTAMP:20260423T174618
CREATED:20260405T195711Z
LAST-MODIFIED:20260423T161256Z
UID:10003180-1777885200-1777896000@bykota.org
SUMMARY:Ceramics
DESCRIPTION:
URL:https://bykota.org/event/ceramics-73/
LOCATION:Bykota 204-206
END:VEVENT
BEGIN:VEVENT
DTSTART;TZID=America/New_York:20260504T090000
DTEND;TZID=America/New_York:20260504T120000
DTSTAMP:20260423T174618
CREATED:20260412T200935Z
LAST-MODIFIED:20260423T161256Z
UID:10003181-1777885200-1777896000@bykota.org
SUMMARY:Woodshop
DESCRIPTION:
URL:https://bykota.org/event/woodshop-206/
LOCATION:Bykota 201-203
END:VEVENT
BEGIN:VEVENT
DTSTART;TZID=America/New_York:20260504T090000
DTEND;TZID=America/New_York:20260504T120000
DTSTAMP:20260423T174618
CREATED:20260423T154140Z
LAST-MODIFIED:20260423T154239Z
UID:10003359-1777885200-1777896000@bykota.org
SUMMARY:Law Day
DESCRIPTION:Professional Legal Preparation for Your Future \nBykota is pleased to host a special session sponsored by the Elder Law Section Council of the Maryland State Bar Association. \nJoin attorney Erin Lokhandwala for free assistance with the preparation of a Health Care Advance Directive and/or Power of Attorney. These essential documents help ensure that your personal and medical wishes are clearly defined and legally protected. \n\n\nCost: Free \n\n\nRequirements: Advance appointments are strictly required. \n\n\nTake advantage of this professional guidance to get your affairs in order. Please contact the front office to schedule your session.
URL:https://bykota.org/event/law-day/
LOCATION:Bykota 200
ATTACH;FMTTYPE=image/webp:https://bykota.org/wp-content/uploads/2026/04/LawDay.webp
END:VEVENT
BEGIN:VEVENT
DTSTART;TZID=America/New_York:20260504T090000
DTEND;TZID=America/New_York:20260504T160000
DTSTAMP:20260423T174618
CREATED:20260405T195711Z
LAST-MODIFIED:20260423T161256Z
UID:10003175-1777885200-1777910400@bykota.org
SUMMARY:Billiards
DESCRIPTION:
URL:https://bykota.org/event/billiards-188/
LOCATION:Bykota 100
END:VEVENT
BEGIN:VEVENT
DTSTART;TZID=America/New_York:20260504T093000
DTEND;TZID=America/New_York:20260504T120000
DTSTAMP:20260423T174618
CREATED:20260405T195711Z
LAST-MODIFIED:20260423T161308Z
UID:10003176-1777887000-1777896000@bykota.org
SUMMARY:Ping Pong
DESCRIPTION:
URL:https://bykota.org/event/ping-pong-205/
LOCATION:Bykota 102
END:VEVENT
BEGIN:VEVENT
DTSTART;TZID=America/New_York:20260504T100000
DTEND;TZID=America/New_York:20260504T120000
DTSTAMP:20260423T174618
CREATED:20260412T200952Z
LAST-MODIFIED:20260423T161308Z
UID:10003182-1777888800-1777896000@bykota.org
SUMMARY:Beginner's Bridge: CANCELLED FOR LAW DAY
DESCRIPTION:
URL:https://bykota.org/event/beginners-bridge-36/
LOCATION:Bykota 200-202
END:VEVENT
BEGIN:VEVENT
DTSTART;TZID=America/New_York:20260504T100000
DTEND;TZID=America/New_York:20260504T120000
DTSTAMP:20260423T174618
CREATED:20260420T202920Z
LAST-MODIFIED:20260423T161256Z
UID:10003354-1777888800-1777896000@bykota.org
SUMMARY:Painting Glass Creations with Ombudsman Allen
DESCRIPTION:Painting Glass Creations with Ombudsman Allen Discover the creative you in this step-by-step plexiglass painting workshop sponsored by the Baltimore County Ombudsman program. Create your own works of art that can be showcased in your home or given as a gift to someone. Learn about the long term care ombudsman program as well and its efforts to combine advocacy with art. Pictures of finished works will also be displayed on the ombudsman program’s second floor bulletin board.  \nAdvance sign-up is required.
URL:https://bykota.org/event/painting-glass-creations-with-ombudsman-allen/
LOCATION:Bykota 112
END:VEVENT
BEGIN:VEVENT
DTSTART;TZID=America/New_York:20260504T100000
DTEND;TZID=America/New_York:20260504T140000
DTSTAMP:20260423T174618
CREATED:20260405T195711Z
LAST-MODIFIED:20260423T161256Z
UID:10003178-1777888800-1777903200@bykota.org
SUMMARY:Gift Shop
DESCRIPTION:Buy unique items\, jewelry\, crafts\, seasonal items and snacks.
URL:https://bykota.org/event/gift-shop-150/
LOCATION:Bykota Gift Shop
END:VEVENT
BEGIN:VEVENT
DTSTART;TZID=America/New_York:20260504T103000
DTEND;TZID=America/New_York:20260504T120000
DTSTAMP:20260423T174618
CREATED:20260405T195711Z
LAST-MODIFIED:20260419T202328Z
UID:10003174-1777890600-1777896000@bykota.org
SUMMARY:Basketball
DESCRIPTION:
URL:https://bykota.org/event/basketball-122/
LOCATION:Bykota Gym
END:VEVENT
BEGIN:VEVENT
DTSTART;TZID=America/New_York:20260504T103000
DTEND;TZID=America/New_York:20260504T123000
DTSTAMP:20260423T174618
CREATED:20260420T202920Z
LAST-MODIFIED:20260423T161256Z
UID:10003353-1777890600-1777897800@bykota.org
SUMMARY:Basketball
DESCRIPTION:
URL:https://bykota.org/event/basketball-132/
LOCATION:Bykota Gym
END:VEVENT
BEGIN:VEVENT
DTSTART;TZID=America/New_York:20260504T110000
DTEND;TZID=America/New_York:20260504T114500
DTSTAMP:20260423T174618
CREATED:20260405T195711Z
LAST-MODIFIED:20260423T161256Z
UID:10003179-1777892400-1777895100@bykota.org
SUMMARY:Senior Rhythms
DESCRIPTION:
URL:https://bykota.org/event/senior-rhythms-102/
LOCATION:Bykota 208-210
END:VEVENT
BEGIN:VEVENT
DTSTART;TZID=America/New_York:20260504T123000
DTEND;TZID=America/New_York:20260504T154500
DTSTAMP:20260423T174618
CREATED:20260412T200953Z
LAST-MODIFIED:20260423T161308Z
UID:10003184-1777897800-1777909500@bykota.org
SUMMARY:Duplicate Bridge
DESCRIPTION:
URL:https://bykota.org/event/duplicate-bridge-79/
LOCATION:Bykota 200
END:VEVENT
BEGIN:VEVENT
DTSTART;TZID=America/New_York:20260504T123000
DTEND;TZID=America/New_York:20260504T160000
DTSTAMP:20260423T174618
CREATED:20260412T200953Z
LAST-MODIFIED:20260423T161308Z
UID:10003185-1777897800-1777910400@bykota.org
SUMMARY:Mahjong
DESCRIPTION:
URL:https://bykota.org/event/mahjong-72/
LOCATION:Bykota 202
END:VEVENT
BEGIN:VEVENT
DTSTART;TZID=America/New_York:20260504T130000
DTEND;TZID=America/New_York:20260504T140000
DTSTAMP:20260423T174618
CREATED:20260405T195711Z
LAST-MODIFIED:20260423T161308Z
UID:10003177-1777899600-1777903200@bykota.org
SUMMARY:Basic Photography Club
DESCRIPTION:
URL:https://bykota.org/event/basic-photography-club-37/
LOCATION:Bykota 112
END:VEVENT
BEGIN:VEVENT
DTSTART;TZID=America/New_York:20260504T140000
DTEND;TZID=America/New_York:20260504T154500
DTSTAMP:20260423T174618
CREATED:20260412T200952Z
LAST-MODIFIED:20260423T161308Z
UID:10003183-1777903200-1777909500@bykota.org
SUMMARY:Pickleball
DESCRIPTION:
URL:https://bykota.org/event/pickleball-270/
LOCATION:Bykota Gym
END:VEVENT
BEGIN:VEVENT
DTSTART;TZID=America/New_York:20260505T083000
DTEND;TZID=America/New_York:20260505T100000
DTSTAMP:20260423T174618
CREATED:20260412T201010Z
LAST-MODIFIED:20260423T161309Z
UID:10003190-1777969800-1777975200@bykota.org
SUMMARY:Pickleball
DESCRIPTION:
URL:https://bykota.org/event/pickleball-271/
LOCATION:Bykota Gym
END:VEVENT
BEGIN:VEVENT
DTSTART;TZID=America/New_York:20260505T090000
DTEND;TZID=America/New_York:20260505T120000
DTSTAMP:20260423T174618
CREATED:20260412T201010Z
LAST-MODIFIED:20260423T161325Z
UID:10003188-1777971600-1777982400@bykota.org
SUMMARY:Woodshop
DESCRIPTION:
URL:https://bykota.org/event/woodshop-207/
LOCATION:Bykota 201-203
END:VEVENT
BEGIN:VEVENT
DTSTART;TZID=America/New_York:20260505T090000
DTEND;TZID=America/New_York:20260505T120000
DTSTAMP:20260423T174618
CREATED:20260412T201027Z
LAST-MODIFIED:20260423T161325Z
UID:10003198-1777971600-1777982400@bykota.org
SUMMARY:Clay Studio
DESCRIPTION:
URL:https://bykota.org/event/clay-studio-75/
LOCATION:Bykota 204-206
END:VEVENT
BEGIN:VEVENT
DTSTART;TZID=America/New_York:20260505T090000
DTEND;TZID=America/New_York:20260505T160000
DTSTAMP:20260423T174618
CREATED:20260412T201010Z
LAST-MODIFIED:20260423T161342Z
UID:10003195-1777971600-1777996800@bykota.org
SUMMARY:Billiards
DESCRIPTION:
URL:https://bykota.org/event/billiards-189/
LOCATION:Bykota 100
END:VEVENT
BEGIN:VEVENT
DTSTART;TZID=America/New_York:20260505T093000
DTEND;TZID=America/New_York:20260505T120000
DTSTAMP:20260423T174618
CREATED:20260412T201010Z
LAST-MODIFIED:20260423T161309Z
UID:10003189-1777973400-1777982400@bykota.org
SUMMARY:Ping Pong
DESCRIPTION:
URL:https://bykota.org/event/ping-pong-206/
LOCATION:Bykota 102
END:VEVENT
BEGIN:VEVENT
DTSTART;TZID=America/New_York:20260505T100000
DTEND;TZID=America/New_York:20260505T110000
DTSTAMP:20260423T174618
CREATED:20260412T200953Z
LAST-MODIFIED:20260423T161325Z
UID:10003186-1777975200-1777978800@bykota.org
SUMMARY:Enhance Fitness
DESCRIPTION:
URL:https://bykota.org/event/enhance-fitness-104/
LOCATION:Bykota Gym
END:VEVENT
BEGIN:VEVENT
DTSTART;TZID=America/New_York:20260505T100000
DTEND;TZID=America/New_York:20260505T110000
DTSTAMP:20260423T174618
CREATED:20260412T201027Z
LAST-MODIFIED:20260420T202932Z
UID:10003197-1777975200-1777978800@bykota.org
SUMMARY:House Plant Club
DESCRIPTION:Bring your green thumb and/or your current plant issues.  This monthly group shares practical tips\, pictures of favorite plants and news of newly acquired plants.  This discussion group is for anyone who loves indoor plants and meets the first Tuesday of the month. \nThe May meeting features David Shegan\, who will speak about The Beauty of Bonsai.  Bonsai is the ancient Japanese art of growing and training miniature trees in containers.  “Bon” refers to a tray or shallow container\, while “sai” means to plant or grow. Bonsai represents horticulture\, artistry\, and philosophy combined. David will describe how he has grown Bonsai trees for over 30 years\, show slides and examples from his beautiful bonsai garden in Baltimore\, and show how you can begin to enjoy this art at home.  \nFree; No registration is required
URL:https://bykota.org/event/house-plant-club-11/
LOCATION:Bykota 109
END:VEVENT
BEGIN:VEVENT
DTSTART;TZID=America/New_York:20260505T100000
DTEND;TZID=America/New_York:20260505T110000
DTSTAMP:20260423T174618
CREATED:20260412T201027Z
LAST-MODIFIED:20260419T202345Z
UID:10003199-1777975200-1777978800@bykota.org
SUMMARY:Tuesday Yoga
DESCRIPTION:
URL:https://bykota.org/event/tuesday-yoga-19/
LOCATION:Bykota 208 / 210
END:VEVENT
BEGIN:VEVENT
DTSTART;TZID=America/New_York:20260505T100000
DTEND;TZID=America/New_York:20260505T110000
DTSTAMP:20260423T174618
CREATED:20260420T202932Z
LAST-MODIFIED:20260423T161325Z
UID:10003355-1777975200-1777978800@bykota.org
SUMMARY:Tuesday Yoga
DESCRIPTION:
URL:https://bykota.org/event/tuesday-yoga-23/
LOCATION:Bykota 208 / 210
END:VEVENT
BEGIN:VEVENT
DTSTART;TZID=America/New_York:20260505T100000
DTEND;TZID=America/New_York:20260505T110000
DTSTAMP:20260423T174618
CREATED:20260423T155351Z
LAST-MODIFIED:20260423T155609Z
UID:10003360-1777975200-1777978800@bykota.org
SUMMARY:The Beauty of Bonsai
DESCRIPTION:Discover the  Beauty of Bonsai \nThe Bykota House Plant Club invites you to a special presentation on the ancient Japanese art of Bonsai. Derived from the words bon (tray or shallow container) and sai (to plant or grow)\, Bonsai is more than just gardening—it is a unique blend of horticulture\, artistry\, and philosophy. \nWe are honored to welcome Dave Shegan\, an expert who has been cultivating Bonsai trees for over 30 years. Dave will share insights from his decades of experience\, including: \n\n\nVisual Journey: A slide show featuring stunning examples from his private bonsai garden right here in Baltimore. \n\n\nPhilosophy & Art: Learn the history and meaning behind these miniature masterpieces. \n\n\nGetting Started: Practical tips on how you can begin your own Bonsai journey at home. \n\n\nWhether you are a seasoned gardener or simply curious about this peaceful hobby\, come join us for an inspiring afternoon of beauty and learning. \n\n\nCost: Free \n\n\nRegistration: None required—just bring your curiosity!
URL:https://bykota.org/event/the-beauty-of-bonsai/
LOCATION:Bykoa 112
ATTACH;FMTTYPE=image/webp:https://bykota.org/wp-content/uploads/2026/04/Bonsai.webp
END:VEVENT
BEGIN:VEVENT
DTSTART;TZID=America/New_York:20260505T100000
DTEND;TZID=America/New_York:20260505T120000
DTSTAMP:20260423T174618
CREATED:20260412T201010Z
LAST-MODIFIED:20260423T161309Z
UID:10003187-1777975200-1777982400@bykota.org
SUMMARY:Next Level Crocheting
DESCRIPTION:
URL:https://bykota.org/event/next-level-crocheting-37/
LOCATION:Bykota 202
END:VEVENT
BEGIN:VEVENT
DTSTART;TZID=America/New_York:20260505T100000
DTEND;TZID=America/New_York:20260505T140000
DTSTAMP:20260423T174618
CREATED:20260412T201010Z
LAST-MODIFIED:20260423T161309Z
UID:10003194-1777975200-1777989600@bykota.org
SUMMARY:Gift Shop
DESCRIPTION:Buy unique items\, jewelry\, crafts\, seasonal items and snacks.
URL:https://bykota.org/event/gift-shop-151/
LOCATION:Bykota Gift Shop
END:VEVENT
BEGIN:VEVENT
DTSTART;TZID=America/New_York:20260505T110000
DTEND;TZID=America/New_York:20260505T120000
DTSTAMP:20260423T174618
CREATED:20260412T201010Z
LAST-MODIFIED:20260423T161325Z
UID:10003196-1777978800-1777982400@bykota.org
SUMMARY:Tai Chi
DESCRIPTION:
URL:https://bykota.org/event/tai-chi-35/
LOCATION:Bykota Gym
END:VEVENT
END:VCALENDAR