BEGIN:VCALENDAR
VERSION:2.0
PRODID:-//Bykota Senior Center - ECPv6.15.20//NONSGML v1.0//EN
CALSCALE:GREGORIAN
METHOD:PUBLISH
X-WR-CALNAME:Bykota Senior Center
X-ORIGINAL-URL:https://bykota.org
X-WR-CALDESC:Events for Bykota Senior Center
REFRESH-INTERVAL;VALUE=DURATION:PT1H
X-Robots-Tag:noindex
X-PUBLISHED-TTL:PT1H
BEGIN:VTIMEZONE
TZID:America/New_York
BEGIN:DAYLIGHT
TZOFFSETFROM:-0500
TZOFFSETTO:-0400
TZNAME:EDT
DTSTART:20250309T070000
END:DAYLIGHT
BEGIN:STANDARD
TZOFFSETFROM:-0400
TZOFFSETTO:-0500
TZNAME:EST
DTSTART:20251102T060000
END:STANDARD
BEGIN:DAYLIGHT
TZOFFSETFROM:-0500
TZOFFSETTO:-0400
TZNAME:EDT
DTSTART:20260308T070000
END:DAYLIGHT
BEGIN:STANDARD
TZOFFSETFROM:-0400
TZOFFSETTO:-0500
TZNAME:EST
DTSTART:20261101T060000
END:STANDARD
BEGIN:DAYLIGHT
TZOFFSETFROM:-0500
TZOFFSETTO:-0400
TZNAME:EDT
DTSTART:20270314T070000
END:DAYLIGHT
BEGIN:STANDARD
TZOFFSETFROM:-0400
TZOFFSETTO:-0500
TZNAME:EST
DTSTART:20271107T060000
END:STANDARD
END:VTIMEZONE
BEGIN:VEVENT
DTSTART;TZID=America/New_York:20260511T083000
DTEND;TZID=America/New_York:20260511T100000
DTSTAMP:20260423T174640
CREATED:20260412T201154Z
LAST-MODIFIED:20260423T161510Z
UID:10003250-1778488200-1778493600@bykota.org
SUMMARY:Pickleball
DESCRIPTION:
URL:https://bykota.org/event/pickleball-276/
LOCATION:Bykota Gym
END:VEVENT
BEGIN:VEVENT
DTSTART;TZID=America/New_York:20260511T083000
DTEND;TZID=America/New_York:20260511T100000
DTSTAMP:20260423T174640
CREATED:20260412T201155Z
LAST-MODIFIED:20260423T161510Z
UID:10003255-1778488200-1778493600@bykota.org
SUMMARY:McDonough Cafe
DESCRIPTION:Enjoy the convenience of coffee\, tea\, bagels/muffins\, donuts\, orange juice and bananas. Prices vary.
URL:https://bykota.org/event/mcdonough-cafe-93/
LOCATION:Bykota Cafe
END:VEVENT
BEGIN:VEVENT
DTSTART;TZID=America/New_York:20260511T090000
DTEND;TZID=America/New_York:20260511T120000
DTSTAMP:20260423T174640
CREATED:20260412T201155Z
LAST-MODIFIED:20260423T161510Z
UID:10003256-1778490000-1778500800@bykota.org
SUMMARY:Ceramics
DESCRIPTION:
URL:https://bykota.org/event/ceramics-75/
LOCATION:Bykota 204-206
END:VEVENT
BEGIN:VEVENT
DTSTART;TZID=America/New_York:20260511T090000
DTEND;TZID=America/New_York:20260511T120000
DTSTAMP:20260423T174640
CREATED:20260419T202527Z
LAST-MODIFIED:20260423T161510Z
UID:10003259-1778490000-1778500800@bykota.org
SUMMARY:Woodshop
DESCRIPTION:
URL:https://bykota.org/event/woodshop-211/
LOCATION:Bykota 201-203
END:VEVENT
BEGIN:VEVENT
DTSTART;TZID=America/New_York:20260511T090000
DTEND;TZID=America/New_York:20260511T160000
DTSTAMP:20260423T174640
CREATED:20260419T202527Z
LAST-MODIFIED:20260423T161528Z
UID:10003257-1778490000-1778515200@bykota.org
SUMMARY:Billiards
DESCRIPTION:
URL:https://bykota.org/event/billiards-193/
LOCATION:Bykota 100
END:VEVENT
BEGIN:VEVENT
DTSTART;TZID=America/New_York:20260511T093000
DTEND;TZID=America/New_York:20260511T110000
DTSTAMP:20260423T174640
CREATED:20260412T201155Z
LAST-MODIFIED:20260423T161510Z
UID:10003253-1778491800-1778497200@bykota.org
SUMMARY:Special Events Meeting
DESCRIPTION:We’re always looking for fun volunteers with ideas for events that will bring new members to our center and delight our existing members\, as well as for volunteeers to help make these events happen.  We meet monthly to plan events and programs.  Please submit any ideas to either our suggestion box (across from the front desk) with your name\, phone number\, and/or email address or in an email to bykotasc@baltimorecountymd.gov.
URL:https://bykota.org/event/special-events-meeting-10/
LOCATION:Bykota 112
END:VEVENT
BEGIN:VEVENT
DTSTART;TZID=America/New_York:20260511T093000
DTEND;TZID=America/New_York:20260511T120000
DTSTAMP:20260423T174640
CREATED:20260412T201155Z
LAST-MODIFIED:20260423T161528Z
UID:10003254-1778491800-1778500800@bykota.org
SUMMARY:Ping Pong
DESCRIPTION:
URL:https://bykota.org/event/ping-pong-210/
LOCATION:Bykota 102
END:VEVENT
BEGIN:VEVENT
DTSTART;TZID=America/New_York:20260511T100000
DTEND;TZID=America/New_York:20260511T120000
DTSTAMP:20260423T174640
CREATED:20260419T202527Z
LAST-MODIFIED:20260423T161510Z
UID:10003258-1778493600-1778500800@bykota.org
SUMMARY:Beginner's Bridge
DESCRIPTION:
URL:https://bykota.org/event/beginners-bridge-37/
LOCATION:Bykota 200-202
END:VEVENT
BEGIN:VEVENT
DTSTART;TZID=America/New_York:20260511T100000
DTEND;TZID=America/New_York:20260511T140000
DTSTAMP:20260423T174640
CREATED:20260412T201154Z
LAST-MODIFIED:20260423T161528Z
UID:10003249-1778493600-1778508000@bykota.org
SUMMARY:Gift Shop
DESCRIPTION:Buy unique items\, jewelry\, crafts\, seasonal items and snacks.
URL:https://bykota.org/event/gift-shop-155/
LOCATION:Bykota Gift Shop
END:VEVENT
BEGIN:VEVENT
DTSTART;TZID=America/New_York:20260511T103000
DTEND;TZID=America/New_York:20260511T120000
DTSTAMP:20260423T174640
CREATED:20260412T201155Z
LAST-MODIFIED:20260419T202527Z
UID:10003252-1778495400-1778500800@bykota.org
SUMMARY:Basketball
DESCRIPTION:
URL:https://bykota.org/event/basketball-125/
LOCATION:Bykota Gym
END:VEVENT
BEGIN:VEVENT
DTSTART;TZID=America/New_York:20260511T103000
DTEND;TZID=America/New_York:20260511T123000
DTSTAMP:20260423T174640
CREATED:20260423T161510Z
LAST-MODIFIED:20260423T161510Z
UID:10003382-1778495400-1778502600@bykota.org
SUMMARY:Basketball
DESCRIPTION:
URL:https://bykota.org/event/basketball-135/
LOCATION:Bykota Gym
END:VEVENT
BEGIN:VEVENT
DTSTART;TZID=America/New_York:20260511T110000
DTEND;TZID=America/New_York:20260511T114500
DTSTAMP:20260423T174640
CREATED:20260412T201155Z
LAST-MODIFIED:20260423T161510Z
UID:10003251-1778497200-1778499900@bykota.org
SUMMARY:Senior Rhythms
DESCRIPTION:
URL:https://bykota.org/event/senior-rhythms-105/
LOCATION:Bykota 208-210
END:VEVENT
BEGIN:VEVENT
DTSTART;TZID=America/New_York:20260511T123000
DTEND;TZID=America/New_York:20260511T154500
DTSTAMP:20260423T174640
CREATED:20260419T202545Z
LAST-MODIFIED:20260423T161510Z
UID:10003260-1778502600-1778514300@bykota.org
SUMMARY:Duplicate Bridge
DESCRIPTION:
URL:https://bykota.org/event/duplicate-bridge-81/
LOCATION:Bykota 200
END:VEVENT
BEGIN:VEVENT
DTSTART;TZID=America/New_York:20260511T123000
DTEND;TZID=America/New_York:20260511T160000
DTSTAMP:20260423T174640
CREATED:20260419T202545Z
LAST-MODIFIED:20260423T161528Z
UID:10003262-1778502600-1778515200@bykota.org
SUMMARY:Mahjong
DESCRIPTION:
URL:https://bykota.org/event/mahjong-74/
LOCATION:Bykota 202
END:VEVENT
BEGIN:VEVENT
DTSTART;TZID=America/New_York:20260511T130000
DTEND;TZID=America/New_York:20260511T140000
DTSTAMP:20260423T174640
CREATED:20260419T202545Z
LAST-MODIFIED:20260423T161510Z
UID:10003261-1778504400-1778508000@bykota.org
SUMMARY:Basic Photography Club
DESCRIPTION:
URL:https://bykota.org/event/basic-photography-club-38/
LOCATION:Bykota 112
END:VEVENT
BEGIN:VEVENT
DTSTART;TZID=America/New_York:20260511T140000
DTEND;TZID=America/New_York:20260511T154500
DTSTAMP:20260423T174640
CREATED:20260419T202545Z
LAST-MODIFIED:20260423T161528Z
UID:10003263-1778508000-1778514300@bykota.org
SUMMARY:Pickleball
DESCRIPTION:
URL:https://bykota.org/event/pickleball-277/
LOCATION:Bykota Gym
END:VEVENT
BEGIN:VEVENT
DTSTART;TZID=America/New_York:20260512T083000
DTEND;TZID=America/New_York:20260512T100000
DTSTAMP:20260423T174640
CREATED:20260419T202602Z
LAST-MODIFIED:20260423T161545Z
UID:10003272-1778574600-1778580000@bykota.org
SUMMARY:Pickleball
DESCRIPTION:
URL:https://bykota.org/event/pickleball-278/
LOCATION:Bykota Gym
END:VEVENT
BEGIN:VEVENT
DTSTART;TZID=America/New_York:20260512T090000
DTEND;TZID=America/New_York:20260512T120000
DTSTAMP:20260423T174640
CREATED:20260419T202602Z
LAST-MODIFIED:20260423T161528Z
UID:10003266-1778576400-1778587200@bykota.org
SUMMARY:Woodshop
DESCRIPTION:
URL:https://bykota.org/event/woodshop-212/
LOCATION:Bykota 201-203
END:VEVENT
BEGIN:VEVENT
DTSTART;TZID=America/New_York:20260512T090000
DTEND;TZID=America/New_York:20260512T120000
DTSTAMP:20260423T174640
CREATED:20260419T202602Z
LAST-MODIFIED:20260423T161528Z
UID:10003270-1778576400-1778587200@bykota.org
SUMMARY:Clay Studio
DESCRIPTION:
URL:https://bykota.org/event/clay-studio-77/
LOCATION:Bykota 204-206
END:VEVENT
BEGIN:VEVENT
DTSTART;TZID=America/New_York:20260512T090000
DTEND;TZID=America/New_York:20260512T160000
DTSTAMP:20260423T174640
CREATED:20260419T202602Z
LAST-MODIFIED:20260423T161528Z
UID:10003269-1778576400-1778601600@bykota.org
SUMMARY:Billiards
DESCRIPTION:
URL:https://bykota.org/event/billiards-194/
LOCATION:Bykota 100
END:VEVENT
BEGIN:VEVENT
DTSTART;TZID=America/New_York:20260512T093000
DTEND;TZID=America/New_York:20260512T120000
DTSTAMP:20260423T174640
CREATED:20260419T202602Z
LAST-MODIFIED:20260423T161545Z
UID:10003267-1778578200-1778587200@bykota.org
SUMMARY:Ping Pong
DESCRIPTION:
URL:https://bykota.org/event/ping-pong-211/
LOCATION:Bykota 102
END:VEVENT
BEGIN:VEVENT
DTSTART;TZID=America/New_York:20260512T100000
DTEND;TZID=America/New_York:20260512T110000
DTSTAMP:20260423T174640
CREATED:20260419T202545Z
LAST-MODIFIED:20260423T161528Z
UID:10003264-1778580000-1778583600@bykota.org
SUMMARY:Enhance Fitness
DESCRIPTION:
URL:https://bykota.org/event/enhance-fitness-107/
LOCATION:Bykota Gym
END:VEVENT
BEGIN:VEVENT
DTSTART;TZID=America/New_York:20260512T100000
DTEND;TZID=America/New_York:20260512T110000
DTSTAMP:20260423T174640
CREATED:20260419T202602Z
LAST-MODIFIED:20260419T202602Z
UID:10003268-1778580000-1778583600@bykota.org
SUMMARY:Tuesday Yoga
DESCRIPTION:
URL:https://bykota.org/event/tuesday-yoga-20/
LOCATION:Bykota 208 / 210
END:VEVENT
BEGIN:VEVENT
DTSTART;TZID=America/New_York:20260512T100000
DTEND;TZID=America/New_York:20260512T110000
DTSTAMP:20260423T174640
CREATED:20260423T161545Z
LAST-MODIFIED:20260423T161545Z
UID:10003384-1778580000-1778583600@bykota.org
SUMMARY:Tuesday Yoga
DESCRIPTION:
URL:https://bykota.org/event/tuesday-yoga-24/
LOCATION:Bykota 208 / 210
END:VEVENT
BEGIN:VEVENT
DTSTART;TZID=America/New_York:20260512T100000
DTEND;TZID=America/New_York:20260512T120000
DTSTAMP:20260423T174640
CREATED:20260419T202602Z
LAST-MODIFIED:20260423T161528Z
UID:10003271-1778580000-1778587200@bykota.org
SUMMARY:Next Level Crocheting
DESCRIPTION:
URL:https://bykota.org/event/next-level-crocheting-38/
LOCATION:Bykota 202
END:VEVENT
BEGIN:VEVENT
DTSTART;TZID=America/New_York:20260512T100000
DTEND;TZID=America/New_York:20260512T140000
DTSTAMP:20260423T174640
CREATED:20260419T202602Z
LAST-MODIFIED:20260423T161545Z
UID:10003265-1778580000-1778594400@bykota.org
SUMMARY:Gift Shop
DESCRIPTION:Buy unique items\, jewelry\, crafts\, seasonal items and snacks.
URL:https://bykota.org/event/gift-shop-156/
LOCATION:Bykota Gift Shop
END:VEVENT
BEGIN:VEVENT
DTSTART;TZID=America/New_York:20260512T110000
DTEND;TZID=America/New_York:20260512T120000
DTSTAMP:20260423T174640
CREATED:20260419T202602Z
LAST-MODIFIED:20260423T161545Z
UID:10003273-1778583600-1778587200@bykota.org
SUMMARY:Tai Chi
DESCRIPTION:
URL:https://bykota.org/event/tai-chi-36/
LOCATION:Bykota Gym
END:VEVENT
BEGIN:VEVENT
DTSTART;TZID=America/New_York:20260512T110000
DTEND;TZID=America/New_York:20260512T120000
DTSTAMP:20260423T174640
CREATED:20260423T161545Z
LAST-MODIFIED:20260423T161545Z
UID:10003383-1778583600-1778587200@bykota.org
SUMMARY:Stroke Awareness
DESCRIPTION:Recognize symptoms\, like sudden numbness\, confusion\, or vision trouble\, using the BEFAST acronym: Balance\, Eyes\, Face\, Arms\, Speech\, Time. Because risk increases with age\, immediate action (calling 911) is essential to minimize brain damage. Prevention involves managing blood pressure\, staying active\, and healthy eating. Join GBMC for this presentation.  \nAdvance registration is required.
URL:https://bykota.org/event/stroke-awareness/
LOCATION:Bykota 112
END:VEVENT
BEGIN:VEVENT
DTSTART;TZID=America/New_York:20260512T123000
DTEND;TZID=America/New_York:20260512T133000
DTSTAMP:20260423T174640
CREATED:20260419T202602Z
LAST-MODIFIED:20260423T161603Z
UID:10003274-1778589000-1778592600@bykota.org
SUMMARY:Line Dance: Beginner / Improver
DESCRIPTION:
URL:https://bykota.org/event/line-dance-beginner-improver-19/
LOCATION:Bykota Gym
END:VEVENT
BEGIN:VEVENT
DTSTART;TZID=America/New_York:20260512T123000
DTEND;TZID=America/New_York:20260512T140000
DTSTAMP:20260423T174640
CREATED:20260419T202621Z
LAST-MODIFIED:20260423T161545Z
UID:10003276-1778589000-1778594400@bykota.org
SUMMARY:Wordsmith Writing Club
DESCRIPTION:This weekly meeting is to help and encourage ourmembers to develop their passion for writing. This isnot a class. This is a safe place to read aloud yourfiction\, non-fiction\, memoirs\, essays\, and poetry. Doyou have a lot on your mind? Write it down and join uson Tuesdays! Free; Drop in.
URL:https://bykota.org/event/wordsmith-writing-club-42/
LOCATION:Bykota 112
END:VEVENT
END:VCALENDAR