BEGIN:VCALENDAR
VERSION:2.0
PRODID:-//Bykota Senior Center - ECPv6.15.20//NONSGML v1.0//EN
CALSCALE:GREGORIAN
METHOD:PUBLISH
X-ORIGINAL-URL:https://bykota.org
X-WR-CALDESC:Events for Bykota Senior Center
REFRESH-INTERVAL;VALUE=DURATION:PT1H
X-Robots-Tag:noindex
X-PUBLISHED-TTL:PT1H
BEGIN:VTIMEZONE
TZID:America/New_York
BEGIN:DAYLIGHT
TZOFFSETFROM:-0500
TZOFFSETTO:-0400
TZNAME:EDT
DTSTART:20250309T070000
END:DAYLIGHT
BEGIN:STANDARD
TZOFFSETFROM:-0400
TZOFFSETTO:-0500
TZNAME:EST
DTSTART:20251102T060000
END:STANDARD
BEGIN:DAYLIGHT
TZOFFSETFROM:-0500
TZOFFSETTO:-0400
TZNAME:EDT
DTSTART:20260308T070000
END:DAYLIGHT
BEGIN:STANDARD
TZOFFSETFROM:-0400
TZOFFSETTO:-0500
TZNAME:EST
DTSTART:20261101T060000
END:STANDARD
BEGIN:DAYLIGHT
TZOFFSETFROM:-0500
TZOFFSETTO:-0400
TZNAME:EDT
DTSTART:20270314T070000
END:DAYLIGHT
BEGIN:STANDARD
TZOFFSETFROM:-0400
TZOFFSETTO:-0500
TZNAME:EST
DTSTART:20271107T060000
END:STANDARD
END:VTIMEZONE
BEGIN:VEVENT
DTSTART;TZID=America/New_York:20260423T090000
DTEND;TZID=America/New_York:20260423T160000
DTSTAMP:20260423T160310
CREATED:20260329T194148Z
LAST-MODIFIED:20260423T161047Z
UID:10003086-1776934800-1776960000@bykota.org
SUMMARY:Billiards
DESCRIPTION:
URL:https://bykota.org/event/billiards-182/
LOCATION:Bykota 100
END:VEVENT
BEGIN:VEVENT
DTSTART;TZID=America/New_York:20260422T090000
DTEND;TZID=America/New_York:20260422T160000
DTSTAMP:20260423T160310
CREATED:20260329T194114Z
LAST-MODIFIED:20260420T202641Z
UID:10003065-1776848400-1776873600@bykota.org
SUMMARY:Billiards
DESCRIPTION:
URL:https://bykota.org/event/billiards-181/
LOCATION:Bykota 100
END:VEVENT
BEGIN:VEVENT
DTSTART;TZID=America/New_York:20260421T090000
DTEND;TZID=America/New_York:20260421T160000
DTSTAMP:20260423T160310
CREATED:20260329T194057Z
LAST-MODIFIED:20260420T202628Z
UID:10003062-1776762000-1776787200@bykota.org
SUMMARY:Billiards
DESCRIPTION:
URL:https://bykota.org/event/billiards-180/
LOCATION:Bykota 100
END:VEVENT
BEGIN:VEVENT
DTSTART;TZID=America/New_York:20260420T090000
DTEND;TZID=America/New_York:20260420T160000
DTSTAMP:20260423T160310
CREATED:20260329T194021Z
LAST-MODIFIED:20260419T202029Z
UID:10003044-1776675600-1776700800@bykota.org
SUMMARY:Billiards
DESCRIPTION:
URL:https://bykota.org/event/billiards-179/
LOCATION:Bykota 100
END:VEVENT
BEGIN:VEVENT
DTSTART;TZID=America/New_York:20260417T090000
DTEND;TZID=America/New_York:20260417T160000
DTSTAMP:20260423T160310
CREATED:20260329T193944Z
LAST-MODIFIED:20260412T200558Z
UID:10003022-1776416400-1776441600@bykota.org
SUMMARY:Billiards
DESCRIPTION:
URL:https://bykota.org/event/billiards-178/
LOCATION:Bykota 100
END:VEVENT
BEGIN:VEVENT
DTSTART;TZID=America/New_York:20260416T090000
DTEND;TZID=America/New_York:20260416T160000
DTSTAMP:20260423T160310
CREATED:20260322T192713Z
LAST-MODIFIED:20260412T200546Z
UID:10003005-1776330000-1776355200@bykota.org
SUMMARY:Billiards
DESCRIPTION:
URL:https://bykota.org/event/billiards-177/
LOCATION:Bykota 100
END:VEVENT
BEGIN:VEVENT
DTSTART;TZID=America/New_York:20260415T090000
DTEND;TZID=America/New_York:20260415T160000
DTSTAMP:20260423T160310
CREATED:20260322T192656Z
LAST-MODIFIED:20260412T200535Z
UID:10002997-1776243600-1776268800@bykota.org
SUMMARY:Billiards
DESCRIPTION:
URL:https://bykota.org/event/billiards-176/
LOCATION:Bykota 100
END:VEVENT
BEGIN:VEVENT
DTSTART;TZID=America/New_York:20260414T090000
DTEND;TZID=America/New_York:20260414T160000
DTSTAMP:20260423T160310
CREATED:20260322T192620Z
LAST-MODIFIED:20260412T200513Z
UID:10002975-1776157200-1776182400@bykota.org
SUMMARY:Billiards
DESCRIPTION:
URL:https://bykota.org/event/billiards-175/
LOCATION:Bykota 100
END:VEVENT
BEGIN:VEVENT
DTSTART;TZID=America/New_York:20260413T090000
DTEND;TZID=America/New_York:20260413T160000
DTSTAMP:20260423T160310
CREATED:20260322T192544Z
LAST-MODIFIED:20260412T200449Z
UID:10002960-1776070800-1776096000@bykota.org
SUMMARY:Billiards
DESCRIPTION:
URL:https://bykota.org/event/billiards-174/
LOCATION:Bykota 100
END:VEVENT
BEGIN:VEVENT
DTSTART;TZID=America/New_York:20260410T090000
DTEND;TZID=America/New_York:20260410T160000
DTSTAMP:20260423T160310
CREATED:20260322T192544Z
LAST-MODIFIED:20260405T195103Z
UID:10002952-1775811600-1775836800@bykota.org
SUMMARY:Billiards
DESCRIPTION:
URL:https://bykota.org/event/billiards-173/
LOCATION:Bykota 100
END:VEVENT
BEGIN:VEVENT
DTSTART;TZID=America/New_York:20260409T090000
DTEND;TZID=America/New_York:20260409T160000
DTSTAMP:20260423T160310
CREATED:20260315T191158Z
LAST-MODIFIED:20260405T195051Z
UID:10002939-1775725200-1775750400@bykota.org
SUMMARY:Billiards
DESCRIPTION:
URL:https://bykota.org/event/billiards-172/
LOCATION:Bykota 100
END:VEVENT
BEGIN:VEVENT
DTSTART;TZID=America/New_York:20260408T090000
DTEND;TZID=America/New_York:20260408T160000
DTSTAMP:20260423T160310
CREATED:20260315T191124Z
LAST-MODIFIED:20260405T195028Z
UID:10002912-1775638800-1775664000@bykota.org
SUMMARY:Billiards
DESCRIPTION:
URL:https://bykota.org/event/billiards-171/
LOCATION:Bykota 100
END:VEVENT
BEGIN:VEVENT
DTSTART;TZID=America/New_York:20260407T090000
DTEND;TZID=America/New_York:20260407T160000
DTSTAMP:20260423T160310
CREATED:20260315T191049Z
LAST-MODIFIED:20260405T195004Z
UID:10002898-1775552400-1775577600@bykota.org
SUMMARY:Billiards
DESCRIPTION:
URL:https://bykota.org/event/billiards-170/
LOCATION:Bykota 100
END:VEVENT
BEGIN:VEVENT
DTSTART;TZID=America/New_York:20260406T090000
DTEND;TZID=America/New_York:20260406T160000
DTSTAMP:20260423T160310
CREATED:20260306T212646Z
LAST-MODIFIED:20260405T194952Z
UID:10002836-1775466000-1775491200@bykota.org
SUMMARY:Billiards
DESCRIPTION:
URL:https://bykota.org/event/billiards-169/
LOCATION:Bykota 100
END:VEVENT
BEGIN:VEVENT
DTSTART;TZID=America/New_York:20260403T090000
DTEND;TZID=America/New_York:20260403T160000
DTSTAMP:20260423T160310
CREATED:20260306T212629Z
LAST-MODIFIED:20260329T193602Z
UID:10002822-1775206800-1775232000@bykota.org
SUMMARY:Billiards
DESCRIPTION:
URL:https://bykota.org/event/billiards-168/
LOCATION:Bykota 100
END:VEVENT
BEGIN:VEVENT
DTSTART;TZID=America/New_York:20260402T090000
DTEND;TZID=America/New_York:20260402T160000
DTSTAMP:20260423T160310
CREATED:20260306T212556Z
LAST-MODIFIED:20260329T193548Z
UID:10002804-1775120400-1775145600@bykota.org
SUMMARY:Billiards
DESCRIPTION:
URL:https://bykota.org/event/billiards-167/
LOCATION:Bykota 100
END:VEVENT
BEGIN:VEVENT
DTSTART;TZID=America/New_York:20260401T090000
DTEND;TZID=America/New_York:20260401T160000
DTSTAMP:20260423T160310
CREATED:20260306T212538Z
LAST-MODIFIED:20260329T193523Z
UID:10002796-1775034000-1775059200@bykota.org
SUMMARY:Billiards
DESCRIPTION:
URL:https://bykota.org/event/billiards-166/
LOCATION:Bykota 100
END:VEVENT
BEGIN:VEVENT
DTSTART;TZID=America/New_York:20260331T090000
DTEND;TZID=America/New_York:20260331T160000
DTSTAMP:20260423T160310
CREATED:20260306T212520Z
LAST-MODIFIED:20260329T193510Z
UID:10002784-1774947600-1774972800@bykota.org
SUMMARY:Billiards
DESCRIPTION:
URL:https://bykota.org/event/billiards-165/
LOCATION:Bykota 100
END:VEVENT
BEGIN:VEVENT
DTSTART;TZID=America/New_York:20260330T090000
DTEND;TZID=America/New_York:20260330T160000
DTSTAMP:20260423T160311
CREATED:20260306T212445Z
LAST-MODIFIED:20260329T193448Z
UID:10002765-1774861200-1774886400@bykota.org
SUMMARY:Billiards
DESCRIPTION:
URL:https://bykota.org/event/billiards-164/
LOCATION:Bykota 100
END:VEVENT
BEGIN:VEVENT
DTSTART;TZID=America/New_York:20260327T090000
DTEND;TZID=America/New_York:20260327T160000
DTSTAMP:20260423T160311
CREATED:20260306T212445Z
LAST-MODIFIED:20260322T192147Z
UID:10002763-1774602000-1774627200@bykota.org
SUMMARY:Billiards
DESCRIPTION:
URL:https://bykota.org/event/billiards-163/
LOCATION:Bykota 100
END:VEVENT
BEGIN:VEVENT
DTSTART;TZID=America/New_York:20260326T090000
DTEND;TZID=America/New_York:20260326T160000
DTSTAMP:20260423T160311
CREATED:20260227T211124Z
LAST-MODIFIED:20260322T192111Z
UID:10002737-1774515600-1774540800@bykota.org
SUMMARY:Billiards
DESCRIPTION:
URL:https://bykota.org/event/billiards-162/
LOCATION:Bykota 100
END:VEVENT
BEGIN:VEVENT
DTSTART;TZID=America/New_York:20260325T090000
DTEND;TZID=America/New_York:20260325T160000
DTSTAMP:20260423T160311
CREATED:20260227T211124Z
LAST-MODIFIED:20260322T192048Z
UID:10002733-1774429200-1774454400@bykota.org
SUMMARY:Billiards
DESCRIPTION:
URL:https://bykota.org/event/billiards-161/
LOCATION:Bykota 100
END:VEVENT
BEGIN:VEVENT
DTSTART;TZID=America/New_York:20260324T090000
DTEND;TZID=America/New_York:20260324T160000
DTSTAMP:20260423T160311
CREATED:20260227T211106Z
LAST-MODIFIED:20260322T192036Z
UID:10002722-1774342800-1774368000@bykota.org
SUMMARY:Billiards
DESCRIPTION:
URL:https://bykota.org/event/billiards-160/
LOCATION:Bykota 100
END:VEVENT
BEGIN:VEVENT
DTSTART;TZID=America/New_York:20260323T090000
DTEND;TZID=America/New_York:20260323T160000
DTSTAMP:20260423T160311
CREATED:20260227T211030Z
LAST-MODIFIED:20260322T192025Z
UID:10002708-1774256400-1774281600@bykota.org
SUMMARY:Billiards
DESCRIPTION:
URL:https://bykota.org/event/billiards-159/
LOCATION:Bykota 100
END:VEVENT
END:VCALENDAR