BEGIN:VCALENDAR
VERSION:2.0
PRODID:-//Bykota Senior Center - ECPv6.15.20//NONSGML v1.0//EN
CALSCALE:GREGORIAN
METHOD:PUBLISH
X-ORIGINAL-URL:https://bykota.org
X-WR-CALDESC:Events for Bykota Senior Center
REFRESH-INTERVAL;VALUE=DURATION:PT1H
X-Robots-Tag:noindex
X-PUBLISHED-TTL:PT1H
BEGIN:VTIMEZONE
TZID:America/New_York
BEGIN:DAYLIGHT
TZOFFSETFROM:-0500
TZOFFSETTO:-0400
TZNAME:EDT
DTSTART:20250309T070000
END:DAYLIGHT
BEGIN:STANDARD
TZOFFSETFROM:-0400
TZOFFSETTO:-0500
TZNAME:EST
DTSTART:20251102T060000
END:STANDARD
BEGIN:DAYLIGHT
TZOFFSETFROM:-0500
TZOFFSETTO:-0400
TZNAME:EDT
DTSTART:20260308T070000
END:DAYLIGHT
BEGIN:STANDARD
TZOFFSETFROM:-0400
TZOFFSETTO:-0500
TZNAME:EST
DTSTART:20261101T060000
END:STANDARD
BEGIN:DAYLIGHT
TZOFFSETFROM:-0500
TZOFFSETTO:-0400
TZNAME:EDT
DTSTART:20270314T070000
END:DAYLIGHT
BEGIN:STANDARD
TZOFFSETFROM:-0400
TZOFFSETTO:-0500
TZNAME:EST
DTSTART:20271107T060000
END:STANDARD
END:VTIMEZONE
BEGIN:VEVENT
DTSTART;TZID=America/New_York:20260424T090000
DTEND;TZID=America/New_York:20260424T120000
DTSTAMP:20260423T141414
CREATED:20260329T194207Z
LAST-MODIFIED:20260423T161059Z
UID:10003101-1777021200-1777032000@bykota.org
SUMMARY:Ping Pong
DESCRIPTION:
URL:https://bykota.org/event/ping-pong-200/
LOCATION:Bykota 102
END:VEVENT
BEGIN:VEVENT
DTSTART;TZID=America/New_York:20260427T093000
DTEND;TZID=America/New_York:20260427T120000
DTSTAMP:20260423T141414
CREATED:20260405T195505Z
LAST-MODIFIED:20260423T161124Z
UID:10003110-1777282200-1777291200@bykota.org
SUMMARY:Ping Pong
DESCRIPTION:
URL:https://bykota.org/event/ping-pong-201/
LOCATION:Bykota 102
END:VEVENT
BEGIN:VEVENT
DTSTART;TZID=America/New_York:20260428T093000
DTEND;TZID=America/New_York:20260428T120000
DTSTAMP:20260423T141414
CREATED:20260405T195541Z
LAST-MODIFIED:20260423T161137Z
UID:10003127-1777368600-1777377600@bykota.org
SUMMARY:Ping Pong
DESCRIPTION:
URL:https://bykota.org/event/ping-pong-202/
LOCATION:Bykota 102
END:VEVENT
BEGIN:VEVENT
DTSTART;TZID=America/New_York:20260429T093000
DTEND;TZID=America/New_York:20260429T120000
DTSTAMP:20260423T141414
CREATED:20260405T195635Z
LAST-MODIFIED:20260423T161215Z
UID:10003152-1777455000-1777464000@bykota.org
SUMMARY:Ping Pong
DESCRIPTION:
URL:https://bykota.org/event/ping-pong-203/
LOCATION:Bykota 102
END:VEVENT
BEGIN:VEVENT
DTSTART;TZID=America/New_York:20260430T093000
DTEND;TZID=America/New_York:20260430T123000
DTSTAMP:20260423T141414
CREATED:20260405T195653Z
LAST-MODIFIED:20260423T161215Z
UID:10003164-1777541400-1777552200@bykota.org
SUMMARY:Ping Pong
DESCRIPTION:
URL:https://bykota.org/event/ping-pong-204/
LOCATION:Bykota 102
END:VEVENT
BEGIN:VEVENT
DTSTART;TZID=America/New_York:20260501T090000
DTEND;TZID=America/New_York:20260501T120000
DTSTAMP:20260423T141414
CREATED:20260423T161244Z
LAST-MODIFIED:20260423T161244Z
UID:10003370-1777626000-1777636800@bykota.org
SUMMARY:Ping Pong
DESCRIPTION:
URL:https://bykota.org/event/ping-pong-216/
LOCATION:Bykota 102
END:VEVENT
BEGIN:VEVENT
DTSTART;TZID=America/New_York:20260504T093000
DTEND;TZID=America/New_York:20260504T120000
DTSTAMP:20260423T141414
CREATED:20260405T195711Z
LAST-MODIFIED:20260423T161308Z
UID:10003176-1777887000-1777896000@bykota.org
SUMMARY:Ping Pong
DESCRIPTION:
URL:https://bykota.org/event/ping-pong-205/
LOCATION:Bykota 102
END:VEVENT
BEGIN:VEVENT
DTSTART;TZID=America/New_York:20260505T093000
DTEND;TZID=America/New_York:20260505T120000
DTSTAMP:20260423T141414
CREATED:20260412T201010Z
LAST-MODIFIED:20260423T161309Z
UID:10003189-1777973400-1777982400@bykota.org
SUMMARY:Ping Pong
DESCRIPTION:
URL:https://bykota.org/event/ping-pong-206/
LOCATION:Bykota 102
END:VEVENT
BEGIN:VEVENT
DTSTART;TZID=America/New_York:20260506T093000
DTEND;TZID=America/New_York:20260506T120000
DTSTAMP:20260423T141414
CREATED:20260412T201027Z
LAST-MODIFIED:20260423T161342Z
UID:10003205-1778059800-1778068800@bykota.org
SUMMARY:Ping Pong
DESCRIPTION:
URL:https://bykota.org/event/ping-pong-207/
LOCATION:Bykota 102
END:VEVENT
BEGIN:VEVENT
DTSTART;TZID=America/New_York:20260507T093000
DTEND;TZID=America/New_York:20260507T123000
DTSTAMP:20260423T141414
CREATED:20260412T201103Z
LAST-MODIFIED:20260423T161417Z
UID:10003224-1778146200-1778157000@bykota.org
SUMMARY:Ping Pong
DESCRIPTION:
URL:https://bykota.org/event/ping-pong-208/
LOCATION:Bykota 102
END:VEVENT
BEGIN:VEVENT
DTSTART;TZID=America/New_York:20260508T090000
DTEND;TZID=America/New_York:20260508T120000
DTSTAMP:20260423T141414
CREATED:20260412T201138Z
LAST-MODIFIED:20260423T161434Z
UID:10003244-1778230800-1778241600@bykota.org
SUMMARY:Ping Pong
DESCRIPTION:
URL:https://bykota.org/event/ping-pong-209/
LOCATION:Bykota 102
END:VEVENT
BEGIN:VEVENT
DTSTART;TZID=America/New_York:20260511T093000
DTEND;TZID=America/New_York:20260511T120000
DTSTAMP:20260423T141414
CREATED:20260412T201155Z
LAST-MODIFIED:20260423T161528Z
UID:10003254-1778491800-1778500800@bykota.org
SUMMARY:Ping Pong
DESCRIPTION:
URL:https://bykota.org/event/ping-pong-210/
LOCATION:Bykota 102
END:VEVENT
BEGIN:VEVENT
DTSTART;TZID=America/New_York:20260512T093000
DTEND;TZID=America/New_York:20260512T120000
DTSTAMP:20260423T141414
CREATED:20260419T202602Z
LAST-MODIFIED:20260423T161545Z
UID:10003267-1778578200-1778587200@bykota.org
SUMMARY:Ping Pong
DESCRIPTION:
URL:https://bykota.org/event/ping-pong-211/
LOCATION:Bykota 102
END:VEVENT
BEGIN:VEVENT
DTSTART;TZID=America/New_York:20260513T093000
DTEND;TZID=America/New_York:20260513T120000
DTSTAMP:20260423T141414
CREATED:20260419T202639Z
LAST-MODIFIED:20260423T161620Z
UID:10003293-1778664600-1778673600@bykota.org
SUMMARY:Ping Pong
DESCRIPTION:
URL:https://bykota.org/event/ping-pong-212/
LOCATION:Bykota 102
END:VEVENT
BEGIN:VEVENT
DTSTART;TZID=America/New_York:20260514T093000
DTEND;TZID=America/New_York:20260514T123000
DTSTAMP:20260423T141414
CREATED:20260419T202714Z
LAST-MODIFIED:20260423T161637Z
UID:10003305-1778751000-1778761800@bykota.org
SUMMARY:Ping Pong
DESCRIPTION:
URL:https://bykota.org/event/ping-pong-213/
LOCATION:Bykota 102
END:VEVENT
BEGIN:VEVENT
DTSTART;TZID=America/New_York:20260515T090000
DTEND;TZID=America/New_York:20260515T120000
DTSTAMP:20260423T141414
CREATED:20260419T202732Z
LAST-MODIFIED:20260423T161711Z
UID:10003315-1778835600-1778846400@bykota.org
SUMMARY:Ping Pong
DESCRIPTION:
URL:https://bykota.org/event/ping-pong-214/
LOCATION:Bykota 102
END:VEVENT
BEGIN:VEVENT
DTSTART;TZID=America/New_York:20260518T093000
DTEND;TZID=America/New_York:20260518T120000
DTSTAMP:20260423T141414
CREATED:20260419T202751Z
LAST-MODIFIED:20260423T161729Z
UID:10003330-1779096600-1779105600@bykota.org
SUMMARY:Ping Pong
DESCRIPTION:
URL:https://bykota.org/event/ping-pong-215/
LOCATION:Bykota 102
END:VEVENT
BEGIN:VEVENT
DTSTART;TZID=America/New_York:20260519T093000
DTEND;TZID=America/New_York:20260519T120000
DTSTAMP:20260423T141414
CREATED:20260423T161804Z
LAST-MODIFIED:20260423T161804Z
UID:10003407-1779183000-1779192000@bykota.org
SUMMARY:Ping Pong
DESCRIPTION:
URL:https://bykota.org/event/ping-pong-217/
LOCATION:Bykota 102
END:VEVENT
BEGIN:VEVENT
DTSTART;TZID=America/New_York:20260520T093000
DTEND;TZID=America/New_York:20260520T120000
DTSTAMP:20260423T141414
CREATED:20260423T161822Z
LAST-MODIFIED:20260423T161822Z
UID:10003415-1779269400-1779278400@bykota.org
SUMMARY:Ping Pong
DESCRIPTION:
URL:https://bykota.org/event/ping-pong-218/
LOCATION:Bykota 102
END:VEVENT
END:VCALENDAR