BEGIN:VCALENDAR
VERSION:2.0
PRODID:-//Bykota Senior Center - ECPv6.15.20//NONSGML v1.0//EN
CALSCALE:GREGORIAN
METHOD:PUBLISH
X-WR-CALNAME:Bykota Senior Center
X-ORIGINAL-URL:https://bykota.org
X-WR-CALDESC:Events for Bykota Senior Center
REFRESH-INTERVAL;VALUE=DURATION:PT1H
X-Robots-Tag:noindex
X-PUBLISHED-TTL:PT1H
BEGIN:VTIMEZONE
TZID:America/New_York
BEGIN:DAYLIGHT
TZOFFSETFROM:-0500
TZOFFSETTO:-0400
TZNAME:EDT
DTSTART:20250309T070000
END:DAYLIGHT
BEGIN:STANDARD
TZOFFSETFROM:-0400
TZOFFSETTO:-0500
TZNAME:EST
DTSTART:20251102T060000
END:STANDARD
BEGIN:DAYLIGHT
TZOFFSETFROM:-0500
TZOFFSETTO:-0400
TZNAME:EDT
DTSTART:20260308T070000
END:DAYLIGHT
BEGIN:STANDARD
TZOFFSETFROM:-0400
TZOFFSETTO:-0500
TZNAME:EST
DTSTART:20261101T060000
END:STANDARD
BEGIN:DAYLIGHT
TZOFFSETFROM:-0500
TZOFFSETTO:-0400
TZNAME:EDT
DTSTART:20270314T070000
END:DAYLIGHT
BEGIN:STANDARD
TZOFFSETFROM:-0400
TZOFFSETTO:-0500
TZNAME:EST
DTSTART:20271107T060000
END:STANDARD
END:VTIMEZONE
BEGIN:VEVENT
DTSTART;TZID=America/New_York:20260423T130000
DTEND;TZID=America/New_York:20260423T153000
DTSTAMP:20260423T160142
CREATED:20260329T194149Z
LAST-MODIFIED:20260423T161047Z
UID:10003094-1776949200-1776958200@bykota.org
SUMMARY:Scrabble
DESCRIPTION:
URL:https://bykota.org/event/scrabble-39/
LOCATION:Bykota 109
END:VEVENT
BEGIN:VEVENT
DTSTART;TZID=America/New_York:20260417T093000
DTEND;TZID=America/New_York:20260417T123000
DTSTAMP:20260423T160142
CREATED:20260329T194002Z
LAST-MODIFIED:20260412T200558Z
UID:10003026-1776418200-1776429000@bykota.org
SUMMARY:Chicago/Duplicate Bridge
DESCRIPTION:
URL:https://bykota.org/event/chicago-duplicate-bridge-37/
LOCATION:Bykota 109
END:VEVENT
BEGIN:VEVENT
DTSTART;TZID=America/New_York:20260416T130000
DTEND;TZID=America/New_York:20260416T153000
DTSTAMP:20260423T160142
CREATED:20260322T192731Z
LAST-MODIFIED:20260412T200558Z
UID:10003018-1776344400-1776353400@bykota.org
SUMMARY:Scrabble
DESCRIPTION:
URL:https://bykota.org/event/scrabble-38/
LOCATION:Bykota 109
END:VEVENT
BEGIN:VEVENT
DTSTART;TZID=America/New_York:20260410T093000
DTEND;TZID=America/New_York:20260410T123000
DTSTAMP:20260423T160142
CREATED:20260322T192544Z
LAST-MODIFIED:20260405T195103Z
UID:10002954-1775813400-1775824200@bykota.org
SUMMARY:Chicago/Duplicate Bridge
DESCRIPTION:
URL:https://bykota.org/event/chicago-duplicate-bridge-36/
LOCATION:Bykota 109
END:VEVENT
BEGIN:VEVENT
DTSTART;TZID=America/New_York:20260409T130000
DTEND;TZID=America/New_York:20260409T153000
DTSTAMP:20260423T160142
CREATED:20260322T192509Z
LAST-MODIFIED:20260405T195051Z
UID:10002941-1775739600-1775748600@bykota.org
SUMMARY:Scrabble
DESCRIPTION:
URL:https://bykota.org/event/scrabble-37/
LOCATION:Bykota 109
END:VEVENT
BEGIN:VEVENT
DTSTART;TZID=America/New_York:20260407T100000
DTEND;TZID=America/New_York:20260407T110000
DTSTAMP:20260423T160142
CREATED:20260315T191106Z
LAST-MODIFIED:20260405T195015Z
UID:10002900-1775556000-1775559600@bykota.org
SUMMARY:House Plant Club
DESCRIPTION:Bring your green thumb and/or your current plant issues.  This monthly group shares practical tips\, pictures of favorite plants and news of newly acquired plants.  This discussion group is for anyone who loves indoor plants and meets the first Tuesday of the month.
URL:https://bykota.org/event/house-plant-club-10/
LOCATION:Bykota 109
END:VEVENT
BEGIN:VEVENT
DTSTART;TZID=America/New_York:20260403T093000
DTEND;TZID=America/New_York:20260403T123000
DTSTAMP:20260423T160142
CREATED:20260306T212629Z
LAST-MODIFIED:20260329T193601Z
UID:10002824-1775208600-1775219400@bykota.org
SUMMARY:Chicago/Duplicate Bridge
DESCRIPTION:
URL:https://bykota.org/event/chicago-duplicate-bridge-35/
LOCATION:Bykota 109
END:VEVENT
BEGIN:VEVENT
DTSTART;TZID=America/New_York:20260402T130000
DTEND;TZID=America/New_York:20260402T153000
DTSTAMP:20260423T160142
CREATED:20260306T212614Z
LAST-MODIFIED:20260329T193535Z
UID:10002813-1775134800-1775143800@bykota.org
SUMMARY:Scrabble
DESCRIPTION:
URL:https://bykota.org/event/scrabble-36/
LOCATION:Bykota 109
END:VEVENT
BEGIN:VEVENT
DTSTART;TZID=America/New_York:20260327T093000
DTEND;TZID=America/New_York:20260327T123000
DTSTAMP:20260423T160142
CREATED:20260227T211143Z
LAST-MODIFIED:20260322T192134Z
UID:10002748-1774603800-1774614600@bykota.org
SUMMARY:Chicago/Duplicate Bridge
DESCRIPTION:
URL:https://bykota.org/event/chicago-duplicate-bridge-34/
LOCATION:Bykota 109
END:VEVENT
BEGIN:VEVENT
DTSTART;TZID=America/New_York:20260326T130000
DTEND;TZID=America/New_York:20260326T153000
DTSTAMP:20260423T160142
CREATED:20260227T211143Z
LAST-MODIFIED:20260322T192111Z
UID:10002744-1774530000-1774539000@bykota.org
SUMMARY:Scrabble
DESCRIPTION:
URL:https://bykota.org/event/scrabble-35/
LOCATION:Bykota 109
END:VEVENT
END:VCALENDAR