BEGIN:VCALENDAR
VERSION:2.0
PRODID:-//Bykota Senior Center - ECPv6.15.20//NONSGML v1.0//EN
CALSCALE:GREGORIAN
METHOD:PUBLISH
X-WR-CALNAME:Bykota Senior Center
X-ORIGINAL-URL:https://bykota.org
X-WR-CALDESC:Events for Bykota Senior Center
REFRESH-INTERVAL;VALUE=DURATION:PT1H
X-Robots-Tag:noindex
X-PUBLISHED-TTL:PT1H
BEGIN:VTIMEZONE
TZID:America/New_York
BEGIN:DAYLIGHT
TZOFFSETFROM:-0500
TZOFFSETTO:-0400
TZNAME:EDT
DTSTART:20250309T070000
END:DAYLIGHT
BEGIN:STANDARD
TZOFFSETFROM:-0400
TZOFFSETTO:-0500
TZNAME:EST
DTSTART:20251102T060000
END:STANDARD
BEGIN:DAYLIGHT
TZOFFSETFROM:-0500
TZOFFSETTO:-0400
TZNAME:EDT
DTSTART:20260308T070000
END:DAYLIGHT
BEGIN:STANDARD
TZOFFSETFROM:-0400
TZOFFSETTO:-0500
TZNAME:EST
DTSTART:20261101T060000
END:STANDARD
BEGIN:DAYLIGHT
TZOFFSETFROM:-0500
TZOFFSETTO:-0400
TZNAME:EDT
DTSTART:20270314T070000
END:DAYLIGHT
BEGIN:STANDARD
TZOFFSETFROM:-0400
TZOFFSETTO:-0500
TZNAME:EST
DTSTART:20271107T060000
END:STANDARD
END:VTIMEZONE
BEGIN:VEVENT
DTSTART;TZID=America/New_York:20260423T130000
DTEND;TZID=America/New_York:20260423T143000
DTSTAMP:20260423T160820
CREATED:20260329T194149Z
LAST-MODIFIED:20260423T161047Z
UID:10003093-1776949200-1776954600@bykota.org
SUMMARY:Spanish Club
DESCRIPTION:
URL:https://bykota.org/event/spanish-club-42/
LOCATION:Bykota 200
END:VEVENT
BEGIN:VEVENT
DTSTART;TZID=America/New_York:20260420T123000
DTEND;TZID=America/New_York:20260420T154500
DTSTAMP:20260423T160820
CREATED:20260329T194039Z
LAST-MODIFIED:20260419T202029Z
UID:10003046-1776688200-1776699900@bykota.org
SUMMARY:Duplicate Bridge
DESCRIPTION:
URL:https://bykota.org/event/duplicate-bridge-76/
LOCATION:Bykota 200
END:VEVENT
BEGIN:VEVENT
DTSTART;TZID=America/New_York:20260417T123000
DTEND;TZID=America/New_York:20260417T153000
DTSTAMP:20260423T160820
CREATED:20260329T194002Z
LAST-MODIFIED:20260412T200609Z
UID:10003031-1776429000-1776439800@bykota.org
SUMMARY:Duplicate Bridge
DESCRIPTION:
URL:https://bykota.org/event/duplicate-bridge-75/
LOCATION:Bykota 200
END:VEVENT
BEGIN:VEVENT
DTSTART;TZID=America/New_York:20260416T130000
DTEND;TZID=America/New_York:20260416T143000
DTSTAMP:20260423T160820
CREATED:20260322T192731Z
LAST-MODIFIED:20260412T200547Z
UID:10003014-1776344400-1776349800@bykota.org
SUMMARY:Spanish Club
DESCRIPTION:
URL:https://bykota.org/event/spanish-club-41/
LOCATION:Bykota 200
END:VEVENT
BEGIN:VEVENT
DTSTART;TZID=America/New_York:20260413T123000
DTEND;TZID=America/New_York:20260413T154500
DTSTAMP:20260423T160820
CREATED:20260322T192602Z
LAST-MODIFIED:20260412T200501Z
UID:10002971-1776083400-1776095100@bykota.org
SUMMARY:Duplicate Bridge
DESCRIPTION:
URL:https://bykota.org/event/duplicate-bridge-74/
LOCATION:Bykota 200
END:VEVENT
BEGIN:VEVENT
DTSTART;TZID=America/New_York:20260410T123000
DTEND;TZID=America/New_York:20260410T153000
DTSTAMP:20260423T160820
CREATED:20260322T192527Z
LAST-MODIFIED:20260405T195103Z
UID:10002947-1775824200-1775835000@bykota.org
SUMMARY:Duplicate Bridge
DESCRIPTION:
URL:https://bykota.org/event/duplicate-bridge-73/
LOCATION:Bykota 200
END:VEVENT
BEGIN:VEVENT
DTSTART;TZID=America/New_York:20260409T130000
DTEND;TZID=America/New_York:20260409T143000
DTSTAMP:20260423T160820
CREATED:20260315T191158Z
LAST-MODIFIED:20260405T195103Z
UID:10002938-1775739600-1775745000@bykota.org
SUMMARY:Spanish Club
DESCRIPTION:
URL:https://bykota.org/event/spanish-club-40/
LOCATION:Bykota 200
END:VEVENT
BEGIN:VEVENT
DTSTART;TZID=America/New_York:20260406T123000
DTEND;TZID=America/New_York:20260406T154500
DTSTAMP:20260423T160820
CREATED:20260315T191049Z
LAST-MODIFIED:20260405T195004Z
UID:10002894-1775478600-1775490300@bykota.org
SUMMARY:Duplicate Bridge
DESCRIPTION:
URL:https://bykota.org/event/duplicate-bridge-72/
LOCATION:Bykota 200
END:VEVENT
BEGIN:VEVENT
DTSTART;TZID=America/New_York:20260403T123000
DTEND;TZID=America/New_York:20260403T153000
DTSTAMP:20260423T160820
CREATED:20260306T212629Z
LAST-MODIFIED:20260329T193614Z
UID:10002829-1775219400-1775230200@bykota.org
SUMMARY:Duplicate Bridge
DESCRIPTION:
URL:https://bykota.org/event/duplicate-bridge-67/
LOCATION:Bykota 200
END:VEVENT
BEGIN:VEVENT
DTSTART;TZID=America/New_York:20260402T130000
DTEND;TZID=America/New_York:20260402T143000
DTSTAMP:20260423T160820
CREATED:20260306T212614Z
LAST-MODIFIED:20260329T193547Z
UID:10002814-1775134800-1775140200@bykota.org
SUMMARY:Spanish Club
DESCRIPTION:
URL:https://bykota.org/event/spanish-club-39/
LOCATION:Bykota 200
END:VEVENT
BEGIN:VEVENT
DTSTART;TZID=America/New_York:20260330T123000
DTEND;TZID=America/New_York:20260330T154500
DTSTAMP:20260423T160820
CREATED:20260308T185005Z
LAST-MODIFIED:20260329T193459Z
UID:10002880-1774873800-1774885500@bykota.org
SUMMARY:Duplicate Bridge
DESCRIPTION:
URL:https://bykota.org/event/duplicate-bridge-71/
LOCATION:Bykota 200
END:VEVENT
BEGIN:VEVENT
DTSTART;TZID=America/New_York:20260330T123000
DTEND;TZID=America/New_York:20260330T153000
DTSTAMP:20260423T160820
CREATED:20260306T212503Z
LAST-MODIFIED:20260306T212503Z
UID:10002776-1774873800-1774884600@bykota.org
SUMMARY:Duplicate Bridge
DESCRIPTION:
URL:https://bykota.org/event/duplicate-bridge-66/
LOCATION:Bykota 200
END:VEVENT
BEGIN:VEVENT
DTSTART;TZID=America/New_York:20260327T123000
DTEND;TZID=America/New_York:20260327T153000
DTSTAMP:20260423T160820
CREATED:20260227T211200Z
LAST-MODIFIED:20260322T192147Z
UID:10002758-1774614600-1774625400@bykota.org
SUMMARY:Duplicate Bridge
DESCRIPTION:
URL:https://bykota.org/event/duplicate-bridge-65/
LOCATION:Bykota 200
END:VEVENT
BEGIN:VEVENT
DTSTART;TZID=America/New_York:20260326T130000
DTEND;TZID=America/New_York:20260326T143000
DTSTAMP:20260423T160820
CREATED:20260227T211143Z
LAST-MODIFIED:20260322T192123Z
UID:10002740-1774530000-1774535400@bykota.org
SUMMARY:Spanish Club
DESCRIPTION:
URL:https://bykota.org/event/spanish-club-38/
LOCATION:Bykota 200
END:VEVENT
BEGIN:VEVENT
DTSTART;TZID=America/New_York:20260323T123000
DTEND;TZID=America/New_York:20260323T154500
DTSTAMP:20260423T160820
CREATED:20260308T184746Z
LAST-MODIFIED:20260322T192025Z
UID:10002863-1774269000-1774280700@bykota.org
SUMMARY:Duplicate Bridge
DESCRIPTION:
URL:https://bykota.org/event/duplicate-bridge-70/
LOCATION:Bykota 200
END:VEVENT
BEGIN:VEVENT
DTSTART;TZID=America/New_York:20260323T123000
DTEND;TZID=America/New_York:20260323T153000
DTSTAMP:20260423T160820
CREATED:20260227T211030Z
LAST-MODIFIED:20260306T212309Z
UID:10002706-1774269000-1774279800@bykota.org
SUMMARY:Duplicate Bridge
DESCRIPTION:
URL:https://bykota.org/event/duplicate-bridge-64/
LOCATION:Bykota 200
END:VEVENT
END:VCALENDAR