BEGIN:VCALENDAR
VERSION:2.0
PRODID:-//Bykota Senior Center - ECPv6.15.20//NONSGML v1.0//EN
CALSCALE:GREGORIAN
METHOD:PUBLISH
X-WR-CALNAME:Bykota Senior Center
X-ORIGINAL-URL:https://bykota.org
X-WR-CALDESC:Events for Bykota Senior Center
REFRESH-INTERVAL;VALUE=DURATION:PT1H
X-Robots-Tag:noindex
X-PUBLISHED-TTL:PT1H
BEGIN:VTIMEZONE
TZID:America/New_York
BEGIN:DAYLIGHT
TZOFFSETFROM:-0500
TZOFFSETTO:-0400
TZNAME:EDT
DTSTART:20250309T070000
END:DAYLIGHT
BEGIN:STANDARD
TZOFFSETFROM:-0400
TZOFFSETTO:-0500
TZNAME:EST
DTSTART:20251102T060000
END:STANDARD
BEGIN:DAYLIGHT
TZOFFSETFROM:-0500
TZOFFSETTO:-0400
TZNAME:EDT
DTSTART:20260308T070000
END:DAYLIGHT
BEGIN:STANDARD
TZOFFSETFROM:-0400
TZOFFSETTO:-0500
TZNAME:EST
DTSTART:20261101T060000
END:STANDARD
BEGIN:DAYLIGHT
TZOFFSETFROM:-0500
TZOFFSETTO:-0400
TZNAME:EDT
DTSTART:20270314T070000
END:DAYLIGHT
BEGIN:STANDARD
TZOFFSETFROM:-0400
TZOFFSETTO:-0500
TZNAME:EST
DTSTART:20271107T060000
END:STANDARD
END:VTIMEZONE
BEGIN:VEVENT
DTSTART;TZID=America/New_York:20260403T090000
DTEND;TZID=America/New_York:20260403T120000
DTSTAMP:20260423T175514
CREATED:20260306T212614Z
LAST-MODIFIED:20260329T193601Z
UID:10002816-1775206800-1775217600@bykota.org
SUMMARY:Ceramics
DESCRIPTION:
URL:https://bykota.org/event/ceramics-65/
LOCATION:Bykota 204-206
END:VEVENT
BEGIN:VEVENT
DTSTART;TZID=America/New_York:20260402T093000
DTEND;TZID=America/New_York:20260402T120000
DTSTAMP:20260423T175514
CREATED:20260306T212556Z
LAST-MODIFIED:20260329T193548Z
UID:10002808-1775122200-1775131200@bykota.org
SUMMARY:Woodcarving
DESCRIPTION:
URL:https://bykota.org/event/woodcarving-32/
LOCATION:Bykota 204-206
END:VEVENT
BEGIN:VEVENT
DTSTART;TZID=America/New_York:20260401T120000
DTEND;TZID=America/New_York:20260401T160000
DTSTAMP:20260423T175514
CREATED:20260306T212538Z
LAST-MODIFIED:20260329T193535Z
UID:10002799-1775044800-1775059200@bykota.org
SUMMARY:Clay Studio
DESCRIPTION:
URL:https://bykota.org/event/clay-studio-66/
LOCATION:Bykota 204-206
END:VEVENT
BEGIN:VEVENT
DTSTART;TZID=America/New_York:20260401T100000
DTEND;TZID=America/New_York:20260401T120000
DTSTAMP:20260423T175514
CREATED:20260306T212556Z
LAST-MODIFIED:20260329T193523Z
UID:10002800-1775037600-1775044800@bykota.org
SUMMARY:Sculpture
DESCRIPTION:
URL:https://bykota.org/event/sculpture-33/
LOCATION:Bykota 204-206
END:VEVENT
BEGIN:VEVENT
DTSTART;TZID=America/New_York:20260401T093000
DTEND;TZID=America/New_York:20260401T113000
DTSTAMP:20260423T175514
CREATED:20260306T212538Z
LAST-MODIFIED:20260329T193523Z
UID:10002797-1775035800-1775043000@bykota.org
SUMMARY:Stained Glass Studio
DESCRIPTION:
URL:https://bykota.org/event/stained-glass-studio-33/
LOCATION:Bykota 204-206
END:VEVENT
BEGIN:VEVENT
DTSTART;TZID=America/New_York:20260331T090000
DTEND;TZID=America/New_York:20260331T120000
DTSTAMP:20260423T175514
CREATED:20260306T212520Z
LAST-MODIFIED:20260329T193510Z
UID:10002780-1774947600-1774958400@bykota.org
SUMMARY:Clay Studio
DESCRIPTION:
URL:https://bykota.org/event/clay-studio-65/
LOCATION:Bykota 204-206
END:VEVENT
BEGIN:VEVENT
DTSTART;TZID=America/New_York:20260330T090000
DTEND;TZID=America/New_York:20260330T120000
DTSTAMP:20260423T175514
CREATED:20260306T212445Z
LAST-MODIFIED:20260329T193448Z
UID:10002768-1774861200-1774872000@bykota.org
SUMMARY:Ceramics
DESCRIPTION:
URL:https://bykota.org/event/ceramics-64/
LOCATION:Bykota 204-206
END:VEVENT
BEGIN:VEVENT
DTSTART;TZID=America/New_York:20260327T090000
DTEND;TZID=America/New_York:20260327T120000
DTSTAMP:20260423T175514
CREATED:20260227T211143Z
LAST-MODIFIED:20260322T192135Z
UID:10002749-1774602000-1774612800@bykota.org
SUMMARY:Ceramics
DESCRIPTION:
URL:https://bykota.org/event/ceramics-63/
LOCATION:Bykota 204-206
END:VEVENT
BEGIN:VEVENT
DTSTART;TZID=America/New_York:20260326T093000
DTEND;TZID=America/New_York:20260326T120000
DTSTAMP:20260423T175514
CREATED:20260227T211143Z
LAST-MODIFIED:20260322T192123Z
UID:10002742-1774517400-1774526400@bykota.org
SUMMARY:Woodcarving
DESCRIPTION:
URL:https://bykota.org/event/woodcarving-31/
LOCATION:Bykota 204-206
END:VEVENT
BEGIN:VEVENT
DTSTART;TZID=America/New_York:20260325T120000
DTEND;TZID=America/New_York:20260325T160000
DTSTAMP:20260423T175514
CREATED:20260227T211124Z
LAST-MODIFIED:20260322T192059Z
UID:10002735-1774440000-1774454400@bykota.org
SUMMARY:Clay Studio
DESCRIPTION:
URL:https://bykota.org/event/clay-studio-64/
LOCATION:Bykota 204-206
END:VEVENT
BEGIN:VEVENT
DTSTART;TZID=America/New_York:20260325T100000
DTEND;TZID=America/New_York:20260325T120000
DTSTAMP:20260423T175514
CREATED:20260227T211106Z
LAST-MODIFIED:20260322T192048Z
UID:10002724-1774432800-1774440000@bykota.org
SUMMARY:Sculpture
DESCRIPTION:
URL:https://bykota.org/event/sculpture-32/
LOCATION:Bykota 204-206
END:VEVENT
BEGIN:VEVENT
DTSTART;TZID=America/New_York:20260325T093000
DTEND;TZID=America/New_York:20260325T113000
DTSTAMP:20260423T175514
CREATED:20260227T211124Z
LAST-MODIFIED:20260322T192059Z
UID:10002734-1774431000-1774438200@bykota.org
SUMMARY:Stained Glass Studio
DESCRIPTION:
URL:https://bykota.org/event/stained-glass-studio-32/
LOCATION:Bykota 204-206
END:VEVENT
BEGIN:VEVENT
DTSTART;TZID=America/New_York:20260324T090000
DTEND;TZID=America/New_York:20260324T120000
DTSTAMP:20260423T175514
CREATED:20260227T211048Z
LAST-MODIFIED:20260322T192036Z
UID:10002710-1774342800-1774353600@bykota.org
SUMMARY:Clay Studio
DESCRIPTION:
URL:https://bykota.org/event/clay-studio-63/
LOCATION:Bykota 204-206
END:VEVENT
BEGIN:VEVENT
DTSTART;TZID=America/New_York:20260323T090000
DTEND;TZID=America/New_York:20260323T120000
DTSTAMP:20260423T175514
CREATED:20260227T211013Z
LAST-MODIFIED:20260322T192012Z
UID:10002696-1774256400-1774267200@bykota.org
SUMMARY:Ceramics
DESCRIPTION:
URL:https://bykota.org/event/ceramics-62/
LOCATION:Bykota 204-206
END:VEVENT
END:VCALENDAR