BEGIN:VCALENDAR
VERSION:2.0
PRODID:-//Bykota Senior Center - ECPv6.15.20//NONSGML v1.0//EN
CALSCALE:GREGORIAN
METHOD:PUBLISH
X-WR-CALNAME:Bykota Senior Center
X-ORIGINAL-URL:https://bykota.org
X-WR-CALDESC:Events for Bykota Senior Center
REFRESH-INTERVAL;VALUE=DURATION:PT1H
X-Robots-Tag:noindex
X-PUBLISHED-TTL:PT1H
BEGIN:VTIMEZONE
TZID:America/New_York
BEGIN:DAYLIGHT
TZOFFSETFROM:-0500
TZOFFSETTO:-0400
TZNAME:EDT
DTSTART:20250309T070000
END:DAYLIGHT
BEGIN:STANDARD
TZOFFSETFROM:-0400
TZOFFSETTO:-0500
TZNAME:EST
DTSTART:20251102T060000
END:STANDARD
BEGIN:DAYLIGHT
TZOFFSETFROM:-0500
TZOFFSETTO:-0400
TZNAME:EDT
DTSTART:20260308T070000
END:DAYLIGHT
BEGIN:STANDARD
TZOFFSETFROM:-0400
TZOFFSETTO:-0500
TZNAME:EST
DTSTART:20261101T060000
END:STANDARD
BEGIN:DAYLIGHT
TZOFFSETFROM:-0500
TZOFFSETTO:-0400
TZNAME:EDT
DTSTART:20270314T070000
END:DAYLIGHT
BEGIN:STANDARD
TZOFFSETFROM:-0400
TZOFFSETTO:-0500
TZNAME:EST
DTSTART:20271107T060000
END:STANDARD
END:VTIMEZONE
BEGIN:VEVENT
DTSTART;TZID=America/New_York:20260422T110000
DTEND;TZID=America/New_York:20260422T114500
DTSTAMP:20260423T175250
CREATED:20260329T194114Z
LAST-MODIFIED:20260420T202641Z
UID:10003073-1776855600-1776858300@bykota.org
SUMMARY:Senior Rhythms
DESCRIPTION:
URL:https://bykota.org/event/senior-rhythms-98/
LOCATION:Bykota 208-210
END:VEVENT
BEGIN:VEVENT
DTSTART;TZID=America/New_York:20260420T110000
DTEND;TZID=America/New_York:20260420T114500
DTSTAMP:20260423T175250
CREATED:20260329T194021Z
LAST-MODIFIED:20260419T202029Z
UID:10003037-1776682800-1776685500@bykota.org
SUMMARY:Senior Rhythms
DESCRIPTION:
URL:https://bykota.org/event/senior-rhythms-97/
LOCATION:Bykota 208-210
END:VEVENT
BEGIN:VEVENT
DTSTART;TZID=America/New_York:20260417T130000
DTEND;TZID=America/New_York:20260417T150000
DTSTAMP:20260423T175250
CREATED:20260329T194003Z
LAST-MODIFIED:20260412T200609Z
UID:10003033-1776430800-1776438000@bykota.org
SUMMARY:Intermediate Line Dance
DESCRIPTION:
URL:https://bykota.org/event/intermediate-line-dance-36/
LOCATION:Bykota 208-210
END:VEVENT
BEGIN:VEVENT
DTSTART;TZID=America/New_York:20260417T110000
DTEND;TZID=America/New_York:20260417T114500
DTSTAMP:20260423T175250
CREATED:20260322T192731Z
LAST-MODIFIED:20260412T200609Z
UID:10003020-1776423600-1776426300@bykota.org
SUMMARY:Senior Rhythms
DESCRIPTION:
URL:https://bykota.org/event/senior-rhythms-96/
LOCATION:Bykota 208-210
END:VEVENT
BEGIN:VEVENT
DTSTART;TZID=America/New_York:20260415T110000
DTEND;TZID=America/New_York:20260415T114500
DTSTAMP:20260423T175250
CREATED:20260322T192656Z
LAST-MODIFIED:20260412T200524Z
UID:10002998-1776250800-1776253500@bykota.org
SUMMARY:Senior Rhythms
DESCRIPTION:
URL:https://bykota.org/event/senior-rhythms-95/
LOCATION:Bykota 208-210
END:VEVENT
BEGIN:VEVENT
DTSTART;TZID=America/New_York:20260413T110000
DTEND;TZID=America/New_York:20260413T114500
DTSTAMP:20260423T175250
CREATED:20260322T192602Z
LAST-MODIFIED:20260412T200449Z
UID:10002965-1776078000-1776080700@bykota.org
SUMMARY:Senior Rhythms
DESCRIPTION:
URL:https://bykota.org/event/senior-rhythms-94/
LOCATION:Bykota 208-210
END:VEVENT
BEGIN:VEVENT
DTSTART;TZID=America/New_York:20260410T130000
DTEND;TZID=America/New_York:20260410T150000
DTSTAMP:20260423T175250
CREATED:20260322T192527Z
LAST-MODIFIED:20260405T195115Z
UID:10002946-1775826000-1775833200@bykota.org
SUMMARY:Intermediate Line Dance
DESCRIPTION:
URL:https://bykota.org/event/intermediate-line-dance-35/
LOCATION:Bykota 208-210
END:VEVENT
BEGIN:VEVENT
DTSTART;TZID=America/New_York:20260410T110000
DTEND;TZID=America/New_York:20260410T114500
DTSTAMP:20260423T175250
CREATED:20260322T192526Z
LAST-MODIFIED:20260405T195115Z
UID:10002944-1775818800-1775821500@bykota.org
SUMMARY:Senior Rhythms
DESCRIPTION:
URL:https://bykota.org/event/senior-rhythms-93/
LOCATION:Bykota 208-210
END:VEVENT
BEGIN:VEVENT
DTSTART;TZID=America/New_York:20260408T110000
DTEND;TZID=America/New_York:20260408T114500
DTSTAMP:20260423T175250
CREATED:20260315T191124Z
LAST-MODIFIED:20260405T195028Z
UID:10002914-1775646000-1775648700@bykota.org
SUMMARY:Senior Rhythms
DESCRIPTION:
URL:https://bykota.org/event/senior-rhythms-92/
LOCATION:Bykota 208-210
END:VEVENT
BEGIN:VEVENT
DTSTART;TZID=America/New_York:20260406T110000
DTEND;TZID=America/New_York:20260406T114500
DTSTAMP:20260423T175250
CREATED:20260306T212646Z
LAST-MODIFIED:20260405T194952Z
UID:10002832-1775473200-1775475900@bykota.org
SUMMARY:Senior Rhythms
DESCRIPTION:
URL:https://bykota.org/event/senior-rhythms-91/
LOCATION:Bykota 208-210
END:VEVENT
BEGIN:VEVENT
DTSTART;TZID=America/New_York:20260403T130000
DTEND;TZID=America/New_York:20260403T150000
DTSTAMP:20260423T175250
CREATED:20260306T212629Z
LAST-MODIFIED:20260329T193614Z
UID:10002828-1775221200-1775228400@bykota.org
SUMMARY:Intermediate Line Dance
DESCRIPTION:
URL:https://bykota.org/event/intermediate-line-dance-34/
LOCATION:Bykota 208-210
END:VEVENT
BEGIN:VEVENT
DTSTART;TZID=America/New_York:20260403T110000
DTEND;TZID=America/New_York:20260403T114500
DTSTAMP:20260423T175250
CREATED:20260306T212614Z
LAST-MODIFIED:20260329T193602Z
UID:10002818-1775214000-1775216700@bykota.org
SUMMARY:Senior Rhythms
DESCRIPTION:
URL:https://bykota.org/event/senior-rhythms-90/
LOCATION:Bykota 208-210
END:VEVENT
BEGIN:VEVENT
DTSTART;TZID=America/New_York:20260401T110000
DTEND;TZID=America/New_York:20260401T114500
DTSTAMP:20260423T175250
CREATED:20260306T212538Z
LAST-MODIFIED:20260329T193535Z
UID:10002792-1775041200-1775043900@bykota.org
SUMMARY:Senior Rhythms
DESCRIPTION:
URL:https://bykota.org/event/senior-rhythms-89/
LOCATION:Bykota 208-210
END:VEVENT
BEGIN:VEVENT
DTSTART;TZID=America/New_York:20260330T110000
DTEND;TZID=America/New_York:20260330T114500
DTSTAMP:20260423T175250
CREATED:20260306T212502Z
LAST-MODIFIED:20260329T193448Z
UID:10002771-1774868400-1774871100@bykota.org
SUMMARY:Senior Rhythms
DESCRIPTION:
URL:https://bykota.org/event/senior-rhythms-88/
LOCATION:Bykota 208-210
END:VEVENT
BEGIN:VEVENT
DTSTART;TZID=America/New_York:20260327T130000
DTEND;TZID=America/New_York:20260327T150000
DTSTAMP:20260423T175250
CREATED:20260227T211200Z
LAST-MODIFIED:20260322T192135Z
UID:10002759-1774616400-1774623600@bykota.org
SUMMARY:Intermediate Line Dance
DESCRIPTION:
URL:https://bykota.org/event/intermediate-line-dance-33/
LOCATION:Bykota 208-210
END:VEVENT
BEGIN:VEVENT
DTSTART;TZID=America/New_York:20260327T110000
DTEND;TZID=America/New_York:20260327T114500
DTSTAMP:20260423T175250
CREATED:20260227T211200Z
LAST-MODIFIED:20260322T192134Z
UID:10002753-1774609200-1774611900@bykota.org
SUMMARY:Senior Rhythms
DESCRIPTION:
URL:https://bykota.org/event/senior-rhythms-87/
LOCATION:Bykota 208-210
END:VEVENT
BEGIN:VEVENT
DTSTART;TZID=America/New_York:20260325T110000
DTEND;TZID=America/New_York:20260325T114500
DTSTAMP:20260423T175250
CREATED:20260227T211106Z
LAST-MODIFIED:20260322T192059Z
UID:10002723-1774436400-1774439100@bykota.org
SUMMARY:Senior Rhythms
DESCRIPTION:
URL:https://bykota.org/event/senior-rhythms-86/
LOCATION:Bykota 208-210
END:VEVENT
BEGIN:VEVENT
DTSTART;TZID=America/New_York:20260323T110000
DTEND;TZID=America/New_York:20260323T114500
DTSTAMP:20260423T175250
CREATED:20260227T211030Z
LAST-MODIFIED:20260322T192013Z
UID:10002702-1774263600-1774266300@bykota.org
SUMMARY:Senior Rhythms
DESCRIPTION:
URL:https://bykota.org/event/senior-rhythms-85/
LOCATION:Bykota 208-210
END:VEVENT
END:VCALENDAR