BEGIN:VCALENDAR
VERSION:2.0
PRODID:-//Bykota Senior Center - ECPv6.15.20//NONSGML v1.0//EN
CALSCALE:GREGORIAN
METHOD:PUBLISH
X-ORIGINAL-URL:https://bykota.org
X-WR-CALDESC:Events for Bykota Senior Center
REFRESH-INTERVAL;VALUE=DURATION:PT1H
X-Robots-Tag:noindex
X-PUBLISHED-TTL:PT1H
BEGIN:VTIMEZONE
TZID:America/New_York
BEGIN:DAYLIGHT
TZOFFSETFROM:-0500
TZOFFSETTO:-0400
TZNAME:EDT
DTSTART:20250309T070000
END:DAYLIGHT
BEGIN:STANDARD
TZOFFSETFROM:-0400
TZOFFSETTO:-0500
TZNAME:EST
DTSTART:20251102T060000
END:STANDARD
BEGIN:DAYLIGHT
TZOFFSETFROM:-0500
TZOFFSETTO:-0400
TZNAME:EDT
DTSTART:20260308T070000
END:DAYLIGHT
BEGIN:STANDARD
TZOFFSETFROM:-0400
TZOFFSETTO:-0500
TZNAME:EST
DTSTART:20261101T060000
END:STANDARD
BEGIN:DAYLIGHT
TZOFFSETFROM:-0500
TZOFFSETTO:-0400
TZNAME:EDT
DTSTART:20270314T070000
END:DAYLIGHT
BEGIN:STANDARD
TZOFFSETFROM:-0400
TZOFFSETTO:-0500
TZNAME:EST
DTSTART:20271107T060000
END:STANDARD
END:VTIMEZONE
BEGIN:VEVENT
DTSTART;TZID=America/New_York:20260424T110000
DTEND;TZID=America/New_York:20260424T114500
DTSTAMP:20260423T160258
CREATED:20260329T194207Z
LAST-MODIFIED:20260423T161059Z
UID:10003097-1777028400-1777031100@bykota.org
SUMMARY:Senior Rhythms
DESCRIPTION:
URL:https://bykota.org/event/senior-rhythms-99/
LOCATION:Bykota 208-210
END:VEVENT
BEGIN:VEVENT
DTSTART;TZID=America/New_York:20260424T130000
DTEND;TZID=America/New_York:20260424T150000
DTSTAMP:20260423T160258
CREATED:20260405T195505Z
LAST-MODIFIED:20260423T161111Z
UID:10003108-1777035600-1777042800@bykota.org
SUMMARY:Intermediate Line Dance
DESCRIPTION:
URL:https://bykota.org/event/intermediate-line-dance-37/
LOCATION:Bykota 208-210
END:VEVENT
BEGIN:VEVENT
DTSTART;TZID=America/New_York:20260427T110000
DTEND;TZID=America/New_York:20260427T114500
DTSTAMP:20260423T160258
CREATED:20260405T195522Z
LAST-MODIFIED:20260423T161111Z
UID:10003112-1777287600-1777290300@bykota.org
SUMMARY:Senior Rhythms
DESCRIPTION:
URL:https://bykota.org/event/senior-rhythms-100/
LOCATION:Bykota 208-210
END:VEVENT
BEGIN:VEVENT
DTSTART;TZID=America/New_York:20260429T110000
DTEND;TZID=America/New_York:20260429T114500
DTSTAMP:20260423T160258
CREATED:20260405T195617Z
LAST-MODIFIED:20260423T161151Z
UID:10003146-1777460400-1777463100@bykota.org
SUMMARY:Senior Rhythms
DESCRIPTION:
URL:https://bykota.org/event/senior-rhythms-101/
LOCATION:Bykota 208-210
END:VEVENT
BEGIN:VEVENT
DTSTART;TZID=America/New_York:20260501T110000
DTEND;TZID=America/New_York:20260501T114500
DTSTAMP:20260423T160258
CREATED:20260423T161244Z
LAST-MODIFIED:20260423T161244Z
UID:10003369-1777633200-1777635900@bykota.org
SUMMARY:Senior Rhythms
DESCRIPTION:
URL:https://bykota.org/event/senior-rhythms-109/
LOCATION:Bykota 208-210
END:VEVENT
BEGIN:VEVENT
DTSTART;TZID=America/New_York:20260501T130000
DTEND;TZID=America/New_York:20260501T150000
DTSTAMP:20260423T160258
CREATED:20260423T161244Z
LAST-MODIFIED:20260423T161244Z
UID:10003372-1777640400-1777647600@bykota.org
SUMMARY:Intermediate Line Dance
DESCRIPTION:
URL:https://bykota.org/event/intermediate-line-dance-40/
LOCATION:Bykota 208-210
END:VEVENT
BEGIN:VEVENT
DTSTART;TZID=America/New_York:20260504T110000
DTEND;TZID=America/New_York:20260504T114500
DTSTAMP:20260423T160258
CREATED:20260405T195711Z
LAST-MODIFIED:20260423T161256Z
UID:10003179-1777892400-1777895100@bykota.org
SUMMARY:Senior Rhythms
DESCRIPTION:
URL:https://bykota.org/event/senior-rhythms-102/
LOCATION:Bykota 208-210
END:VEVENT
BEGIN:VEVENT
DTSTART;TZID=America/New_York:20260506T110000
DTEND;TZID=America/New_York:20260506T114500
DTSTAMP:20260423T160258
CREATED:20260412T201044Z
LAST-MODIFIED:20260423T161359Z
UID:10003210-1778065200-1778067900@bykota.org
SUMMARY:Senior Rhythms
DESCRIPTION:
URL:https://bykota.org/event/senior-rhythms-103/
LOCATION:Bykota 208-210
END:VEVENT
BEGIN:VEVENT
DTSTART;TZID=America/New_York:20260508T110000
DTEND;TZID=America/New_York:20260508T114500
DTSTAMP:20260423T160258
CREATED:20260412T201138Z
LAST-MODIFIED:20260423T161452Z
UID:10003243-1778238000-1778240700@bykota.org
SUMMARY:Senior Rhythms
DESCRIPTION:
URL:https://bykota.org/event/senior-rhythms-104/
LOCATION:Bykota 208-210
END:VEVENT
BEGIN:VEVENT
DTSTART;TZID=America/New_York:20260508T130000
DTEND;TZID=America/New_York:20260508T150000
DTSTAMP:20260423T160258
CREATED:20260412T201138Z
LAST-MODIFIED:20260423T161452Z
UID:10003246-1778245200-1778252400@bykota.org
SUMMARY:Intermediate Line Dance
DESCRIPTION:
URL:https://bykota.org/event/intermediate-line-dance-38/
LOCATION:Bykota 208-210
END:VEVENT
BEGIN:VEVENT
DTSTART;TZID=America/New_York:20260511T110000
DTEND;TZID=America/New_York:20260511T114500
DTSTAMP:20260423T160258
CREATED:20260412T201155Z
LAST-MODIFIED:20260423T161510Z
UID:10003251-1778497200-1778499900@bykota.org
SUMMARY:Senior Rhythms
DESCRIPTION:
URL:https://bykota.org/event/senior-rhythms-105/
LOCATION:Bykota 208-210
END:VEVENT
BEGIN:VEVENT
DTSTART;TZID=America/New_York:20260513T110000
DTEND;TZID=America/New_York:20260513T114500
DTSTAMP:20260423T160258
CREATED:20260419T202621Z
LAST-MODIFIED:20260423T161603Z
UID:10003284-1778670000-1778672700@bykota.org
SUMMARY:Senior Rhythms
DESCRIPTION:
URL:https://bykota.org/event/senior-rhythms-106/
LOCATION:Bykota 208-210
END:VEVENT
BEGIN:VEVENT
DTSTART;TZID=America/New_York:20260515T110000
DTEND;TZID=America/New_York:20260515T114500
DTSTAMP:20260423T160258
CREATED:20260419T202714Z
LAST-MODIFIED:20260423T161711Z
UID:10003311-1778842800-1778845500@bykota.org
SUMMARY:Senior Rhythms
DESCRIPTION:
URL:https://bykota.org/event/senior-rhythms-107/
LOCATION:Bykota 208-210
END:VEVENT
BEGIN:VEVENT
DTSTART;TZID=America/New_York:20260515T130000
DTEND;TZID=America/New_York:20260515T150000
DTSTAMP:20260423T160258
CREATED:20260419T202714Z
LAST-MODIFIED:20260423T161712Z
UID:10003312-1778850000-1778857200@bykota.org
SUMMARY:Intermediate Line Dance
DESCRIPTION:
URL:https://bykota.org/event/intermediate-line-dance-39/
LOCATION:Bykota 208-210
END:VEVENT
BEGIN:VEVENT
DTSTART;TZID=America/New_York:20260518T110000
DTEND;TZID=America/New_York:20260518T114500
DTSTAMP:20260423T160258
CREATED:20260419T202751Z
LAST-MODIFIED:20260423T161729Z
UID:10003331-1779102000-1779104700@bykota.org
SUMMARY:Senior Rhythms
DESCRIPTION:
URL:https://bykota.org/event/senior-rhythms-108/
LOCATION:Bykota 208-210
END:VEVENT
BEGIN:VEVENT
DTSTART;TZID=America/New_York:20260520T110000
DTEND;TZID=America/New_York:20260520T114500
DTSTAMP:20260423T160258
CREATED:20260423T161822Z
LAST-MODIFIED:20260423T161822Z
UID:10003422-1779274800-1779277500@bykota.org
SUMMARY:Senior Rhythms
DESCRIPTION:
URL:https://bykota.org/event/senior-rhythms-110/
LOCATION:Bykota 208-210
END:VEVENT
END:VCALENDAR