BEGIN:VCALENDAR
VERSION:2.0
PRODID:-//Bykota Senior Center - ECPv6.15.20//NONSGML v1.0//EN
CALSCALE:GREGORIAN
METHOD:PUBLISH
X-ORIGINAL-URL:https://bykota.org
X-WR-CALDESC:Events for Bykota Senior Center
REFRESH-INTERVAL;VALUE=DURATION:PT1H
X-Robots-Tag:noindex
X-PUBLISHED-TTL:PT1H
BEGIN:VTIMEZONE
TZID:America/New_York
BEGIN:DAYLIGHT
TZOFFSETFROM:-0500
TZOFFSETTO:-0400
TZNAME:EDT
DTSTART:20250309T070000
END:DAYLIGHT
BEGIN:STANDARD
TZOFFSETFROM:-0400
TZOFFSETTO:-0500
TZNAME:EST
DTSTART:20251102T060000
END:STANDARD
BEGIN:DAYLIGHT
TZOFFSETFROM:-0500
TZOFFSETTO:-0400
TZNAME:EDT
DTSTART:20260308T070000
END:DAYLIGHT
BEGIN:STANDARD
TZOFFSETFROM:-0400
TZOFFSETTO:-0500
TZNAME:EST
DTSTART:20261101T060000
END:STANDARD
BEGIN:DAYLIGHT
TZOFFSETFROM:-0500
TZOFFSETTO:-0400
TZNAME:EDT
DTSTART:20270314T070000
END:DAYLIGHT
BEGIN:STANDARD
TZOFFSETFROM:-0400
TZOFFSETTO:-0500
TZNAME:EST
DTSTART:20271107T060000
END:STANDARD
END:VTIMEZONE
BEGIN:VEVENT
DTSTART;TZID=America/New_York:20260330T083000
DTEND;TZID=America/New_York:20260330T100000
DTSTAMP:20260423T175639
CREATED:20260306T212445Z
LAST-MODIFIED:20260329T193448Z
UID:10002769-1774859400-1774864800@bykota.org
SUMMARY:McDonough Cafe
DESCRIPTION:Enjoy the convenience of coffee\, tea\, bagels/muffins\, donuts\, orange juice and bananas. Prices vary.
URL:https://bykota.org/event/mcdonough-cafe-76/
LOCATION:Bykota Cafe
END:VEVENT
BEGIN:VEVENT
DTSTART;TZID=America/New_York:20260327T103000
DTEND;TZID=America/New_York:20260327T113000
DTSTAMP:20260423T175639
CREATED:20260308T184931Z
LAST-MODIFIED:20260322T192123Z
UID:10002878-1774607400-1774611000@bykota.org
SUMMARY:Fold Sounds: Sing Along with Ron Kutscher
DESCRIPTION:Join Ron for a sing-along to your favorite classics! He’ll bring lyric sheets to sare\, tune up his guitar\, and play songs you love to sing. \nFree.  Drop in.
URL:https://bykota.org/event/fold-sounds-sing-along-with-ron-kutscher/
LOCATION:Bykota Cafe
END:VEVENT
BEGIN:VEVENT
DTSTART;TZID=America/New_York:20260327T083000
DTEND;TZID=America/New_York:20260327T100000
DTSTAMP:20260423T175639
CREATED:20260227T211200Z
LAST-MODIFIED:20260322T192123Z
UID:10002752-1774600200-1774605600@bykota.org
SUMMARY:McDonough Cafe
DESCRIPTION:Enjoy the convenience of coffee\, tea\, bagels/muffins\, donuts\, orange juice and bananas. Prices vary.
URL:https://bykota.org/event/mcdonough-cafe-75/
LOCATION:Bykota Cafe
END:VEVENT
BEGIN:VEVENT
DTSTART;TZID=America/New_York:20260326T123000
DTEND;TZID=America/New_York:20260326T143000
DTSTAMP:20260423T175639
CREATED:20260308T184914Z
LAST-MODIFIED:20260322T192111Z
UID:10002876-1774528200-1774535400@bykota.org
SUMMARY:Quarterly Birthday Celebration
DESCRIPTION:Let’s celebrate those who have birthdays in the months of January\, February\, or March with delicious food\, great music\, and door prizes.  Limited space available. \nFree. Advance registration at the front desk is a must by Friday\, March 20th.
URL:https://bykota.org/event/quarterly-birthday-celebration/
LOCATION:Bykota Cafe
END:VEVENT
BEGIN:VEVENT
DTSTART;TZID=America/New_York:20260325T123000
DTEND;TZID=America/New_York:20260325T140000
DTSTAMP:20260423T175639
CREATED:20260227T211106Z
LAST-MODIFIED:20260322T192059Z
UID:10002726-1774441800-1774447200@bykota.org
SUMMARY:Bingo
DESCRIPTION:Enjoy some laughter and friendly competition withthis favorite pastime; every Wednesday.No registration required.
URL:https://bykota.org/event/bingo-35/
LOCATION:Bykota Cafe
END:VEVENT
BEGIN:VEVENT
DTSTART;TZID=America/New_York:20260325T083000
DTEND;TZID=America/New_York:20260325T100000
DTSTAMP:20260423T175639
CREATED:20260227T211106Z
LAST-MODIFIED:20260322T192048Z
UID:10002725-1774427400-1774432800@bykota.org
SUMMARY:McDonough Cafe
DESCRIPTION:Enjoy the convenience of coffee\, tea\, bagels/muffins\, donuts\, orange juice and bananas. Prices vary.
URL:https://bykota.org/event/mcdonough-cafe-74/
LOCATION:Bykota Cafe
END:VEVENT
BEGIN:VEVENT
DTSTART;TZID=America/New_York:20260324T140000
DTEND;TZID=America/New_York:20260324T154500
DTSTAMP:20260423T175639
CREATED:20260227T211106Z
LAST-MODIFIED:20260322T192047Z
UID:10002720-1774360800-1774367100@bykota.org
SUMMARY:Cornhole
DESCRIPTION:
URL:https://bykota.org/event/cornhole-37/
LOCATION:Bykota Cafe
END:VEVENT
BEGIN:VEVENT
DTSTART;TZID=America/New_York:20260323T110000
DTEND;TZID=America/New_York:20260323T113000
DTSTAMP:20260423T175639
CREATED:20260308T184728Z
LAST-MODIFIED:20260322T192013Z
UID:10002862-1774263600-1774265400@bykota.org
SUMMARY:HACCP Q2: Fight BAC!
DESCRIPTION:Bacteria can be spread throughout the kitchen and get onto hands\, cutting boards\, utensils\, counter tops and food.  To fight BAC!\, always use food safety practices like washing hands and food surfaces often and thoroughly. Join our staff for this important discussion.  Eating Together and cafe volunteers are strongly encouraged to attend.
URL:https://bykota.org/event/haccp-q2-fight-bac/
LOCATION:Bykota Cafe
END:VEVENT
BEGIN:VEVENT
DTSTART;TZID=America/New_York:20260323T083000
DTEND;TZID=America/New_York:20260323T100000
DTSTAMP:20260423T175639
CREATED:20260227T211013Z
LAST-MODIFIED:20260322T192013Z
UID:10002695-1774254600-1774260000@bykota.org
SUMMARY:McDonough Cafe
DESCRIPTION:Enjoy the convenience of coffee\, tea\, bagels/muffins\, donuts\, orange juice and bananas. Prices vary.
URL:https://bykota.org/event/mcdonough-cafe-73/
LOCATION:Bykota Cafe
END:VEVENT
END:VCALENDAR