BEGIN:VCALENDAR
VERSION:2.0
PRODID:-//Bykota Senior Center - ECPv6.15.20//NONSGML v1.0//EN
CALSCALE:GREGORIAN
METHOD:PUBLISH
X-ORIGINAL-URL:https://bykota.org
X-WR-CALDESC:Events for Bykota Senior Center
REFRESH-INTERVAL;VALUE=DURATION:PT1H
X-Robots-Tag:noindex
X-PUBLISHED-TTL:PT1H
BEGIN:VTIMEZONE
TZID:America/New_York
BEGIN:DAYLIGHT
TZOFFSETFROM:-0500
TZOFFSETTO:-0400
TZNAME:EDT
DTSTART:20250309T070000
END:DAYLIGHT
BEGIN:STANDARD
TZOFFSETFROM:-0400
TZOFFSETTO:-0500
TZNAME:EST
DTSTART:20251102T060000
END:STANDARD
BEGIN:DAYLIGHT
TZOFFSETFROM:-0500
TZOFFSETTO:-0400
TZNAME:EDT
DTSTART:20260308T070000
END:DAYLIGHT
BEGIN:STANDARD
TZOFFSETFROM:-0400
TZOFFSETTO:-0500
TZNAME:EST
DTSTART:20261101T060000
END:STANDARD
BEGIN:DAYLIGHT
TZOFFSETFROM:-0500
TZOFFSETTO:-0400
TZNAME:EDT
DTSTART:20270314T070000
END:DAYLIGHT
BEGIN:STANDARD
TZOFFSETFROM:-0400
TZOFFSETTO:-0500
TZNAME:EST
DTSTART:20271107T060000
END:STANDARD
END:VTIMEZONE
BEGIN:VEVENT
DTSTART;TZID=America/New_York:20260417T110000
DTEND;TZID=America/New_York:20260417T133000
DTSTAMP:20260423T175748
CREATED:20260329T194002Z
LAST-MODIFIED:20260412T200558Z
UID:10003029-1776423600-1776432600@bykota.org
SUMMARY:Basketball
DESCRIPTION:
URL:https://bykota.org/event/basketball-116/
LOCATION:Bykota Gym
END:VEVENT
BEGIN:VEVENT
DTSTART;TZID=America/New_York:20260417T083000
DTEND;TZID=America/New_York:20260417T104500
DTSTAMP:20260423T175748
CREATED:20260329T194002Z
LAST-MODIFIED:20260412T200609Z
UID:10003027-1776414600-1776422700@bykota.org
SUMMARY:Pickleball
DESCRIPTION:
URL:https://bykota.org/event/pickleball-255/
LOCATION:Bykota Gym
END:VEVENT
BEGIN:VEVENT
DTSTART;TZID=America/New_York:20260416T113000
DTEND;TZID=America/New_York:20260416T123000
DTSTAMP:20260423T175748
CREATED:20260322T192731Z
LAST-MODIFIED:20260412T200546Z
UID:10003017-1776339000-1776342600@bykota.org
SUMMARY:Enhance Fitness
DESCRIPTION:
URL:https://bykota.org/event/enhance-fitness-97/
LOCATION:Bykota Gym
END:VEVENT
BEGIN:VEVENT
DTSTART;TZID=America/New_York:20260416T103000
DTEND;TZID=America/New_York:20260416T113000
DTSTAMP:20260423T175748
CREATED:20260322T192713Z
LAST-MODIFIED:20260412T200546Z
UID:10003008-1776335400-1776339000@bykota.org
SUMMARY:Thursday Yoga
DESCRIPTION:
URL:https://bykota.org/event/thursday-yoga-16/
LOCATION:Bykota Gym
END:VEVENT
BEGIN:VEVENT
DTSTART;TZID=America/New_York:20260416T083000
DTEND;TZID=America/New_York:20260416T100000
DTSTAMP:20260423T175748
CREATED:20260322T192713Z
LAST-MODIFIED:20260412T200535Z
UID:10003010-1776328200-1776333600@bykota.org
SUMMARY:Pickleball
DESCRIPTION:
URL:https://bykota.org/event/pickleball-254/
LOCATION:Bykota Gym
END:VEVENT
BEGIN:VEVENT
DTSTART;TZID=America/New_York:20260415T130000
DTEND;TZID=America/New_York:20260415T140000
DTSTAMP:20260423T175748
CREATED:20260322T192713Z
LAST-MODIFIED:20260412T200535Z
UID:10003002-1776258000-1776261600@bykota.org
SUMMARY:Essentrics
DESCRIPTION:
URL:https://bykota.org/event/essentrics-32/
LOCATION:Bykota Gym
END:VEVENT
BEGIN:VEVENT
DTSTART;TZID=America/New_York:20260415T110000
DTEND;TZID=America/New_York:20260415T130000
DTSTAMP:20260423T175748
CREATED:20260322T192656Z
LAST-MODIFIED:20260412T200535Z
UID:10002996-1776250800-1776258000@bykota.org
SUMMARY:Basketball
DESCRIPTION:
URL:https://bykota.org/event/basketball-115/
LOCATION:Bykota Gym
END:VEVENT
BEGIN:VEVENT
DTSTART;TZID=America/New_York:20260415T100000
DTEND;TZID=America/New_York:20260415T110000
DTSTAMP:20260423T175748
CREATED:20260322T192638Z
LAST-MODIFIED:20260412T200524Z
UID:10002991-1776247200-1776250800@bykota.org
SUMMARY:Enhance Fitness
DESCRIPTION:
URL:https://bykota.org/event/enhance-fitness-96/
LOCATION:Bykota Gym
END:VEVENT
BEGIN:VEVENT
DTSTART;TZID=America/New_York:20260415T090000
DTEND;TZID=America/New_York:20260415T100000
DTSTAMP:20260423T175748
CREATED:20260322T192638Z
LAST-MODIFIED:20260412T200524Z
UID:10002989-1776243600-1776247200@bykota.org
SUMMARY:Zumba Gold
DESCRIPTION:
URL:https://bykota.org/event/zumba-gold-16/
LOCATION:Bykota Gym
END:VEVENT
BEGIN:VEVENT
DTSTART;TZID=America/New_York:20260414T134500
DTEND;TZID=America/New_York:20260414T144500
DTSTAMP:20260423T175748
CREATED:20260322T192638Z
LAST-MODIFIED:20260412T200513Z
UID:10002985-1776174300-1776177900@bykota.org
SUMMARY:Strength and Balance with Suzanne
DESCRIPTION:
URL:https://bykota.org/event/strength-and-balance-with-suzanne-38/
LOCATION:Bykota Gym
END:VEVENT
BEGIN:VEVENT
DTSTART;TZID=America/New_York:20260414T123000
DTEND;TZID=America/New_York:20260414T133000
DTSTAMP:20260423T175748
CREATED:20260322T192638Z
LAST-MODIFIED:20260412T200513Z
UID:10002983-1776169800-1776173400@bykota.org
SUMMARY:Line Dance: Beginner / Improver
DESCRIPTION:
URL:https://bykota.org/event/line-dance-beginner-improver-15/
LOCATION:Bykota Gym
END:VEVENT
BEGIN:VEVENT
DTSTART;TZID=America/New_York:20260414T110000
DTEND;TZID=America/New_York:20260414T120000
DTSTAMP:20260423T175748
CREATED:20260322T192620Z
LAST-MODIFIED:20260412T200501Z
UID:10002972-1776164400-1776168000@bykota.org
SUMMARY:Tai Chi
DESCRIPTION:
URL:https://bykota.org/event/tai-chi-32/
LOCATION:Bykota Gym
END:VEVENT
BEGIN:VEVENT
DTSTART;TZID=America/New_York:20260414T100000
DTEND;TZID=America/New_York:20260414T110000
DTSTAMP:20260423T175748
CREATED:20260322T192621Z
LAST-MODIFIED:20260412T200513Z
UID:10002980-1776160800-1776164400@bykota.org
SUMMARY:Enhance Fitness
DESCRIPTION:
URL:https://bykota.org/event/enhance-fitness-95/
LOCATION:Bykota Gym
END:VEVENT
BEGIN:VEVENT
DTSTART;TZID=America/New_York:20260414T083000
DTEND;TZID=America/New_York:20260414T100000
DTSTAMP:20260423T175748
CREATED:20260322T192620Z
LAST-MODIFIED:20260412T200513Z
UID:10002979-1776155400-1776160800@bykota.org
SUMMARY:Pickleball
DESCRIPTION:
URL:https://bykota.org/event/pickleball-252/
LOCATION:Bykota Gym
END:VEVENT
BEGIN:VEVENT
DTSTART;TZID=America/New_York:20260413T140000
DTEND;TZID=America/New_York:20260413T154500
DTSTAMP:20260423T175748
CREATED:20260322T192602Z
LAST-MODIFIED:20260412T200501Z
UID:10002969-1776088800-1776095100@bykota.org
SUMMARY:Pickleball
DESCRIPTION:
URL:https://bykota.org/event/pickleball-251/
LOCATION:Bykota Gym
END:VEVENT
BEGIN:VEVENT
DTSTART;TZID=America/New_York:20260413T103000
DTEND;TZID=America/New_York:20260413T120000
DTSTAMP:20260423T175748
CREATED:20260322T192602Z
LAST-MODIFIED:20260412T200449Z
UID:10002962-1776076200-1776081600@bykota.org
SUMMARY:Basketball
DESCRIPTION:
URL:https://bykota.org/event/basketball-114/
LOCATION:Bykota Gym
END:VEVENT
BEGIN:VEVENT
DTSTART;TZID=America/New_York:20260413T083000
DTEND;TZID=America/New_York:20260413T100000
DTSTAMP:20260423T175748
CREATED:20260322T192544Z
LAST-MODIFIED:20260412T200449Z
UID:10002961-1776069000-1776074400@bykota.org
SUMMARY:Pickleball
DESCRIPTION:
URL:https://bykota.org/event/pickleball-250/
LOCATION:Bykota Gym
END:VEVENT
BEGIN:VEVENT
DTSTART;TZID=America/New_York:20260410T140000
DTEND;TZID=America/New_York:20260410T154500
DTSTAMP:20260423T175748
CREATED:20260322T192526Z
LAST-MODIFIED:20260405T195115Z
UID:10002945-1775829600-1775835900@bykota.org
SUMMARY:Pickleball
DESCRIPTION:
URL:https://bykota.org/event/pickleball-248/
LOCATION:Bykota Gym
END:VEVENT
BEGIN:VEVENT
DTSTART;TZID=America/New_York:20260410T110000
DTEND;TZID=America/New_York:20260410T133000
DTSTAMP:20260423T175748
CREATED:20260322T192527Z
LAST-MODIFIED:20260405T195103Z
UID:10002951-1775818800-1775827800@bykota.org
SUMMARY:Basketball
DESCRIPTION:
URL:https://bykota.org/event/basketball-113/
LOCATION:Bykota Gym
END:VEVENT
BEGIN:VEVENT
DTSTART;TZID=America/New_York:20260410T083000
DTEND;TZID=America/New_York:20260410T104500
DTSTAMP:20260423T175748
CREATED:20260322T192544Z
LAST-MODIFIED:20260405T195103Z
UID:10002955-1775809800-1775817900@bykota.org
SUMMARY:Pickleball
DESCRIPTION:
URL:https://bykota.org/event/pickleball-249/
LOCATION:Bykota Gym
END:VEVENT
BEGIN:VEVENT
DTSTART;TZID=America/New_York:20260409T113000
DTEND;TZID=America/New_York:20260409T123000
DTSTAMP:20260423T175748
CREATED:20260315T191158Z
LAST-MODIFIED:20260405T195051Z
UID:10002937-1775734200-1775737800@bykota.org
SUMMARY:Enhance Fitness
DESCRIPTION:
URL:https://bykota.org/event/enhance-fitness-94/
LOCATION:Bykota Gym
END:VEVENT
BEGIN:VEVENT
DTSTART;TZID=America/New_York:20260409T103000
DTEND;TZID=America/New_York:20260409T113000
DTSTAMP:20260423T175748
CREATED:20260315T191158Z
LAST-MODIFIED:20260405T195051Z
UID:10002932-1775730600-1775734200@bykota.org
SUMMARY:Thursday Yoga
DESCRIPTION:
URL:https://bykota.org/event/thursday-yoga-15/
LOCATION:Bykota Gym
END:VEVENT
BEGIN:VEVENT
DTSTART;TZID=America/New_York:20260409T083000
DTEND;TZID=America/New_York:20260409T100000
DTSTAMP:20260423T175748
CREATED:20260315T191141Z
LAST-MODIFIED:20260405T195051Z
UID:10002929-1775723400-1775728800@bykota.org
SUMMARY:Pickleball
DESCRIPTION:
URL:https://bykota.org/event/pickleball-247/
LOCATION:Bykota Gym
END:VEVENT
BEGIN:VEVENT
DTSTART;TZID=America/New_York:20260408T130000
DTEND;TZID=America/New_York:20260408T140000
DTSTAMP:20260423T175748
CREATED:20260315T191141Z
LAST-MODIFIED:20260405T195028Z
UID:10002926-1775653200-1775656800@bykota.org
SUMMARY:Essentrics
DESCRIPTION:
URL:https://bykota.org/event/essentrics-31/
LOCATION:Bykota Gym
END:VEVENT
BEGIN:VEVENT
DTSTART;TZID=America/New_York:20260408T110000
DTEND;TZID=America/New_York:20260408T130000
DTSTAMP:20260423T175748
CREATED:20260315T191141Z
LAST-MODIFIED:20260405T195039Z
UID:10002922-1775646000-1775653200@bykota.org
SUMMARY:Basketball
DESCRIPTION:
URL:https://bykota.org/event/basketball-112/
LOCATION:Bykota Gym
END:VEVENT
BEGIN:VEVENT
DTSTART;TZID=America/New_York:20260408T100000
DTEND;TZID=America/New_York:20260408T110000
DTSTAMP:20260423T175748
CREATED:20260315T191141Z
LAST-MODIFIED:20260405T195039Z
UID:10002923-1775642400-1775646000@bykota.org
SUMMARY:Enhance Fitness
DESCRIPTION:
URL:https://bykota.org/event/enhance-fitness-93/
LOCATION:Bykota Gym
END:VEVENT
BEGIN:VEVENT
DTSTART;TZID=America/New_York:20260408T090000
DTEND;TZID=America/New_York:20260408T100000
DTSTAMP:20260423T175748
CREATED:20260315T191124Z
LAST-MODIFIED:20260405T195028Z
UID:10002913-1775638800-1775642400@bykota.org
SUMMARY:Zumba Gold
DESCRIPTION:
URL:https://bykota.org/event/zumba-gold-15/
LOCATION:Bykota Gym
END:VEVENT
BEGIN:VEVENT
DTSTART;TZID=America/New_York:20260407T134500
DTEND;TZID=America/New_York:20260407T144500
DTSTAMP:20260423T175748
CREATED:20260315T191106Z
LAST-MODIFIED:20260405T195028Z
UID:10002906-1775569500-1775573100@bykota.org
SUMMARY:Strength and Balance with Suzanne
DESCRIPTION:
URL:https://bykota.org/event/strength-and-balance-with-suzanne-37/
LOCATION:Bykota Gym
END:VEVENT
BEGIN:VEVENT
DTSTART;TZID=America/New_York:20260407T130000
DTEND;TZID=America/New_York:20260407T150000
DTSTAMP:20260423T175748
CREATED:20260315T191106Z
LAST-MODIFIED:20260405T195015Z
UID:10002907-1775566800-1775574000@bykota.org
SUMMARY:First Tuesday Dance
DESCRIPTION:Whether you prefer a Foxtrot\, Waltz\, or Swing\, put on your dancing shoes and come out to Bykota for a fun afternoon of live music and social dancing. December’s featured musician is Helmut Licht.  $5 paid at the door. Drop ins welcome!
URL:https://bykota.org/event/first-tuesday-dance-12/
LOCATION:Bykota Gym
END:VEVENT
BEGIN:VEVENT
DTSTART;TZID=America/New_York:20260407T110000
DTEND;TZID=America/New_York:20260407T120000
DTSTAMP:20260423T175748
CREATED:20260315T191106Z
LAST-MODIFIED:20260405T195004Z
UID:10002901-1775559600-1775563200@bykota.org
SUMMARY:Tai Chi
DESCRIPTION:
URL:https://bykota.org/event/tai-chi-31/
LOCATION:Bykota Gym
END:VEVENT
END:VCALENDAR