BEGIN:VCALENDAR
VERSION:2.0
PRODID:-//Bykota Senior Center - ECPv6.15.20//NONSGML v1.0//EN
CALSCALE:GREGORIAN
METHOD:PUBLISH
X-WR-CALNAME:Bykota Senior Center
X-ORIGINAL-URL:https://bykota.org
X-WR-CALDESC:Events for Bykota Senior Center
REFRESH-INTERVAL;VALUE=DURATION:PT1H
X-Robots-Tag:noindex
X-PUBLISHED-TTL:PT1H
BEGIN:VTIMEZONE
TZID:America/New_York
BEGIN:DAYLIGHT
TZOFFSETFROM:-0500
TZOFFSETTO:-0400
TZNAME:EDT
DTSTART:20250309T070000
END:DAYLIGHT
BEGIN:STANDARD
TZOFFSETFROM:-0400
TZOFFSETTO:-0500
TZNAME:EST
DTSTART:20251102T060000
END:STANDARD
BEGIN:DAYLIGHT
TZOFFSETFROM:-0500
TZOFFSETTO:-0400
TZNAME:EDT
DTSTART:20260308T070000
END:DAYLIGHT
BEGIN:STANDARD
TZOFFSETFROM:-0400
TZOFFSETTO:-0500
TZNAME:EST
DTSTART:20261101T060000
END:STANDARD
BEGIN:DAYLIGHT
TZOFFSETFROM:-0500
TZOFFSETTO:-0400
TZNAME:EDT
DTSTART:20270314T070000
END:DAYLIGHT
BEGIN:STANDARD
TZOFFSETFROM:-0400
TZOFFSETTO:-0500
TZNAME:EST
DTSTART:20271107T060000
END:STANDARD
END:VTIMEZONE
BEGIN:VEVENT
DTSTART;TZID=America/New_York:20260519T123000
DTEND;TZID=America/New_York:20260519T133000
DTSTAMP:20260423T223029
CREATED:20260423T161804Z
LAST-MODIFIED:20260423T161804Z
UID:10003410-1779193800-1779197400@bykota.org
SUMMARY:Line Dance: Beginner / Improver
DESCRIPTION:
URL:https://bykota.org/event/line-dance-beginner-improver-20/
LOCATION:Bykota Gym
END:VEVENT
BEGIN:VEVENT
DTSTART;TZID=America/New_York:20260519T134500
DTEND;TZID=America/New_York:20260519T144500
DTSTAMP:20260423T223029
CREATED:20260423T161804Z
LAST-MODIFIED:20260423T161804Z
UID:10003413-1779198300-1779201900@bykota.org
SUMMARY:Strength and Balance with Suzanne
DESCRIPTION:
URL:https://bykota.org/event/strength-and-balance-with-suzanne-43/
LOCATION:Bykota Gym
END:VEVENT
BEGIN:VEVENT
DTSTART;TZID=America/New_York:20260520T090000
DTEND;TZID=America/New_York:20260520T100000
DTSTAMP:20260423T223029
CREATED:20260423T161822Z
LAST-MODIFIED:20260423T161822Z
UID:10003420-1779267600-1779271200@bykota.org
SUMMARY:Zumba Gold
DESCRIPTION:
URL:https://bykota.org/event/zumba-gold-21/
LOCATION:Bykota Gym
END:VEVENT
BEGIN:VEVENT
DTSTART;TZID=America/New_York:20260520T100000
DTEND;TZID=America/New_York:20260520T110000
DTSTAMP:20260423T223029
CREATED:20260423T161822Z
LAST-MODIFIED:20260423T161822Z
UID:10003421-1779271200-1779274800@bykota.org
SUMMARY:Enhance Fitness
DESCRIPTION:
URL:https://bykota.org/event/enhance-fitness-111/
LOCATION:Bykota Gym
END:VEVENT
BEGIN:VEVENT
DTSTART;TZID=America/New_York:20260520T130000
DTEND;TZID=America/New_York:20260520T140000
DTSTAMP:20260423T223029
CREATED:20260423T161822Z
LAST-MODIFIED:20260423T161822Z
UID:10003424-1779282000-1779285600@bykota.org
SUMMARY:Essentrics
DESCRIPTION:
URL:https://bykota.org/event/essentrics-41/
LOCATION:Bykota Gym
END:VEVENT
END:VCALENDAR