BEGIN:VCALENDAR
VERSION:2.0
PRODID:-//Bykota Senior Center - ECPv6.15.20//NONSGML v1.0//EN
CALSCALE:GREGORIAN
METHOD:PUBLISH
X-WR-CALNAME:Bykota Senior Center
X-ORIGINAL-URL:https://bykota.org
X-WR-CALDESC:Events for Bykota Senior Center
REFRESH-INTERVAL;VALUE=DURATION:PT1H
X-Robots-Tag:noindex
X-PUBLISHED-TTL:PT1H
BEGIN:VTIMEZONE
TZID:America/New_York
BEGIN:DAYLIGHT
TZOFFSETFROM:-0500
TZOFFSETTO:-0400
TZNAME:EDT
DTSTART:20250309T070000
END:DAYLIGHT
BEGIN:STANDARD
TZOFFSETFROM:-0400
TZOFFSETTO:-0500
TZNAME:EST
DTSTART:20251102T060000
END:STANDARD
BEGIN:DAYLIGHT
TZOFFSETFROM:-0500
TZOFFSETTO:-0400
TZNAME:EDT
DTSTART:20260308T070000
END:DAYLIGHT
BEGIN:STANDARD
TZOFFSETFROM:-0400
TZOFFSETTO:-0500
TZNAME:EST
DTSTART:20261101T060000
END:STANDARD
BEGIN:DAYLIGHT
TZOFFSETFROM:-0500
TZOFFSETTO:-0400
TZNAME:EDT
DTSTART:20270314T070000
END:DAYLIGHT
BEGIN:STANDARD
TZOFFSETFROM:-0400
TZOFFSETTO:-0500
TZNAME:EST
DTSTART:20271107T060000
END:STANDARD
END:VTIMEZONE
BEGIN:VEVENT
DTSTART;TZID=America/New_York:20260417T130000
DTEND;TZID=America/New_York:20260417T140000
DTSTAMP:20260423T175227
CREATED:20260329T194002Z
LAST-MODIFIED:20260412T200609Z
UID:10003030-1776430800-1776434400@bykota.org
SUMMARY:Ukelele Jam!
DESCRIPTION:
URL:https://bykota.org/event/ukelele-jam-37/
LOCATION:Bykota Lounge
END:VEVENT
BEGIN:VEVENT
DTSTART;TZID=America/New_York:20260410T130000
DTEND;TZID=America/New_York:20260410T140000
DTSTAMP:20260423T175227
CREATED:20260322T192527Z
LAST-MODIFIED:20260405T195115Z
UID:10002948-1775826000-1775829600@bykota.org
SUMMARY:Ukelele Jam!
DESCRIPTION:
URL:https://bykota.org/event/ukelele-jam-36/
LOCATION:Bykota Lounge
END:VEVENT
BEGIN:VEVENT
DTSTART;TZID=America/New_York:20260403T130000
DTEND;TZID=America/New_York:20260403T140000
DTSTAMP:20260423T175227
CREATED:20260306T212629Z
LAST-MODIFIED:20260329T193614Z
UID:10002827-1775221200-1775224800@bykota.org
SUMMARY:Ukelele Jam!
DESCRIPTION:
URL:https://bykota.org/event/ukelele-jam-35/
LOCATION:Bykota Lounge
END:VEVENT
BEGIN:VEVENT
DTSTART;TZID=America/New_York:20260327T130000
DTEND;TZID=America/New_York:20260327T140000
DTSTAMP:20260423T175227
CREATED:20260227T211200Z
LAST-MODIFIED:20260322T192135Z
UID:10002757-1774616400-1774620000@bykota.org
SUMMARY:Ukelele Jam!
DESCRIPTION:
URL:https://bykota.org/event/ukelele-jam-34/
LOCATION:Bykota Lounge
END:VEVENT
END:VCALENDAR